BEGIN:VCALENDAR
VERSION:2.0
PRODID:-//Ajuntament de Palamós - Notícies i Agenda - ECPv6.15.20//NONSGML v1.0//EN
CALSCALE:GREGORIAN
METHOD:PUBLISH
X-ORIGINAL-URL:https://infopalamos.cat
X-WR-CALDESC:Esdeveniments per Ajuntament de Palamós - Notícies i Agenda
REFRESH-INTERVAL;VALUE=DURATION:PT1H
X-Robots-Tag:noindex
X-PUBLISHED-TTL:PT1H
BEGIN:VTIMEZONE
TZID:Europe/Madrid
BEGIN:DAYLIGHT
TZOFFSETFROM:+0100
TZOFFSETTO:+0200
TZNAME:CEST
DTSTART:20220327T010000
END:DAYLIGHT
BEGIN:STANDARD
TZOFFSETFROM:+0200
TZOFFSETTO:+0100
TZNAME:CET
DTSTART:20221030T010000
END:STANDARD
BEGIN:DAYLIGHT
TZOFFSETFROM:+0100
TZOFFSETTO:+0200
TZNAME:CEST
DTSTART:20230326T010000
END:DAYLIGHT
BEGIN:STANDARD
TZOFFSETFROM:+0200
TZOFFSETTO:+0100
TZNAME:CET
DTSTART:20231029T010000
END:STANDARD
BEGIN:DAYLIGHT
TZOFFSETFROM:+0100
TZOFFSETTO:+0200
TZNAME:CEST
DTSTART:20240331T010000
END:DAYLIGHT
BEGIN:STANDARD
TZOFFSETFROM:+0200
TZOFFSETTO:+0100
TZNAME:CET
DTSTART:20241027T010000
END:STANDARD
END:VTIMEZONE
BEGIN:VEVENT
DTSTART;TZID=Europe/Madrid:20231210T180000
DTEND;TZID=Europe/Madrid:20231210T193000
DTSTAMP:20260419T165150
CREATED:20230929T104623Z
LAST-MODIFIED:20230929T111241Z
UID:10000336-1702231200-1702236600@infopalamos.cat
SUMMARY:Un concert màgic amb La Selvatana
DESCRIPTION:Cobla La Selvatana \n\n\n\nDirector musical: Eliseu Quintana \n\n\n\nIntèrprets: Cristina Farràs (flabiol i tamborí)\, Jordi Feliu i Joan Barrera (tibles)\, Josep Farràs i David Martínez (tenores)\, Josep Pineda\, Xavier Segura i Santi Pi (trompetes)\, Xavier Canals (trombó)\, Jordi Amorós i Eliseu Quintana (fiscorns)\, Carles Rambla (contrabaix)\, Xavier Canals (bateria i percussió)\, David Poblete (piano)\, Noelia Mora i Victòria Huguet (sopranos)\, Xavier Dealbert (tenor) i Miquel Gili (baríton) \n\n\n\nConcert per a cobla i veus \n\n\n\nAquest grup fundat l’any 1913 a Cassà de la Selva\, constitueix un fragment de la nostra història musical\, ja que forma part de les músiques de la nostra vida. La formació ens apropa\, amb una visió renovada\, a les músiques de casa nostra en què no falten els clàssics catalans acompanyats del repertori musical de peces orquestrals on la professionalitat dels músics i dels cantants se supera cada any. \n\n\n\nLloc: Teatre La Gorga \n\n\n\nDurada: 90 minuts \n\n\n\nPreu: 12 € / socis ASCB 5 € (www.lagorga.cat)
URL:https://infopalamos.cat/esdeveniment/un-concert-magic-amb-la-selvatana/
LOCATION:Teatre La Gorga\, Carrer Notaries\, Palamós\, 17230\, Espanya
CATEGORIES:Cultura i Patrimoni,Espectacles i Oci
ATTACH;FMTTYPE=image/jpeg:https://infopalamos.cat/wp-content/uploads/2023/09/21-La-Selvatana-Cobla-i-Veus-scaled.jpg
ORGANIZER;CN="Agrupaci%C3%B3 Sardanista Costa Brava":MAILTO:info@palamossardanista.cat
GEO:41.8471438;3.1286356
X-APPLE-STRUCTURED-LOCATION;VALUE=URI;X-ADDRESS=Teatre La Gorga Carrer Notaries Palamós 17230 Espanya;X-APPLE-RADIUS=500;X-TITLE=Carrer Notaries:geo:3.1286356,41.8471438
END:VEVENT
BEGIN:VEVENT
DTSTART;TZID=Europe/Madrid:20231126T120000
DTEND;TZID=Europe/Madrid:20231126T133000
DTSTAMP:20260419T165150
CREATED:20231117T125254Z
LAST-MODIFIED:20231117T125258Z
UID:10000491-1701000000-1701005400@infopalamos.cat
SUMMARY:Sardanes
DESCRIPTION:
URL:https://infopalamos.cat/esdeveniment/sardanes/
LOCATION:Passeig del Mar\, Palamós\, Passeig del Mar\, Palamós\, 17230\, Espanya
CATEGORIES:Cultura i Patrimoni,Espectacles i Oci,Festes i Fires
ATTACH;FMTTYPE=image/jpeg:https://infopalamos.cat/wp-content/uploads/2023/11/Sardanes-26-novembre.jpg
ORGANIZER;CN="Agrupaci%C3%B3 Sardanista Costa Brava":MAILTO:info@palamossardanista.cat
GEO:41.8486697;3.1237085
X-APPLE-STRUCTURED-LOCATION;VALUE=URI;X-ADDRESS=Passeig del Mar Palamós Passeig del Mar Palamós 17230 Espanya;X-APPLE-RADIUS=500;X-TITLE=Passeig del Mar:geo:3.1237085,41.8486697
END:VEVENT
END:VCALENDAR