BEGIN:VCALENDAR
VERSION:2.0
PRODID:-//Ajuntament de Palamós - Notícies i Agenda - ECPv6.15.20//NONSGML v1.0//EN
CALSCALE:GREGORIAN
METHOD:PUBLISH
X-WR-CALNAME:Ajuntament de Palamós - Notícies i Agenda
X-ORIGINAL-URL:https://infopalamos.cat
X-WR-CALDESC:Esdeveniments per Ajuntament de Palamós - Notícies i Agenda
REFRESH-INTERVAL;VALUE=DURATION:PT1H
X-Robots-Tag:noindex
X-PUBLISHED-TTL:PT1H
BEGIN:VTIMEZONE
TZID:Europe/Madrid
BEGIN:DAYLIGHT
TZOFFSETFROM:+0100
TZOFFSETTO:+0200
TZNAME:CEST
DTSTART:20240331T010000
END:DAYLIGHT
BEGIN:STANDARD
TZOFFSETFROM:+0200
TZOFFSETTO:+0100
TZNAME:CET
DTSTART:20241027T010000
END:STANDARD
BEGIN:DAYLIGHT
TZOFFSETFROM:+0100
TZOFFSETTO:+0200
TZNAME:CEST
DTSTART:20250330T010000
END:DAYLIGHT
BEGIN:STANDARD
TZOFFSETFROM:+0200
TZOFFSETTO:+0100
TZNAME:CET
DTSTART:20251026T010000
END:STANDARD
BEGIN:DAYLIGHT
TZOFFSETFROM:+0100
TZOFFSETTO:+0200
TZNAME:CEST
DTSTART:20260329T010000
END:DAYLIGHT
BEGIN:STANDARD
TZOFFSETFROM:+0200
TZOFFSETTO:+0100
TZNAME:CET
DTSTART:20261025T010000
END:STANDARD
END:VTIMEZONE
BEGIN:VEVENT
DTSTART;TZID=Europe/Madrid:20251208T103000
DTEND;TZID=Europe/Madrid:20251208T163000
DTSTAMP:20260419T152645
CREATED:20251201T124840Z
LAST-MODIFIED:20251201T124842Z
UID:10012882-1765189800-1765211400@infopalamos.cat
SUMMARY:Activitat "Anem a buscar el Tió"\, visita guiada
DESCRIPTION:Circuit guiat pel bosc on les famílies segueixen un recorregut senyalitzat que inclou diverses etapes\, a cadascuna de les quals caldrà fer una prova\, un repte o resoldre una endevinalla\, que els durà finalment a localitzar el Tió de Nadal.
URL:https://infopalamos.cat/esdeveniment/activitat-anem-a-buscar-el-tio-visita-guiada/2025-12-08/
LOCATION:Can Pere Tià\, Can Pere Tià\, Palamós\, 17230
ATTACH;FMTTYPE=image/avif:https://infopalamos.cat/wp-content/uploads/2025/12/ca71ab_54ddfdfacb6b4ec0aa6a84c26c1a2aa6mv2.avif
END:VEVENT
BEGIN:VEVENT
DTSTART;TZID=Europe/Madrid:20251207T103000
DTEND;TZID=Europe/Madrid:20251207T163000
DTSTAMP:20260419T152645
CREATED:20251201T124840Z
LAST-MODIFIED:20251201T124842Z
UID:10012881-1765103400-1765125000@infopalamos.cat
SUMMARY:Activitat "Anem a buscar el Tió"\, visita guiada
DESCRIPTION:Circuit guiat pel bosc on les famílies segueixen un recorregut senyalitzat que inclou diverses etapes\, a cadascuna de les quals caldrà fer una prova\, un repte o resoldre una endevinalla\, que els durà finalment a localitzar el Tió de Nadal.
URL:https://infopalamos.cat/esdeveniment/activitat-anem-a-buscar-el-tio-visita-guiada/2025-12-07/
LOCATION:Can Pere Tià\, Can Pere Tià\, Palamós\, 17230
ATTACH;FMTTYPE=image/avif:https://infopalamos.cat/wp-content/uploads/2025/12/ca71ab_54ddfdfacb6b4ec0aa6a84c26c1a2aa6mv2.avif
END:VEVENT
BEGIN:VEVENT
DTSTART;TZID=Europe/Madrid:20251206T103000
DTEND;TZID=Europe/Madrid:20251206T163000
DTSTAMP:20260419T152645
CREATED:20251201T124840Z
LAST-MODIFIED:20251201T124842Z
UID:10012880-1765017000-1765038600@infopalamos.cat
SUMMARY:Activitat "Anem a buscar el Tió"\, visita guiada
DESCRIPTION:Circuit guiat pel bosc on les famílies segueixen un recorregut senyalitzat que inclou diverses etapes\, a cadascuna de les quals caldrà fer una prova\, un repte o resoldre una endevinalla\, que els durà finalment a localitzar el Tió de Nadal.
URL:https://infopalamos.cat/esdeveniment/activitat-anem-a-buscar-el-tio-visita-guiada/2025-12-06/
LOCATION:Can Pere Tià\, Can Pere Tià\, Palamós\, 17230
ATTACH;FMTTYPE=image/avif:https://infopalamos.cat/wp-content/uploads/2025/12/ca71ab_54ddfdfacb6b4ec0aa6a84c26c1a2aa6mv2.avif
END:VEVENT
END:VCALENDAR