BEGIN:VCALENDAR
VERSION:2.0
PRODID:-//Ajuntament de Palamós - Notícies i Agenda - ECPv6.15.20//NONSGML v1.0//EN
CALSCALE:GREGORIAN
METHOD:PUBLISH
X-ORIGINAL-URL:https://infopalamos.cat
X-WR-CALDESC:Esdeveniments per Ajuntament de Palamós - Notícies i Agenda
REFRESH-INTERVAL;VALUE=DURATION:PT1H
X-Robots-Tag:noindex
X-PUBLISHED-TTL:PT1H
BEGIN:VTIMEZONE
TZID:Europe/Madrid
BEGIN:DAYLIGHT
TZOFFSETFROM:+0100
TZOFFSETTO:+0200
TZNAME:CEST
DTSTART:20240331T010000
END:DAYLIGHT
BEGIN:STANDARD
TZOFFSETFROM:+0200
TZOFFSETTO:+0100
TZNAME:CET
DTSTART:20241027T010000
END:STANDARD
BEGIN:DAYLIGHT
TZOFFSETFROM:+0100
TZOFFSETTO:+0200
TZNAME:CEST
DTSTART:20250330T010000
END:DAYLIGHT
BEGIN:STANDARD
TZOFFSETFROM:+0200
TZOFFSETTO:+0100
TZNAME:CET
DTSTART:20251026T010000
END:STANDARD
BEGIN:DAYLIGHT
TZOFFSETFROM:+0100
TZOFFSETTO:+0200
TZNAME:CEST
DTSTART:20260329T010000
END:DAYLIGHT
BEGIN:STANDARD
TZOFFSETFROM:+0200
TZOFFSETTO:+0100
TZNAME:CET
DTSTART:20261025T010000
END:STANDARD
END:VTIMEZONE
BEGIN:VEVENT
DTSTART;TZID=Europe/Madrid:20251214T000000
DTEND;TZID=Europe/Madrid:20251214T235959
DTSTAMP:20260420T131317
CREATED:20251201T125934Z
LAST-MODIFIED:20251201T125936Z
UID:10012888-1765670400-1765756799@infopalamos.cat
SUMMARY:Activitat "Anem a buscar el Tió"\, visita lliure
DESCRIPTION:Circuit pel bosc on les famílies segueixen un recorregut senyalitzat amb cartells que inclouen QR\, mitjançant els quals s’informa de les diverses etapes de l’itinerari\, a cadascuna de les quals caldrà fer una prova\, un repte o resoldre una endevinalla\, que els durà finalment a localitzar el Tió de Nadal.
URL:https://infopalamos.cat/esdeveniment/activitat-anem-a-buscar-el-tio-visita-lliure/2025-12-14/
LOCATION:Can Pere Tià\, Can Pere Tià\, Palamós\, 17230
ATTACH;FMTTYPE=image/jpeg:https://infopalamos.cat/wp-content/uploads/2025/12/PRINCIPAL-TIO-copia.jpg
END:VEVENT
BEGIN:VEVENT
DTSTART;TZID=Europe/Madrid:20251213T000000
DTEND;TZID=Europe/Madrid:20251213T235959
DTSTAMP:20260420T131317
CREATED:20251201T125934Z
LAST-MODIFIED:20251201T125936Z
UID:10012887-1765584000-1765670399@infopalamos.cat
SUMMARY:Activitat "Anem a buscar el Tió"\, visita lliure
DESCRIPTION:Circuit pel bosc on les famílies segueixen un recorregut senyalitzat amb cartells que inclouen QR\, mitjançant els quals s’informa de les diverses etapes de l’itinerari\, a cadascuna de les quals caldrà fer una prova\, un repte o resoldre una endevinalla\, que els durà finalment a localitzar el Tió de Nadal.
URL:https://infopalamos.cat/esdeveniment/activitat-anem-a-buscar-el-tio-visita-lliure/2025-12-13/
LOCATION:Can Pere Tià\, Can Pere Tià\, Palamós\, 17230
ATTACH;FMTTYPE=image/jpeg:https://infopalamos.cat/wp-content/uploads/2025/12/PRINCIPAL-TIO-copia.jpg
END:VEVENT
BEGIN:VEVENT
DTSTART;TZID=Europe/Madrid:20251212T000000
DTEND;TZID=Europe/Madrid:20251212T235959
DTSTAMP:20260420T131317
CREATED:20251201T125934Z
LAST-MODIFIED:20251201T125936Z
UID:10012886-1765497600-1765583999@infopalamos.cat
SUMMARY:Activitat "Anem a buscar el Tió"\, visita lliure
DESCRIPTION:Circuit pel bosc on les famílies segueixen un recorregut senyalitzat amb cartells que inclouen QR\, mitjançant els quals s’informa de les diverses etapes de l’itinerari\, a cadascuna de les quals caldrà fer una prova\, un repte o resoldre una endevinalla\, que els durà finalment a localitzar el Tió de Nadal.
URL:https://infopalamos.cat/esdeveniment/activitat-anem-a-buscar-el-tio-visita-lliure/2025-12-12/
LOCATION:Can Pere Tià\, Can Pere Tià\, Palamós\, 17230
ATTACH;FMTTYPE=image/jpeg:https://infopalamos.cat/wp-content/uploads/2025/12/PRINCIPAL-TIO-copia.jpg
END:VEVENT
BEGIN:VEVENT
DTSTART;TZID=Europe/Madrid:20251211T000000
DTEND;TZID=Europe/Madrid:20251211T235959
DTSTAMP:20260420T131317
CREATED:20251201T125934Z
LAST-MODIFIED:20251201T125936Z
UID:10012885-1765411200-1765497599@infopalamos.cat
SUMMARY:Activitat "Anem a buscar el Tió"\, visita lliure
DESCRIPTION:Circuit pel bosc on les famílies segueixen un recorregut senyalitzat amb cartells que inclouen QR\, mitjançant els quals s’informa de les diverses etapes de l’itinerari\, a cadascuna de les quals caldrà fer una prova\, un repte o resoldre una endevinalla\, que els durà finalment a localitzar el Tió de Nadal.
URL:https://infopalamos.cat/esdeveniment/activitat-anem-a-buscar-el-tio-visita-lliure/2025-12-11/
LOCATION:Can Pere Tià\, Can Pere Tià\, Palamós\, 17230
ATTACH;FMTTYPE=image/jpeg:https://infopalamos.cat/wp-content/uploads/2025/12/PRINCIPAL-TIO-copia.jpg
END:VEVENT
BEGIN:VEVENT
DTSTART;TZID=Europe/Madrid:20251210T000000
DTEND;TZID=Europe/Madrid:20251210T235959
DTSTAMP:20260420T131317
CREATED:20251201T125934Z
LAST-MODIFIED:20251201T125936Z
UID:10012884-1765324800-1765411199@infopalamos.cat
SUMMARY:Activitat "Anem a buscar el Tió"\, visita lliure
DESCRIPTION:Circuit pel bosc on les famílies segueixen un recorregut senyalitzat amb cartells que inclouen QR\, mitjançant els quals s’informa de les diverses etapes de l’itinerari\, a cadascuna de les quals caldrà fer una prova\, un repte o resoldre una endevinalla\, que els durà finalment a localitzar el Tió de Nadal.
URL:https://infopalamos.cat/esdeveniment/activitat-anem-a-buscar-el-tio-visita-lliure/2025-12-10/
LOCATION:Can Pere Tià\, Can Pere Tià\, Palamós\, 17230
ATTACH;FMTTYPE=image/jpeg:https://infopalamos.cat/wp-content/uploads/2025/12/PRINCIPAL-TIO-copia.jpg
END:VEVENT
BEGIN:VEVENT
DTSTART;TZID=Europe/Madrid:20251209T000000
DTEND;TZID=Europe/Madrid:20251209T235959
DTSTAMP:20260420T131317
CREATED:20251201T125934Z
LAST-MODIFIED:20251201T125936Z
UID:10012883-1765238400-1765324799@infopalamos.cat
SUMMARY:Activitat "Anem a buscar el Tió"\, visita lliure
DESCRIPTION:Circuit pel bosc on les famílies segueixen un recorregut senyalitzat amb cartells que inclouen QR\, mitjançant els quals s’informa de les diverses etapes de l’itinerari\, a cadascuna de les quals caldrà fer una prova\, un repte o resoldre una endevinalla\, que els durà finalment a localitzar el Tió de Nadal.
URL:https://infopalamos.cat/esdeveniment/activitat-anem-a-buscar-el-tio-visita-lliure/2025-12-09/
LOCATION:Can Pere Tià\, Can Pere Tià\, Palamós\, 17230
ATTACH;FMTTYPE=image/jpeg:https://infopalamos.cat/wp-content/uploads/2025/12/PRINCIPAL-TIO-copia.jpg
END:VEVENT
END:VCALENDAR