BEGIN:VCALENDAR
VERSION:2.0
PRODID:-//Ajuntament de Palamós - Notícies i Agenda - ECPv6.15.20//NONSGML v1.0//EN
CALSCALE:GREGORIAN
METHOD:PUBLISH
X-ORIGINAL-URL:https://infopalamos.cat
X-WR-CALDESC:Esdeveniments per Ajuntament de Palamós - Notícies i Agenda
REFRESH-INTERVAL;VALUE=DURATION:PT1H
X-Robots-Tag:noindex
X-PUBLISHED-TTL:PT1H
BEGIN:VTIMEZONE
TZID:Europe/Madrid
BEGIN:DAYLIGHT
TZOFFSETFROM:+0100
TZOFFSETTO:+0200
TZNAME:CEST
DTSTART:20240331T010000
END:DAYLIGHT
BEGIN:STANDARD
TZOFFSETFROM:+0200
TZOFFSETTO:+0100
TZNAME:CET
DTSTART:20241027T010000
END:STANDARD
BEGIN:DAYLIGHT
TZOFFSETFROM:+0100
TZOFFSETTO:+0200
TZNAME:CEST
DTSTART:20250330T010000
END:DAYLIGHT
BEGIN:STANDARD
TZOFFSETFROM:+0200
TZOFFSETTO:+0100
TZNAME:CET
DTSTART:20251026T010000
END:STANDARD
BEGIN:DAYLIGHT
TZOFFSETFROM:+0100
TZOFFSETTO:+0200
TZNAME:CEST
DTSTART:20260329T010000
END:DAYLIGHT
BEGIN:STANDARD
TZOFFSETFROM:+0200
TZOFFSETTO:+0100
TZNAME:CET
DTSTART:20261025T010000
END:STANDARD
END:VTIMEZONE
BEGIN:VEVENT
DTSTART;TZID=Europe/Madrid:20251030T180000
DTEND;TZID=Europe/Madrid:20251030T200000
DTSTAMP:20260421T042505
CREATED:20251027T121203Z
LAST-MODIFIED:20251027T121205Z
UID:10012707-1761847200-1761854400@infopalamos.cat
SUMMARY:Mostra Cuines del món - Geòrgia
DESCRIPTION:La mostra de cuines del món és més que una mostra de cuina\, és un espai on conèixer\, compartir i interrelacionar diferents cultures i persones del municipi. \n\n\n\nEnguany\, el país protagonista és Geòrgia. \n\n\n\n\n\n\n\n\n\n\n\n\n\n\n\n\n\nAjuntament de Palamós 2
URL:https://infopalamos.cat/esdeveniment/mostra-cuines-del-mon-georgia/
LOCATION:Espai del Peix\, Moll pesquer\, s/n\, Palamós\, 17230
CATEGORIES:Gastronomia
ATTACH;FMTTYPE=image/png:https://infopalamos.cat/wp-content/uploads/2025/10/Cuines_del_mon_2025_IG.png
GEO:41.845047015293;3.1265275153438
X-APPLE-STRUCTURED-LOCATION;VALUE=URI;X-ADDRESS=Espai del Peix Moll pesquer s/n Palamós 17230;X-APPLE-RADIUS=500;X-TITLE=Moll pesquer\, s/n:geo:3.1265275153438,41.845047015293
END:VEVENT
END:VCALENDAR