BEGIN:VCALENDAR
VERSION:2.0
PRODID:-//Ajuntament de Palamós - Notícies i Agenda - ECPv6.15.20//NONSGML v1.0//EN
CALSCALE:GREGORIAN
METHOD:PUBLISH
X-WR-CALNAME:Ajuntament de Palamós - Notícies i Agenda
X-ORIGINAL-URL:https://infopalamos.cat
X-WR-CALDESC:Esdeveniments per Ajuntament de Palamós - Notícies i Agenda
REFRESH-INTERVAL;VALUE=DURATION:PT1H
X-Robots-Tag:noindex
X-PUBLISHED-TTL:PT1H
BEGIN:VTIMEZONE
TZID:Europe/Madrid
BEGIN:DAYLIGHT
TZOFFSETFROM:+0100
TZOFFSETTO:+0200
TZNAME:CEST
DTSTART:20240331T010000
END:DAYLIGHT
BEGIN:STANDARD
TZOFFSETFROM:+0200
TZOFFSETTO:+0100
TZNAME:CET
DTSTART:20241027T010000
END:STANDARD
BEGIN:DAYLIGHT
TZOFFSETFROM:+0100
TZOFFSETTO:+0200
TZNAME:CEST
DTSTART:20250330T010000
END:DAYLIGHT
BEGIN:STANDARD
TZOFFSETFROM:+0200
TZOFFSETTO:+0100
TZNAME:CET
DTSTART:20251026T010000
END:STANDARD
BEGIN:DAYLIGHT
TZOFFSETFROM:+0100
TZOFFSETTO:+0200
TZNAME:CEST
DTSTART:20260329T010000
END:DAYLIGHT
BEGIN:STANDARD
TZOFFSETFROM:+0200
TZOFFSETTO:+0100
TZNAME:CET
DTSTART:20261025T010000
END:STANDARD
END:VTIMEZONE
BEGIN:VEVENT
DTSTART;TZID=Europe/Madrid:20251220T090000
DTEND;TZID=Europe/Madrid:20251220T130000
DTSTAMP:20260420T181217
CREATED:20251008T102014Z
LAST-MODIFIED:20251008T102015Z
UID:10012669-1766221200-1766235600@infopalamos.cat
SUMMARY:DEIXALLERIA MÒBIL
DESCRIPTION:Servei de recollida dels residus que no es poden dipositar als contenidors.
URL:https://infopalamos.cat/esdeveniment/deixalleria-mobil-23/2025-12-20/
LOCATION:Plaça Dr. Dalmau\, Palamós\, 17230
CATEGORIES:Medi Ambient
END:VEVENT
BEGIN:VEVENT
DTSTART;TZID=Europe/Madrid:20251206T090000
DTEND;TZID=Europe/Madrid:20251206T130000
DTSTAMP:20260420T181217
CREATED:20251008T102014Z
LAST-MODIFIED:20251008T102015Z
UID:10012668-1765011600-1765026000@infopalamos.cat
SUMMARY:DEIXALLERIA MÒBIL
DESCRIPTION:Servei de recollida dels residus que no es poden dipositar als contenidors.
URL:https://infopalamos.cat/esdeveniment/deixalleria-mobil-23/2025-12-06/
LOCATION:Plaça Dr. Dalmau\, Palamós\, 17230
CATEGORIES:Medi Ambient
END:VEVENT
BEGIN:VEVENT
DTSTART;TZID=Europe/Madrid:20251122T090000
DTEND;TZID=Europe/Madrid:20251122T130000
DTSTAMP:20260420T181217
CREATED:20251008T102014Z
LAST-MODIFIED:20251008T102015Z
UID:10012667-1763802000-1763816400@infopalamos.cat
SUMMARY:DEIXALLERIA MÒBIL
DESCRIPTION:Servei de recollida dels residus que no es poden dipositar als contenidors.
URL:https://infopalamos.cat/esdeveniment/deixalleria-mobil-23/2025-11-22/
LOCATION:Plaça Dr. Dalmau\, Palamós\, 17230
CATEGORIES:Medi Ambient
END:VEVENT
BEGIN:VEVENT
DTSTART;TZID=Europe/Madrid:20251108T090000
DTEND;TZID=Europe/Madrid:20251108T130000
DTSTAMP:20260420T181217
CREATED:20251008T102014Z
LAST-MODIFIED:20251008T102015Z
UID:10012666-1762592400-1762606800@infopalamos.cat
SUMMARY:DEIXALLERIA MÒBIL
DESCRIPTION:Servei de recollida dels residus que no es poden dipositar als contenidors.
URL:https://infopalamos.cat/esdeveniment/deixalleria-mobil-23/2025-11-08/
LOCATION:Plaça Dr. Dalmau\, Palamós\, 17230
CATEGORIES:Medi Ambient
END:VEVENT
END:VCALENDAR