BEGIN:VCALENDAR
VERSION:2.0
PRODID:-//Ajuntament de Palamós - Notícies i Agenda - ECPv6.15.20//NONSGML v1.0//EN
CALSCALE:GREGORIAN
METHOD:PUBLISH
X-ORIGINAL-URL:https://infopalamos.cat
X-WR-CALDESC:Esdeveniments per Ajuntament de Palamós - Notícies i Agenda
REFRESH-INTERVAL;VALUE=DURATION:PT1H
X-Robots-Tag:noindex
X-PUBLISHED-TTL:PT1H
BEGIN:VTIMEZONE
TZID:Europe/Madrid
BEGIN:DAYLIGHT
TZOFFSETFROM:+0100
TZOFFSETTO:+0200
TZNAME:CEST
DTSTART:20220327T010000
END:DAYLIGHT
BEGIN:STANDARD
TZOFFSETFROM:+0200
TZOFFSETTO:+0100
TZNAME:CET
DTSTART:20221030T010000
END:STANDARD
BEGIN:DAYLIGHT
TZOFFSETFROM:+0100
TZOFFSETTO:+0200
TZNAME:CEST
DTSTART:20230326T010000
END:DAYLIGHT
BEGIN:STANDARD
TZOFFSETFROM:+0200
TZOFFSETTO:+0100
TZNAME:CET
DTSTART:20231029T010000
END:STANDARD
BEGIN:DAYLIGHT
TZOFFSETFROM:+0100
TZOFFSETTO:+0200
TZNAME:CEST
DTSTART:20240331T010000
END:DAYLIGHT
BEGIN:STANDARD
TZOFFSETFROM:+0200
TZOFFSETTO:+0100
TZNAME:CET
DTSTART:20241027T010000
END:STANDARD
BEGIN:DAYLIGHT
TZOFFSETFROM:+0100
TZOFFSETTO:+0200
TZNAME:CEST
DTSTART:20250330T010000
END:DAYLIGHT
BEGIN:STANDARD
TZOFFSETFROM:+0200
TZOFFSETTO:+0100
TZNAME:CET
DTSTART:20251026T010000
END:STANDARD
BEGIN:DAYLIGHT
TZOFFSETFROM:+0100
TZOFFSETTO:+0200
TZNAME:CEST
DTSTART:20260329T010000
END:DAYLIGHT
BEGIN:STANDARD
TZOFFSETFROM:+0200
TZOFFSETTO:+0100
TZNAME:CET
DTSTART:20261025T010000
END:STANDARD
END:VTIMEZONE
BEGIN:VEVENT
DTSTART;TZID=Europe/Madrid:20250402T183000
DTEND;TZID=Europe/Madrid:20250402T200000
DTSTAMP:20260420T162432
CREATED:20250131T161948Z
LAST-MODIFIED:20250131T162217Z
UID:10007231-1743618600-1743624000@infopalamos.cat
SUMMARY:Grup de dol
DESCRIPTION:Us acompanyarem en processos de pèrdua i dol de persones estimades\, trencament de parella\, pèrdua de salut\, canvis de domicili i altres\, el primer dimecres de cada mes. \n\n\n\n\nAssociació Dol Baix Empordà 2
URL:https://infopalamos.cat/esdeveniment/grup-de-dol-12/2025-04-02/
LOCATION:Biblioteca Lluís Barceló i Bou\, Parc dels Països Catalans\, 1\, Palamós\, 17230\, Espanya
CATEGORIES:Esports i Salut
ATTACH;FMTTYPE=image/jpeg:https://infopalamos.cat/wp-content/uploads/2023/10/Cartell-Curs-Dol.jpg
ORGANIZER;CN="Associaci%C3%B3 Dol Baix Empord%C3%A0":MAILTO:dolbaixemporda@gmail.com
GEO:41.850759;3.1260958
X-APPLE-STRUCTURED-LOCATION;VALUE=URI;X-ADDRESS=Biblioteca Lluís Barceló i Bou Parc dels Països Catalans 1 Palamós 17230 Espanya;X-APPLE-RADIUS=500;X-TITLE=Parc dels Països Catalans\, 1:geo:3.1260958,41.850759
END:VEVENT
BEGIN:VEVENT
DTSTART;TZID=Europe/Madrid:20250305T183000
DTEND;TZID=Europe/Madrid:20250305T200000
DTSTAMP:20260420T162432
CREATED:20250131T161948Z
LAST-MODIFIED:20250131T162217Z
UID:10007230-1741199400-1741204800@infopalamos.cat
SUMMARY:Grup de dol
DESCRIPTION:Us acompanyarem en processos de pèrdua i dol de persones estimades\, trencament de parella\, pèrdua de salut\, canvis de domicili i altres\, el primer dimecres de cada mes. \n\n\n\n\nAssociació Dol Baix Empordà 4
URL:https://infopalamos.cat/esdeveniment/grup-de-dol-12/2025-03-05/
LOCATION:Biblioteca Lluís Barceló i Bou\, Parc dels Països Catalans\, 1\, Palamós\, 17230\, Espanya
CATEGORIES:Esports i Salut
ATTACH;FMTTYPE=image/jpeg:https://infopalamos.cat/wp-content/uploads/2023/10/Cartell-Curs-Dol.jpg
ORGANIZER;CN="Associaci%C3%B3 Dol Baix Empord%C3%A0":MAILTO:dolbaixemporda@gmail.com
GEO:41.850759;3.1260958
X-APPLE-STRUCTURED-LOCATION;VALUE=URI;X-ADDRESS=Biblioteca Lluís Barceló i Bou Parc dels Països Catalans 1 Palamós 17230 Espanya;X-APPLE-RADIUS=500;X-TITLE=Parc dels Països Catalans\, 1:geo:3.1260958,41.850759
END:VEVENT
BEGIN:VEVENT
DTSTART;TZID=Europe/Madrid:20250205T183000
DTEND;TZID=Europe/Madrid:20250205T200000
DTSTAMP:20260420T162432
CREATED:20250131T161948Z
LAST-MODIFIED:20250131T162217Z
UID:10007229-1738780200-1738785600@infopalamos.cat
SUMMARY:Grup de dol
DESCRIPTION:Us acompanyarem en processos de pèrdua i dol de persones estimades\, trencament de parella\, pèrdua de salut\, canvis de domicili i altres\, el primer dimecres de cada mes. \n\n\n\n\nAssociació Dol Baix Empordà 6
URL:https://infopalamos.cat/esdeveniment/grup-de-dol-12/2025-02-05/
LOCATION:Biblioteca Lluís Barceló i Bou\, Parc dels Països Catalans\, 1\, Palamós\, 17230\, Espanya
CATEGORIES:Esports i Salut
ATTACH;FMTTYPE=image/jpeg:https://infopalamos.cat/wp-content/uploads/2023/10/Cartell-Curs-Dol.jpg
ORGANIZER;CN="Associaci%C3%B3 Dol Baix Empord%C3%A0":MAILTO:dolbaixemporda@gmail.com
GEO:41.850759;3.1260958
X-APPLE-STRUCTURED-LOCATION;VALUE=URI;X-ADDRESS=Biblioteca Lluís Barceló i Bou Parc dels Països Catalans 1 Palamós 17230 Espanya;X-APPLE-RADIUS=500;X-TITLE=Parc dels Països Catalans\, 1:geo:3.1260958,41.850759
END:VEVENT
BEGIN:VEVENT
DTSTART;TZID=Europe/Madrid:20241002T183000
DTEND;TZID=Europe/Madrid:20241002T200000
DTSTAMP:20260420T162432
CREATED:20240916T101854Z
LAST-MODIFIED:20240916T101926Z
UID:10004049-1727893800-1727899200@infopalamos.cat
SUMMARY:Grup de dol
DESCRIPTION:Us acompanyarem en processos de pèrdua i dol de persones estimades\, trencament de parella\, pèrdua de salut\, canvis de domicili i altres\, el primer dimecres de cada mes. \n\n\n\nAssociació Dol Baix Empordà 8
URL:https://infopalamos.cat/esdeveniment/grup-de-dol-11/
LOCATION:Biblioteca Lluís Barceló i Bou\, Parc dels Països Catalans\, 1\, Palamós\, 17230\, Espanya
ATTACH;FMTTYPE=image/jpeg:https://infopalamos.cat/wp-content/uploads/2023/10/Cartell-Curs-Dol.jpg
ORGANIZER;CN="Associaci%C3%B3 Dol Baix Empord%C3%A0":MAILTO:dolbaixemporda@gmail.com
GEO:41.850759;3.1260958
X-APPLE-STRUCTURED-LOCATION;VALUE=URI;X-ADDRESS=Biblioteca Lluís Barceló i Bou Parc dels Països Catalans 1 Palamós 17230 Espanya;X-APPLE-RADIUS=500;X-TITLE=Parc dels Països Catalans\, 1:geo:3.1260958,41.850759
END:VEVENT
BEGIN:VEVENT
DTSTART;TZID=Europe/Madrid:20240904T183000
DTEND;TZID=Europe/Madrid:20240904T200000
DTSTAMP:20260420T162432
CREATED:20240812T093459Z
LAST-MODIFIED:20240822T124257Z
UID:10003647-1725474600-1725480000@infopalamos.cat
SUMMARY:Grup de dol
DESCRIPTION:Us acompanyarem en processos de pèrdua i dol de persones estimades\, trencament de parella\, pèrdua de salut\, canvis de domicili i altres\, el primer dimecres de cada mes. \n\n\n\nAssociació Dol Baix Empordà 10
URL:https://infopalamos.cat/esdeveniment/grup-de-dol-10/
LOCATION:Biblioteca Lluís Barceló i Bou\, Parc dels Països Catalans\, 1\, Palamós\, 17230\, Espanya
ATTACH;FMTTYPE=image/jpeg:https://infopalamos.cat/wp-content/uploads/2023/10/Cartell-Curs-Dol.jpg
ORGANIZER;CN="Associaci%C3%B3 Dol Baix Empord%C3%A0":MAILTO:dolbaixemporda@gmail.com
GEO:41.850759;3.1260958
X-APPLE-STRUCTURED-LOCATION;VALUE=URI;X-ADDRESS=Biblioteca Lluís Barceló i Bou Parc dels Països Catalans 1 Palamós 17230 Espanya;X-APPLE-RADIUS=500;X-TITLE=Parc dels Països Catalans\, 1:geo:3.1260958,41.850759
END:VEVENT
BEGIN:VEVENT
DTSTART;TZID=Europe/Madrid:20240704T180000
DTEND;TZID=Europe/Madrid:20240704T190000
DTSTAMP:20260420T162432
CREATED:20240611T144034Z
LAST-MODIFIED:20240620T082047Z
UID:10002586-1720116000-1720119600@infopalamos.cat
SUMMARY:Presentació del llibre: Ternura en tiempos de pandemia\, de María de la Vega García Peña
DESCRIPTION:Presentació del llibre Ternura en tiempos de pandemia de María de la Vega García Peña. \n\n\n\nAbejarín\, Roberta\, Juan Gaviota i tots els altres personatges s’alien amb l’equip d’atenció primària que treballa en el centre de salut de Sant Antoni de Calonge per a combatre al Coronavirus. Però què poden fer aquests éssers imaginaris? Explicar les seves històries a Vega.I així\, durant 89 nits relaten les seves aventures\, i ella les transforma en un petit conte per al grup de Whatsapp de l’equip\, que ajuda a desempolsar la pau\, a tenir un breu instant de felicitat i a arraconar la incertesa\, la por i el cansament. \n\n\n\nAssociació Dol Baix Empordà 12
URL:https://infopalamos.cat/esdeveniment/presentacio-del-llibre-ternura-en-tiempos-de-pandemia-de-maria-de-la-vega-garcia-pena/
LOCATION:Biblioteca Lluís Barceló i Bou\, Parc dels Països Catalans\, 1\, Palamós\, 17230\, Espanya
CATEGORIES:Cultura i Patrimoni
ATTACH;FMTTYPE=image/jpeg:https://infopalamos.cat/wp-content/uploads/2024/06/Cartell-presentacio-Ternura-tiempos-pandemia.jpg
ORGANIZER;CN="Associaci%C3%B3 Dol Baix Empord%C3%A0":MAILTO:dolbaixemporda@gmail.com
GEO:41.850759;3.1260958
X-APPLE-STRUCTURED-LOCATION;VALUE=URI;X-ADDRESS=Biblioteca Lluís Barceló i Bou Parc dels Països Catalans 1 Palamós 17230 Espanya;X-APPLE-RADIUS=500;X-TITLE=Parc dels Països Catalans\, 1:geo:3.1260958,41.850759
END:VEVENT
BEGIN:VEVENT
DTSTART;TZID=Europe/Madrid:20240703T183000
DTEND;TZID=Europe/Madrid:20240703T200000
DTSTAMP:20260420T162432
CREATED:20240620T081604Z
LAST-MODIFIED:20240620T081605Z
UID:10002692-1720031400-1720036800@infopalamos.cat
SUMMARY:Grup de dol
DESCRIPTION:Us acompanyarem en processos de pèrdua i dol de persones estimades\, trencament de parella\, pèrdua de salut\, canvis de domicili i altres\, el primer dimecres de cada mes. \n\n\n\nAssociació Dol Baix Empordà 14
URL:https://infopalamos.cat/esdeveniment/grup-de-dol-9/
LOCATION:Biblioteca Lluís Barceló i Bou\, Parc dels Països Catalans\, 1\, Palamós\, 17230\, Espanya
ATTACH;FMTTYPE=image/jpeg:https://infopalamos.cat/wp-content/uploads/2023/10/Cartell-Curs-Dol.jpg
ORGANIZER;CN="Associaci%C3%B3 Dol Baix Empord%C3%A0":MAILTO:dolbaixemporda@gmail.com
GEO:41.850759;3.1260958
X-APPLE-STRUCTURED-LOCATION;VALUE=URI;X-ADDRESS=Biblioteca Lluís Barceló i Bou Parc dels Països Catalans 1 Palamós 17230 Espanya;X-APPLE-RADIUS=500;X-TITLE=Parc dels Països Catalans\, 1:geo:3.1260958,41.850759
END:VEVENT
BEGIN:VEVENT
DTSTART;TZID=Europe/Madrid:20240605T183000
DTEND;TZID=Europe/Madrid:20240605T200000
DTSTAMP:20260420T162432
CREATED:20240516T104452Z
LAST-MODIFIED:20240516T104455Z
UID:10002179-1717612200-1717617600@infopalamos.cat
SUMMARY:Grup de dol
DESCRIPTION:Us acompanyarem en processos de pèrdua i dol de persones estimades\, trencament de parella\, pèrdua de salut\, canvis de domicili i altres\, el primer dimecres de cada mes. \n\n\n\nAssociació Dol Baix Empordà 16
URL:https://infopalamos.cat/esdeveniment/grup-de-dol-8/
LOCATION:Biblioteca Lluís Barceló i Bou\, Parc dels Països Catalans\, 1\, Palamós\, 17230\, Espanya
ATTACH;FMTTYPE=image/jpeg:https://infopalamos.cat/wp-content/uploads/2023/10/Cartell-Curs-Dol.jpg
ORGANIZER;CN="Associaci%C3%B3 Dol Baix Empord%C3%A0":MAILTO:dolbaixemporda@gmail.com
GEO:41.850759;3.1260958
X-APPLE-STRUCTURED-LOCATION;VALUE=URI;X-ADDRESS=Biblioteca Lluís Barceló i Bou Parc dels Països Catalans 1 Palamós 17230 Espanya;X-APPLE-RADIUS=500;X-TITLE=Parc dels Països Catalans\, 1:geo:3.1260958,41.850759
END:VEVENT
BEGIN:VEVENT
DTSTART;TZID=Europe/Madrid:20240508T183000
DTEND;TZID=Europe/Madrid:20240508T200000
DTSTAMP:20260420T162432
CREATED:20240415T105005Z
LAST-MODIFIED:20240415T105007Z
UID:10001505-1715193000-1715198400@infopalamos.cat
SUMMARY:Grup de dol
DESCRIPTION:Us acompanyarem en processos de pèrdua i dol de persones estimades\, trencament de parella\, pèrdua de salut\, canvis de domicili i altres\, el primer dimecres de cada mes. \n\n\n\nAssociació Dol Baix Empordà 18
URL:https://infopalamos.cat/esdeveniment/grup-de-dol-7/
LOCATION:Biblioteca Lluís Barceló i Bou\, Parc dels Països Catalans\, 1\, Palamós\, 17230\, Espanya
ATTACH;FMTTYPE=image/jpeg:https://infopalamos.cat/wp-content/uploads/2023/10/Cartell-Curs-Dol.jpg
ORGANIZER;CN="Associaci%C3%B3 Dol Baix Empord%C3%A0":MAILTO:dolbaixemporda@gmail.com
GEO:41.850759;3.1260958
X-APPLE-STRUCTURED-LOCATION;VALUE=URI;X-ADDRESS=Biblioteca Lluís Barceló i Bou Parc dels Països Catalans 1 Palamós 17230 Espanya;X-APPLE-RADIUS=500;X-TITLE=Parc dels Països Catalans\, 1:geo:3.1260958,41.850759
END:VEVENT
BEGIN:VEVENT
DTSTART;TZID=Europe/Madrid:20240403T183000
DTEND;TZID=Europe/Madrid:20240403T200000
DTSTAMP:20260420T162432
CREATED:20240320T174343Z
LAST-MODIFIED:20240320T174344Z
UID:10001418-1712169000-1712174400@infopalamos.cat
SUMMARY:Grup de dol
DESCRIPTION:Us acompanyarem en processos de pèrdua i dol de persones estimades\, trencament de parella\, pèrdua de salut\, canvis de domicili i altres\, el primer dimecres de cada mes. \n\n\n\nAssociació Dol Baix Empordà 20
URL:https://infopalamos.cat/esdeveniment/grup-de-dol-6/
LOCATION:Biblioteca Lluís Barceló i Bou\, Parc dels Països Catalans\, 1\, Palamós\, 17230\, Espanya
ATTACH;FMTTYPE=image/jpeg:https://infopalamos.cat/wp-content/uploads/2023/10/Cartell-Curs-Dol.jpg
ORGANIZER;CN="Associaci%C3%B3 Dol Baix Empord%C3%A0":MAILTO:dolbaixemporda@gmail.com
GEO:41.850759;3.1260958
X-APPLE-STRUCTURED-LOCATION;VALUE=URI;X-ADDRESS=Biblioteca Lluís Barceló i Bou Parc dels Països Catalans 1 Palamós 17230 Espanya;X-APPLE-RADIUS=500;X-TITLE=Parc dels Països Catalans\, 1:geo:3.1260958,41.850759
END:VEVENT
BEGIN:VEVENT
DTSTART;TZID=Europe/Madrid:20240306T183000
DTEND;TZID=Europe/Madrid:20240306T200000
DTSTAMP:20260420T162432
CREATED:20240215T111139Z
LAST-MODIFIED:20240215T111140Z
UID:10001044-1709749800-1709755200@infopalamos.cat
SUMMARY:Grup de dol
DESCRIPTION:Us acompanyarem en processos de pèrdua i dol de persones estimades\, trencament de parella\, pèrdua de salut\, canvis de domicili i altres\, el primer dimecres de cada mes. \n\n\n\nAssociació Dol Baix Empordà 22
URL:https://infopalamos.cat/esdeveniment/grup-de-dol-5/
LOCATION:Biblioteca Lluís Barceló i Bou\, Parc dels Països Catalans\, 1\, Palamós\, 17230\, Espanya
ATTACH;FMTTYPE=image/jpeg:https://infopalamos.cat/wp-content/uploads/2023/10/Cartell-Curs-Dol.jpg
ORGANIZER;CN="Associaci%C3%B3 Dol Baix Empord%C3%A0":MAILTO:dolbaixemporda@gmail.com
GEO:41.850759;3.1260958
X-APPLE-STRUCTURED-LOCATION;VALUE=URI;X-ADDRESS=Biblioteca Lluís Barceló i Bou Parc dels Països Catalans 1 Palamós 17230 Espanya;X-APPLE-RADIUS=500;X-TITLE=Parc dels Països Catalans\, 1:geo:3.1260958,41.850759
END:VEVENT
BEGIN:VEVENT
DTSTART;TZID=Europe/Madrid:20240207T183000
DTEND;TZID=Europe/Madrid:20240207T200000
DTSTAMP:20260420T162432
CREATED:20240118T094640Z
LAST-MODIFIED:20240118T094642Z
UID:10001002-1707330600-1707336000@infopalamos.cat
SUMMARY:Grup de dol
DESCRIPTION:Us acompanyarem en processos de pèrdua i dol de persones estimades\, trencament de parella\, pèrdua de salut\, canvis de domicili i altres\, el primer dimecres de cada mes. \n\n\n\nAssociació Dol Baix Empordà 24
URL:https://infopalamos.cat/esdeveniment/grup-de-dol-4/
LOCATION:Biblioteca Lluís Barceló i Bou\, Parc dels Països Catalans\, 1\, Palamós\, 17230\, Espanya
ATTACH;FMTTYPE=image/jpeg:https://infopalamos.cat/wp-content/uploads/2023/10/Cartell-Curs-Dol.jpg
ORGANIZER;CN="Associaci%C3%B3 Dol Baix Empord%C3%A0":MAILTO:dolbaixemporda@gmail.com
GEO:41.850759;3.1260958
X-APPLE-STRUCTURED-LOCATION;VALUE=URI;X-ADDRESS=Biblioteca Lluís Barceló i Bou Parc dels Països Catalans 1 Palamós 17230 Espanya;X-APPLE-RADIUS=500;X-TITLE=Parc dels Països Catalans\, 1:geo:3.1260958,41.850759
END:VEVENT
BEGIN:VEVENT
DTSTART;TZID=Europe/Madrid:20240103T183000
DTEND;TZID=Europe/Madrid:20240103T200000
DTSTAMP:20260420T162432
CREATED:20231212T155059Z
LAST-MODIFIED:20231212T155100Z
UID:10000677-1704306600-1704312000@infopalamos.cat
SUMMARY:Grup de dol
DESCRIPTION:Us acompanyarem en processos de pèrdua i dol de persones estimades\, trencament de parella\, pèrdua de salut\, canvis de domicili i altres\, el primer dimecres de cada mes. \n\n\n\nAssociació Dol Baix Empordà 26
URL:https://infopalamos.cat/esdeveniment/grup-de-dol-3/
LOCATION:Biblioteca Lluís Barceló i Bou\, Parc dels Països Catalans\, 1\, Palamós\, 17230\, Espanya
ATTACH;FMTTYPE=image/jpeg:https://infopalamos.cat/wp-content/uploads/2023/10/Cartell-Curs-Dol.jpg
ORGANIZER;CN="Associaci%C3%B3 Dol Baix Empord%C3%A0":MAILTO:dolbaixemporda@gmail.com
GEO:41.850759;3.1260958
X-APPLE-STRUCTURED-LOCATION;VALUE=URI;X-ADDRESS=Biblioteca Lluís Barceló i Bou Parc dels Països Catalans 1 Palamós 17230 Espanya;X-APPLE-RADIUS=500;X-TITLE=Parc dels Països Catalans\, 1:geo:3.1260958,41.850759
END:VEVENT
BEGIN:VEVENT
DTSTART;TZID=Europe/Madrid:20231220T183000
DTEND;TZID=Europe/Madrid:20231220T200000
DTSTAMP:20260420T162432
CREATED:20231108T183550Z
LAST-MODIFIED:20231109T105150Z
UID:10000428-1703097000-1703102400@infopalamos.cat
SUMMARY:Grup de dol
DESCRIPTION:Us acompanyarem en processos de pèrdua i dol de persones estimades\, trencament de parella\, pèrdua de salut\, canvis de domicili i altres\, el primer dimecres de cada mes. \n\n\n\nAssociació Dol Baix Empordà 28
URL:https://infopalamos.cat/esdeveniment/grup-de-dol-2/
LOCATION:Biblioteca Lluís Barceló i Bou\, Parc dels Països Catalans\, 1\, Palamós\, 17230\, Espanya
ATTACH;FMTTYPE=image/jpeg:https://infopalamos.cat/wp-content/uploads/2023/10/Cartell-Curs-Dol.jpg
ORGANIZER;CN="Associaci%C3%B3 Dol Baix Empord%C3%A0":MAILTO:dolbaixemporda@gmail.com
GEO:41.850759;3.1260958
X-APPLE-STRUCTURED-LOCATION;VALUE=URI;X-ADDRESS=Biblioteca Lluís Barceló i Bou Parc dels Països Catalans 1 Palamós 17230 Espanya;X-APPLE-RADIUS=500;X-TITLE=Parc dels Països Catalans\, 1:geo:3.1260958,41.850759
END:VEVENT
BEGIN:VEVENT
DTSTART;TZID=Europe/Madrid:20231108T183000
DTEND;TZID=Europe/Madrid:20231108T200000
DTSTAMP:20260420T162432
CREATED:20231016T094610Z
LAST-MODIFIED:20231016T094612Z
UID:10000376-1699468200-1699473600@infopalamos.cat
SUMMARY:Grup de dol
DESCRIPTION:Us acompanyarem en processos de pèrdua i dol de persones estimades\, trencament de parella\, pèrdua de salut\, canvis de domicili i altres\, el primer dimecres de cada mes.
URL:https://infopalamos.cat/esdeveniment/grup-de-dol/
LOCATION:Biblioteca Lluís Barceló i Bou\, Parc dels Països Catalans\, 1\, Palamós\, 17230\, Espanya
ATTACH;FMTTYPE=image/jpeg:https://infopalamos.cat/wp-content/uploads/2023/10/Cartell-Curs-Dol.jpg
ORGANIZER;CN="Associaci%C3%B3 Dol Baix Empord%C3%A0":MAILTO:dolbaixemporda@gmail.com
GEO:41.850759;3.1260958
X-APPLE-STRUCTURED-LOCATION;VALUE=URI;X-ADDRESS=Biblioteca Lluís Barceló i Bou Parc dels Països Catalans 1 Palamós 17230 Espanya;X-APPLE-RADIUS=500;X-TITLE=Parc dels Països Catalans\, 1:geo:3.1260958,41.850759
END:VEVENT
END:VCALENDAR