BEGIN:VCALENDAR
VERSION:2.0
PRODID:-//Ajuntament de Palamós - Notícies i Agenda - ECPv6.15.20//NONSGML v1.0//EN
CALSCALE:GREGORIAN
METHOD:PUBLISH
X-WR-CALNAME:Ajuntament de Palamós - Notícies i Agenda
X-ORIGINAL-URL:https://infopalamos.cat
X-WR-CALDESC:Esdeveniments per Ajuntament de Palamós - Notícies i Agenda
REFRESH-INTERVAL;VALUE=DURATION:PT1H
X-Robots-Tag:noindex
X-PUBLISHED-TTL:PT1H
BEGIN:VTIMEZONE
TZID:Europe/Madrid
BEGIN:DAYLIGHT
TZOFFSETFROM:+0100
TZOFFSETTO:+0200
TZNAME:CEST
DTSTART:20220327T010000
END:DAYLIGHT
BEGIN:STANDARD
TZOFFSETFROM:+0200
TZOFFSETTO:+0100
TZNAME:CET
DTSTART:20221030T010000
END:STANDARD
BEGIN:DAYLIGHT
TZOFFSETFROM:+0100
TZOFFSETTO:+0200
TZNAME:CEST
DTSTART:20230326T010000
END:DAYLIGHT
BEGIN:STANDARD
TZOFFSETFROM:+0200
TZOFFSETTO:+0100
TZNAME:CET
DTSTART:20231029T010000
END:STANDARD
BEGIN:DAYLIGHT
TZOFFSETFROM:+0100
TZOFFSETTO:+0200
TZNAME:CEST
DTSTART:20240331T010000
END:DAYLIGHT
BEGIN:STANDARD
TZOFFSETFROM:+0200
TZOFFSETTO:+0100
TZNAME:CET
DTSTART:20241027T010000
END:STANDARD
BEGIN:DAYLIGHT
TZOFFSETFROM:+0100
TZOFFSETTO:+0200
TZNAME:CEST
DTSTART:20250330T010000
END:DAYLIGHT
BEGIN:STANDARD
TZOFFSETFROM:+0200
TZOFFSETTO:+0100
TZNAME:CET
DTSTART:20251026T010000
END:STANDARD
END:VTIMEZONE
BEGIN:VEVENT
DTSTART;TZID=Europe/Madrid:20240103T183000
DTEND;TZID=Europe/Madrid:20240103T200000
DTSTAMP:20260420T180145
CREATED:20231212T155059Z
LAST-MODIFIED:20231212T155100Z
UID:10000677-1704306600-1704312000@infopalamos.cat
SUMMARY:Grup de dol
DESCRIPTION:Us acompanyarem en processos de pèrdua i dol de persones estimades\, trencament de parella\, pèrdua de salut\, canvis de domicili i altres\, el primer dimecres de cada mes. \n\n\n\nAssociació Dol Baix Empordà 2
URL:https://infopalamos.cat/esdeveniment/grup-de-dol-3/
LOCATION:Biblioteca Lluís Barceló i Bou\, Parc dels Països Catalans\, 1\, Palamós\, 17230\, Espanya
ATTACH;FMTTYPE=image/jpeg:https://infopalamos.cat/wp-content/uploads/2023/10/Cartell-Curs-Dol.jpg
ORGANIZER;CN="Associaci%C3%B3 Dol Baix Empord%C3%A0":MAILTO:dolbaixemporda@gmail.com
GEO:41.850759;3.1260958
X-APPLE-STRUCTURED-LOCATION;VALUE=URI;X-ADDRESS=Biblioteca Lluís Barceló i Bou Parc dels Països Catalans 1 Palamós 17230 Espanya;X-APPLE-RADIUS=500;X-TITLE=Parc dels Països Catalans\, 1:geo:3.1260958,41.850759
END:VEVENT
BEGIN:VEVENT
DTSTART;TZID=Europe/Madrid:20231220T183000
DTEND;TZID=Europe/Madrid:20231220T200000
DTSTAMP:20260420T180145
CREATED:20231108T183550Z
LAST-MODIFIED:20231109T105150Z
UID:10000428-1703097000-1703102400@infopalamos.cat
SUMMARY:Grup de dol
DESCRIPTION:Us acompanyarem en processos de pèrdua i dol de persones estimades\, trencament de parella\, pèrdua de salut\, canvis de domicili i altres\, el primer dimecres de cada mes. \n\n\n\nAssociació Dol Baix Empordà 4
URL:https://infopalamos.cat/esdeveniment/grup-de-dol-2/
LOCATION:Biblioteca Lluís Barceló i Bou\, Parc dels Països Catalans\, 1\, Palamós\, 17230\, Espanya
ATTACH;FMTTYPE=image/jpeg:https://infopalamos.cat/wp-content/uploads/2023/10/Cartell-Curs-Dol.jpg
ORGANIZER;CN="Associaci%C3%B3 Dol Baix Empord%C3%A0":MAILTO:dolbaixemporda@gmail.com
GEO:41.850759;3.1260958
X-APPLE-STRUCTURED-LOCATION;VALUE=URI;X-ADDRESS=Biblioteca Lluís Barceló i Bou Parc dels Països Catalans 1 Palamós 17230 Espanya;X-APPLE-RADIUS=500;X-TITLE=Parc dels Països Catalans\, 1:geo:3.1260958,41.850759
END:VEVENT
BEGIN:VEVENT
DTSTART;TZID=Europe/Madrid:20231108T183000
DTEND;TZID=Europe/Madrid:20231108T200000
DTSTAMP:20260420T180145
CREATED:20231016T094610Z
LAST-MODIFIED:20231016T094612Z
UID:10000376-1699468200-1699473600@infopalamos.cat
SUMMARY:Grup de dol
DESCRIPTION:Us acompanyarem en processos de pèrdua i dol de persones estimades\, trencament de parella\, pèrdua de salut\, canvis de domicili i altres\, el primer dimecres de cada mes.
URL:https://infopalamos.cat/esdeveniment/grup-de-dol/
LOCATION:Biblioteca Lluís Barceló i Bou\, Parc dels Països Catalans\, 1\, Palamós\, 17230\, Espanya
ATTACH;FMTTYPE=image/jpeg:https://infopalamos.cat/wp-content/uploads/2023/10/Cartell-Curs-Dol.jpg
ORGANIZER;CN="Associaci%C3%B3 Dol Baix Empord%C3%A0":MAILTO:dolbaixemporda@gmail.com
GEO:41.850759;3.1260958
X-APPLE-STRUCTURED-LOCATION;VALUE=URI;X-ADDRESS=Biblioteca Lluís Barceló i Bou Parc dels Països Catalans 1 Palamós 17230 Espanya;X-APPLE-RADIUS=500;X-TITLE=Parc dels Països Catalans\, 1:geo:3.1260958,41.850759
END:VEVENT
END:VCALENDAR