BEGIN:VCALENDAR
VERSION:2.0
PRODID:-//Ajuntament de Palamós - Notícies i Agenda - ECPv6.15.20//NONSGML v1.0//EN
CALSCALE:GREGORIAN
METHOD:PUBLISH
X-ORIGINAL-URL:https://infopalamos.cat
X-WR-CALDESC:Esdeveniments per Ajuntament de Palamós - Notícies i Agenda
REFRESH-INTERVAL;VALUE=DURATION:PT1H
X-Robots-Tag:noindex
X-PUBLISHED-TTL:PT1H
BEGIN:VTIMEZONE
TZID:Europe/Madrid
BEGIN:DAYLIGHT
TZOFFSETFROM:+0100
TZOFFSETTO:+0200
TZNAME:CEST
DTSTART:20250330T010000
END:DAYLIGHT
BEGIN:STANDARD
TZOFFSETFROM:+0200
TZOFFSETTO:+0100
TZNAME:CET
DTSTART:20251026T010000
END:STANDARD
BEGIN:DAYLIGHT
TZOFFSETFROM:+0100
TZOFFSETTO:+0200
TZNAME:CEST
DTSTART:20260329T010000
END:DAYLIGHT
BEGIN:STANDARD
TZOFFSETFROM:+0200
TZOFFSETTO:+0100
TZNAME:CET
DTSTART:20261025T010000
END:STANDARD
BEGIN:DAYLIGHT
TZOFFSETFROM:+0100
TZOFFSETTO:+0200
TZNAME:CEST
DTSTART:20270328T010000
END:DAYLIGHT
BEGIN:STANDARD
TZOFFSETFROM:+0200
TZOFFSETTO:+0100
TZNAME:CET
DTSTART:20271031T010000
END:STANDARD
END:VTIMEZONE
BEGIN:VEVENT
DTSTART;TZID=Europe/Madrid:20260625T190000
DTEND;TZID=Europe/Madrid:20260625T193000
DTSTAMP:20260421T135050
CREATED:20260306T112036Z
LAST-MODIFIED:20260306T112038Z
UID:10013185-1782414000-1782415800@infopalamos.cat
SUMMARY:En Pau també vol viure en pau
DESCRIPTION:Grup de teatre L’Embolic – Ass. Gent Gran de Palamós \n\n\n\n\n\nDirecció: Pere Ciurana \n\n\n\nIntèrprets: Fina Baeza\, Lourdes Gost\, Mercè Peragón\, Pere Ciurana\, Antoni Carbonés\, Victor Brugué i Josep M. Serra. \n\n\n\nApuntador: E. Mateu i A. Cantabella \n\n\n\nMuntatge: T. i J. García \n\n\n\nComèdia d’embolics en dos actes \n\n\n\nEl protagonista d’aquesta història\, en Pau\, s’enfronta a un entorn caòtic que li impedeix trobar la calma desitjada. A través de la comèdia\, l’obra destaca la lluita per mantenir l’equilibri personal davant les pressions externes. \n\n\n\nDurada: 100 minuts \n\n\n\nLloc: Teatre La Gorga \n\n\n\nPreu: Taquilla inversa (entrades www.lagorga.cat) \n\n\n\nOrganitza: Associació Gent Gran de Palamós \n\n\n\n\n\n\n\n\n\n\n\n\n\n\n\n\n\nAssociació Gent Gran de Palamós 2
URL:https://infopalamos.cat/esdeveniment/en-pau-tambe-vol-viure-en-pau/2026-06-25/
LOCATION:Teatre La Gorga\, Carrer Notaries\, Palamós\, 17230\, Espanya
CATEGORIES:Cultura i Patrimoni,Espectacles i Oci
ATTACH;FMTTYPE=image/jpeg:https://infopalamos.cat/wp-content/uploads/2026/03/13-Imatge-Gent-Gran_WEB.jpg
GEO:41.8471438;3.1286356
X-APPLE-STRUCTURED-LOCATION;VALUE=URI;X-ADDRESS=Teatre La Gorga Carrer Notaries Palamós 17230 Espanya;X-APPLE-RADIUS=500;X-TITLE=Carrer Notaries:geo:3.1286356,41.8471438
END:VEVENT
BEGIN:VEVENT
DTSTART;TZID=Europe/Madrid:20260626T190000
DTEND;TZID=Europe/Madrid:20260626T193000
DTSTAMP:20260421T135050
CREATED:20260306T112036Z
LAST-MODIFIED:20260306T112038Z
UID:10013186-1782500400-1782502200@infopalamos.cat
SUMMARY:En Pau també vol viure en pau
DESCRIPTION:Grup de teatre L’Embolic – Ass. Gent Gran de Palamós \n\n\n\n\n\nDirecció: Pere Ciurana \n\n\n\nIntèrprets: Fina Baeza\, Lourdes Gost\, Mercè Peragón\, Pere Ciurana\, Antoni Carbonés\, Victor Brugué i Josep M. Serra. \n\n\n\nApuntador: E. Mateu i A. Cantabella \n\n\n\nMuntatge: T. i J. García \n\n\n\nComèdia d’embolics en dos actes \n\n\n\nEl protagonista d’aquesta història\, en Pau\, s’enfronta a un entorn caòtic que li impedeix trobar la calma desitjada. A través de la comèdia\, l’obra destaca la lluita per mantenir l’equilibri personal davant les pressions externes. \n\n\n\nDurada: 100 minuts \n\n\n\nLloc: Teatre La Gorga \n\n\n\nPreu: Taquilla inversa (entrades www.lagorga.cat) \n\n\n\nOrganitza: Associació Gent Gran de Palamós \n\n\n\n\n\n\n\n\n\n\n\n\n\n\n\n\n\nAssociació Gent Gran de Palamós 4
URL:https://infopalamos.cat/esdeveniment/en-pau-tambe-vol-viure-en-pau/2026-06-26/
LOCATION:Teatre La Gorga\, Carrer Notaries\, Palamós\, 17230\, Espanya
CATEGORIES:Cultura i Patrimoni,Espectacles i Oci
ATTACH;FMTTYPE=image/jpeg:https://infopalamos.cat/wp-content/uploads/2026/03/13-Imatge-Gent-Gran_WEB.jpg
GEO:41.8471438;3.1286356
X-APPLE-STRUCTURED-LOCATION;VALUE=URI;X-ADDRESS=Teatre La Gorga Carrer Notaries Palamós 17230 Espanya;X-APPLE-RADIUS=500;X-TITLE=Carrer Notaries:geo:3.1286356,41.8471438
END:VEVENT
END:VCALENDAR