BEGIN:VCALENDAR
VERSION:2.0
PRODID:-//Ajuntament de Palamós - Notícies i Agenda - ECPv6.15.20//NONSGML v1.0//EN
CALSCALE:GREGORIAN
METHOD:PUBLISH
X-ORIGINAL-URL:https://infopalamos.cat
X-WR-CALDESC:Esdeveniments per Ajuntament de Palamós - Notícies i Agenda
REFRESH-INTERVAL;VALUE=DURATION:PT1H
X-Robots-Tag:noindex
X-PUBLISHED-TTL:PT1H
BEGIN:VTIMEZONE
TZID:Europe/Madrid
BEGIN:DAYLIGHT
TZOFFSETFROM:+0100
TZOFFSETTO:+0200
TZNAME:CEST
DTSTART:20220327T010000
END:DAYLIGHT
BEGIN:STANDARD
TZOFFSETFROM:+0200
TZOFFSETTO:+0100
TZNAME:CET
DTSTART:20221030T010000
END:STANDARD
BEGIN:DAYLIGHT
TZOFFSETFROM:+0100
TZOFFSETTO:+0200
TZNAME:CEST
DTSTART:20230326T010000
END:DAYLIGHT
BEGIN:STANDARD
TZOFFSETFROM:+0200
TZOFFSETTO:+0100
TZNAME:CET
DTSTART:20231029T010000
END:STANDARD
BEGIN:DAYLIGHT
TZOFFSETFROM:+0100
TZOFFSETTO:+0200
TZNAME:CEST
DTSTART:20240331T010000
END:DAYLIGHT
BEGIN:STANDARD
TZOFFSETFROM:+0200
TZOFFSETTO:+0100
TZNAME:CET
DTSTART:20241027T010000
END:STANDARD
BEGIN:DAYLIGHT
TZOFFSETFROM:+0100
TZOFFSETTO:+0200
TZNAME:CEST
DTSTART:20250330T010000
END:DAYLIGHT
BEGIN:STANDARD
TZOFFSETFROM:+0200
TZOFFSETTO:+0100
TZNAME:CET
DTSTART:20251026T010000
END:STANDARD
BEGIN:DAYLIGHT
TZOFFSETFROM:+0100
TZOFFSETTO:+0200
TZNAME:CEST
DTSTART:20260329T010000
END:DAYLIGHT
BEGIN:STANDARD
TZOFFSETFROM:+0200
TZOFFSETTO:+0100
TZNAME:CET
DTSTART:20261025T010000
END:STANDARD
END:VTIMEZONE
BEGIN:VEVENT
DTSTART;TZID=Europe/Madrid:20251026T080000
DTEND;TZID=Europe/Madrid:20251026T123000
DTSTAMP:20260419T154409
CREATED:20251021T092640Z
LAST-MODIFIED:20251021T093146Z
UID:10012703-1761465600-1761481800@infopalamos.cat
SUMMARY:21a Marxa dels Traginers
DESCRIPTION:El Club Alpí Palamós organitza\, un any més\, la tradicional Marxa dels traginers\, amb sortida i arribada des de Can Pere Tià (Palamós). \n\n\n\nDos recorreguts disponibles: 8 km i 15 km. \n\n\n\nSamarreta de regal a tots els participants \n\n\n\nEntrepà de botifarra a la brasa a l’arribada \n\n\n\n2 avituallaments durant la cursa \n\n\n\n \n\n\n\n\n\n\n\n\n\n\n\n\n\n\n\n\n\nClub Alpí Palamós 2
URL:https://infopalamos.cat/esdeveniment/21a-marxa-dels-traginers/
LOCATION:Can Pere Tià\, Can Pere Tià\, Palamós\, 17230
CATEGORIES:Esports i Salut
ATTACH;FMTTYPE=image/png:https://infopalamos.cat/wp-content/uploads/2025/10/traginers-2025.png
END:VEVENT
BEGIN:VEVENT
DTSTART;TZID=Europe/Madrid:20241027T080000
DTEND;TZID=Europe/Madrid:20241027T140000
DTSTAMP:20260419T154409
CREATED:20240925T094704Z
LAST-MODIFIED:20240925T094706Z
UID:10004689-1730016000-1730037600@infopalamos.cat
SUMMARY:20a Marxa dels Traginers
DESCRIPTION:Club Alpí Palamós 4\n\n\n\n\n\nDes de la primera edició\, l’any 2004\, ha augmentat molt el nombre de curses i marxes populars que s’organitzen arreu\, així com la quantitat de gent que assisteix a aquests esdeveniments esportius i populars. Des del Club Alpí Palamós seguim treballant amb la mateixa passió que el primer dia per mantenir atractiva aquesta marxa\, que arriba a la 20a edició.
URL:https://infopalamos.cat/esdeveniment/20a-marxa-dels-traginers/
LOCATION:Can Pere Tià\, Can Pere Tià\, Palamós\, 17230
CATEGORIES:Esports i Salut
END:VEVENT
BEGIN:VEVENT
DTSTART;TZID=Europe/Madrid:20241013T083000
DTEND;TZID=Europe/Madrid:20241013T130000
DTSTAMP:20260419T154409
CREATED:20240917T093449Z
LAST-MODIFIED:20240917T093450Z
UID:10004592-1728808200-1728824400@infopalamos.cat
SUMMARY:Bitàcola Bike Roadbook
DESCRIPTION:Club Alpí Palamós 6\n\n\n\n\n\nLa Bitàcola Bike és una cursa d’orientació de BTT organitzada pel Club Alpí Palamós. A la sortida s’entrega un llibre de ruta on hi ha marcades distàncies parcials i totals amb il·lustracions que els equips han de seguir per trobar camins\, pistes i corriols\, que els permetin completar el roadbook. Hi ha diferents punts de control al llarg de la ruta que s’hauran de marcar en el llibre. Els guanyadors seran aquells i aquelles participants que arribin en primera posició a la línia d’arribada amb tots els punts de control marcats. \n\n\n\n5€ socis i 10€ no socis + 5€ assegurança els no federats
URL:https://infopalamos.cat/esdeveniment/bitacola-bike-roadbook/
LOCATION:Pineda d’en Gori\, Palamós\, 17230
CATEGORIES:Esports i Salut
ATTACH;FMTTYPE=image/png:https://infopalamos.cat/wp-content/uploads/2024/09/bitacolabike2024.png
END:VEVENT
BEGIN:VEVENT
DTSTART;TZID=Europe/Madrid:20240627T200000
DTEND;TZID=Europe/Madrid:20240627T213000
DTSTAMP:20260419T154409
CREATED:20240308T072832Z
LAST-MODIFIED:20240308T072833Z
UID:10001400-1719518400-1719523800@infopalamos.cat
SUMMARY:Projecció: "Pasang: A l'ombra de l'Everest"
DESCRIPTION:Direcció: Nancy Svendsen. EUA. 2022 \n\n\n\nVO en anglès amb subtítols en català \n\n\n\nProjecció del llargmetratge documental guanyador del Gran Premi del Festival Internacional de Muntanya i Aventura de Torelló \n\n\n\nNarra la història no explicada i inspiradora de Pasang Lhamu Sherpa\, la pionera indígena que va lluitar contra el racisme\, la discriminació de gènere i l’oposició política en la seva recerca per convertir-se en la primera dona nepalesa a arribar al cim de l’Everest. El seu viatge valent\, però tràgic\, va sacsejar molt el seu país\, inspirà les noves generacions a lluitar pels seus drets i perseguir els seus somnis. \n\n\n\nDurada: 71 minuts \n\n\n\nLloc: Teatre La Gorga \n\n\n\nPreu: Gratuït (entrades www.lagorga.cat) \n\n\n\nOrganitza: Club Alpí Palamós 
URL:https://infopalamos.cat/esdeveniment/projeccio-pasang-a-lombra-de-leverest/
LOCATION:Teatre La Gorga\, Carrer Notaries\, Palamós\, 17230\, Espanya
CATEGORIES:Cultura i Patrimoni,Espectacles i Oci
ATTACH;FMTTYPE=image/jpeg:https://infopalamos.cat/wp-content/uploads/2024/03/19-Cinema-Premium-de-Muntanya-i-Natura-2024_WEB.jpg
GEO:41.8471438;3.1286356
X-APPLE-STRUCTURED-LOCATION;VALUE=URI;X-ADDRESS=Teatre La Gorga Carrer Notaries Palamós 17230 Espanya;X-APPLE-RADIUS=500;X-TITLE=Carrer Notaries:geo:3.1286356,41.8471438
END:VEVENT
BEGIN:VEVENT
DTSTART;TZID=Europe/Madrid:20231117T193000
DTEND;TZID=Europe/Madrid:20231117T203000
DTSTAMP:20260419T154409
CREATED:20231109T100434Z
LAST-MODIFIED:20231109T100729Z
UID:10000467-1700249400-1700253000@infopalamos.cat
SUMMARY:Presentació del llibre: El termenal de Sant Joan
DESCRIPTION:Presentació del llibre El termenal de Sant Joan\, a càrrec de Pere Llauradó\, autor del llibre i president del Club Alpí Palamós\, i Josep Olivé\, coneixedor del termenal i membre de l’Associació de Veïns de Sant Joan.Organitza: Club Alpí PalamósCol·labora: Veïns de Sant Joan de Palamós i Ajuntament de PalamósAmb el suport de: Diputació de Girona \n\n\n\nClub Alpí Palamós 8
URL:https://infopalamos.cat/esdeveniment/presentacio-de-llibre-el-termenal-de-sant-joan/
LOCATION:Local polivalent\, Plaça Mossèn Gumersind\, Palamós\, 17230
CATEGORIES:Cultura i Patrimoni
ATTACH;FMTTYPE=image/jpeg:https://infopalamos.cat/wp-content/uploads/2023/11/IMG-20231109-WA0000.jpg
END:VEVENT
BEGIN:VEVENT
DTSTART;TZID=Europe/Madrid:20231019T080000
DTEND;TZID=Europe/Madrid:20231019T130000
DTSTAMP:20260419T154409
CREATED:20231019T101447Z
LAST-MODIFIED:20231019T103837Z
UID:10000381-1697702400-1697720400@infopalamos.cat
SUMMARY:19a Marxa dels Traginers
DESCRIPTION:Club Alpí Palamós 10\n\n\n\nDes de la primera edició l’any 2004\, el Club Alpí Palamós segueix treballant amb la mateixa passió que el primer dia per mantenir atractiva aquesta marxa\, ja més que consolidada al nostre territori. \n\n\n\nCom sempre comptem amb 2 modalitats de marxa:La curta de 9km /300 D+ i la llarga 16km i 600 D+
URL:https://infopalamos.cat/esdeveniment/19a-marxa-dels-traginers/
CATEGORIES:Esports i Salut
ATTACH;FMTTYPE=image/jpeg:https://infopalamos.cat/wp-content/uploads/2023/10/banner-marxa-traginers.jpg
END:VEVENT
END:VCALENDAR