BEGIN:VCALENDAR
VERSION:2.0
PRODID:-//Ajuntament de Palamós - Notícies i Agenda - ECPv6.15.20//NONSGML v1.0//EN
CALSCALE:GREGORIAN
METHOD:PUBLISH
X-WR-CALNAME:Ajuntament de Palamós - Notícies i Agenda
X-ORIGINAL-URL:https://infopalamos.cat
X-WR-CALDESC:Esdeveniments per Ajuntament de Palamós - Notícies i Agenda
REFRESH-INTERVAL;VALUE=DURATION:PT1H
X-Robots-Tag:noindex
X-PUBLISHED-TTL:PT1H
BEGIN:VTIMEZONE
TZID:Europe/Madrid
BEGIN:DAYLIGHT
TZOFFSETFROM:+0100
TZOFFSETTO:+0200
TZNAME:CEST
DTSTART:20230326T010000
END:DAYLIGHT
BEGIN:STANDARD
TZOFFSETFROM:+0200
TZOFFSETTO:+0100
TZNAME:CET
DTSTART:20231029T010000
END:STANDARD
BEGIN:DAYLIGHT
TZOFFSETFROM:+0100
TZOFFSETTO:+0200
TZNAME:CEST
DTSTART:20240331T010000
END:DAYLIGHT
BEGIN:STANDARD
TZOFFSETFROM:+0200
TZOFFSETTO:+0100
TZNAME:CET
DTSTART:20241027T010000
END:STANDARD
BEGIN:DAYLIGHT
TZOFFSETFROM:+0100
TZOFFSETTO:+0200
TZNAME:CEST
DTSTART:20250330T010000
END:DAYLIGHT
BEGIN:STANDARD
TZOFFSETFROM:+0200
TZOFFSETTO:+0100
TZNAME:CET
DTSTART:20251026T010000
END:STANDARD
BEGIN:DAYLIGHT
TZOFFSETFROM:+0100
TZOFFSETTO:+0200
TZNAME:CEST
DTSTART:20260329T010000
END:DAYLIGHT
BEGIN:STANDARD
TZOFFSETFROM:+0200
TZOFFSETTO:+0100
TZNAME:CET
DTSTART:20261025T010000
END:STANDARD
BEGIN:DAYLIGHT
TZOFFSETFROM:+0100
TZOFFSETTO:+0200
TZNAME:CEST
DTSTART:20270328T010000
END:DAYLIGHT
BEGIN:STANDARD
TZOFFSETFROM:+0200
TZOFFSETTO:+0100
TZNAME:CET
DTSTART:20271031T010000
END:STANDARD
END:VTIMEZONE
BEGIN:VEVENT
DTSTART;TZID=Europe/Madrid:20260320T200000
DTEND;TZID=Europe/Madrid:20260320T213000
DTSTAMP:20260420T162111
CREATED:20251209T120056Z
LAST-MODIFIED:20251209T120059Z
UID:10012973-1774036800-1774042200@infopalamos.cat
SUMMARY:Doble estrena de dansa
DESCRIPTION:ACTIVITAT ACOLLIDA \n\n\n\nCobosmika SEEDs \n\n\n\nDirecció artística SEEDs: Olga Cobos i Peter Mika \n\n\n\nDirecció coreogràfica i escènica:  Sarah Baltzinger i una de Vladislav Šoltýs. \n\n\n\nIntèrprets:  SEEDs company 2025/26 i SEEDs RED 2025/26 \n\n\n\n​ \n\n\n\nDansa contemporània \n\n\n\nAmb una estètica radical i orgànica\, Sarah Baltzinger qüestiona els límits del cos i la seva transformació i crea un univers hipnòtic entre mecànica i emoció.  \n\n\n\nVladislav Šoltýs proposa una dansa d’intensitat física i escolta interna\, on el cos esdevé pont entre control i abandonament\, presència i espai. \n\n\n\nLloc: Teatre La Gorga \n\n\n\nDurada: 60 minuts \n\n\n\nPreu: 6 € / reduïda i estudiants de dansa 4 € (www.lagorga.cat) \n\n\n\nOrganitza: CobosMika company \n\n\n\n\n\n\n\n\n\n\n\n\n\n\n\n\n\nCobosmika Company 2
URL:https://infopalamos.cat/esdeveniment/doble-estrena-de-dansa-3/
LOCATION:Teatre La Gorga\, Carrer Notaries\, Palamós\, 17230\, Espanya
CATEGORIES:Cultura i Patrimoni,Espectacles i Oci
ATTACH;FMTTYPE=image/jpeg:https://infopalamos.cat/wp-content/uploads/2025/12/21-Cobosmika-20Marc©Joe-Hogan_WEB.jpg
GEO:41.8471438;3.1286356
X-APPLE-STRUCTURED-LOCATION;VALUE=URI;X-ADDRESS=Teatre La Gorga Carrer Notaries Palamós 17230 Espanya;X-APPLE-RADIUS=500;X-TITLE=Carrer Notaries:geo:3.1286356,41.8471438
END:VEVENT
BEGIN:VEVENT
DTSTART;TZID=Europe/Madrid:20260220T200000
DTEND;TZID=Europe/Madrid:20260220T213000
DTSTAMP:20260420T162111
CREATED:20251209T114735Z
LAST-MODIFIED:20251209T114737Z
UID:10012964-1771617600-1771623000@infopalamos.cat
SUMMARY:Doble estrena de dansa
DESCRIPTION:ACTIVITAT ACOLLIDA \n\n\n\nCobosmika SEEDs \n\n\n\nDirecció artística SEEDs: Olga Cobos i Peter Mika \n\n\n\nDirecció coreogràfica i escènica: Peter Mika i Francesco Gammino \n\n\n\nIntèrprets: SEEDs RED 2025/26 i SEEDs company 2025/26 \n\n\n\n​ \n\n\n\nDansa contemporània \n\n\n\nUna nova creació de Francesco Gammino i la peça de repertori de Peter Mika Sigil of the Eye. \n\n\n\nLa creació de Francesco Gammino presenta un llenguatge coreogràfic intens i visceral\, que explora la corporeïtat\, l’arrelament i la potència expressiva del cos. \n\n\n\nLa peça de repertori de Peter Mika\, Sigil of the Eye\, posa en joc una estètica ja consolidada\, de força física i sensibilitat poètica\, que convida a la contemplació i al registre interior. \n\n\n\nLloc: Teatre La Gorga \n\n\n\nDurada: 60 minuts \n\n\n\nPreu: 6 € / reduïda i estudiants de dansa 4 € (www.lagorga.cat) \n\n\n\nOrganitza: CobosMika company \n\n\n\n\n\n\n\n\n\n\n\n\n\n\n\n\n\nCobosmika Company 4
URL:https://infopalamos.cat/esdeveniment/doble-estrena-de-dansa-2/
LOCATION:Teatre La Gorga\, Carrer Notaries\, Palamós\, 17230\, Espanya
CATEGORIES:Cultura i Patrimoni,Espectacles i Oci
ATTACH;FMTTYPE=image/jpeg:https://infopalamos.cat/wp-content/uploads/2025/12/13-Cobosmika-20Febrer©inte.r.val_WEB.jpg
GEO:41.8471438;3.1286356
X-APPLE-STRUCTURED-LOCATION;VALUE=URI;X-ADDRESS=Teatre La Gorga Carrer Notaries Palamós 17230 Espanya;X-APPLE-RADIUS=500;X-TITLE=Carrer Notaries:geo:3.1286356,41.8471438
END:VEVENT
BEGIN:VEVENT
DTSTART;TZID=Europe/Madrid:20250321T203000
DTEND;TZID=Europe/Madrid:20250321T213000
DTSTAMP:20260420T162111
CREATED:20241216T112237Z
LAST-MODIFIED:20241216T112238Z
UID:10006087-1742589000-1742592600@infopalamos.cat
SUMMARY:Doble estrena de dansa a càrrec de Cobosmika SEEDs
DESCRIPTION:ACTIVITAT ACOLLIDA \n\n\n\nCoreògrafs: Albert Galindo i Fanny Laï & Maïlee Mottou \n\n\n\nRepetidor: Claire Pernette \n\n\n\nIntèrprets: SEEDs company i SEEDs Red \n\n\n\n​ \n\n\n\nDansa contemporània \n\n\n\nDues peces de dansa creades per joves coreògrafs de l’escena contemporània internacional\, en les quals el moviment\, la sensualitat\, el ritme i la música s’enllacen per explicar-nos una història. \n\n\n\nLloc: Teatre La Gorga \n\n\n\nDurada: 60 minuts \n\n\n\nPreu: 6 € / reduïda i estudiants de dansa 4 € (www.lagorga.cat) \n\n\n\nOrganitza: CobosMika company  \n\n\n\n\n\n\n\n\n\n\n\n\n\n\n\n\n\nCobosmika Company 6
URL:https://infopalamos.cat/esdeveniment/doble-estrena-de-dansa-a-carrec-de-cobosmika-seeds/
LOCATION:Teatre La Gorga\, Carrer Notaries\, Palamós\, 17230\, Espanya
CATEGORIES:Cultura i Patrimoni,Espectacles i Oci,Joventut
ATTACH;FMTTYPE=image/png:https://infopalamos.cat/wp-content/uploads/2024/12/20-Cobosmika_WEB.png
GEO:41.8471438;3.1286356
X-APPLE-STRUCTURED-LOCATION;VALUE=URI;X-ADDRESS=Teatre La Gorga Carrer Notaries Palamós 17230 Espanya;X-APPLE-RADIUS=500;X-TITLE=Carrer Notaries:geo:3.1286356,41.8471438
END:VEVENT
BEGIN:VEVENT
DTSTART;TZID=Europe/Madrid:20250214T203000
DTEND;TZID=Europe/Madrid:20250214T213000
DTSTAMP:20260420T162111
CREATED:20241216T110212Z
LAST-MODIFIED:20241216T110214Z
UID:10006078-1739565000-1739568600@infopalamos.cat
SUMMARY:Nit de dansa amb repertori de La Veronal i La Setena Cara del Dau a càrrec de CoboMika Company
DESCRIPTION:ACTIVITAT ACOLLIDA \n\n\n\nCoreògrafs: Marcos Morau (La Veronal) i Peter Mika \n\n\n\nRepetidors: La Veronal i Claire Pernette \n\n\n\nInterpretació: SEEDs company i SEEDs Red \n\n\n\n​ \n\n\n\nDansa contemporània \n\n\n\nSEEDs company ens presenten un extracte de la peça “Tundra” de la companyia la Veronal del coreògraf Marcos Morau. \n\n\n\nUna obra elegant i atmosfèrica ideada a partir dels conceptes del coreògraf sobre “Rússia” i “Revolució”. \n\n\n\nLa tundra és una terra on no hi creix res\, així que tot és una possibilitat. \n\n\n\nSEEDs red presenten La Setena Cara del Dau de CobosMika Company una peça inspirada el fotògraf txec Josef Sudek\, a través del moviment dels ballarins ens endinsem en el reflex de les relacions personals amb el món que ens envolta\, de formar part d’un univers de penombra\, intimista i melancòlic.  \n\n\n\nLloc: Teatre La Gorga \n\n\n\nDurada: 60 minuts \n\n\n\nPreu: 6 € / reduïda i estudiants de dansa 4 € (www.lagorga.cat) \n\n\n\nOrganitza: CobosMika company  \n\n\n\n\n\n\n\n\n\n\n\n\n\n\n\n\n\nCobosmika Company 8
URL:https://infopalamos.cat/esdeveniment/nit-de-dansa-amb-repertori-de-la-veronal-i-la-setena-cara-del-dau-a-carrec-de-cobomika-company/
LOCATION:Teatre La Gorga\, Carrer Notaries\, Palamós\, 17230\, Espanya
CATEGORIES:Cultura i Patrimoni,Espectacles i Oci
ATTACH;FMTTYPE=image/jpeg:https://infopalamos.cat/wp-content/uploads/2024/12/11-Cobosmika_WEB.jpg
GEO:41.8471438;3.1286356
X-APPLE-STRUCTURED-LOCATION;VALUE=URI;X-ADDRESS=Teatre La Gorga Carrer Notaries Palamós 17230 Espanya;X-APPLE-RADIUS=500;X-TITLE=Carrer Notaries:geo:3.1286356,41.8471438
END:VEVENT
BEGIN:VEVENT
DTSTART;TZID=Europe/Madrid:20240322T203000
DTEND;TZID=Europe/Madrid:20240322T210000
DTSTAMP:20260420T162111
CREATED:20231212T110518Z
LAST-MODIFIED:20231212T112602Z
UID:10000666-1711139400-1711141200@infopalamos.cat
SUMMARY:Doble estrena de dansa
DESCRIPTION:ACTIVITAT ACOLLIDA \n\n\n\nDIVENDRES 22 DE MARÇ A LES 20.30 h \n\n\n\nCobosmika SEEDs \n\n\n\nCoreògrafs: Jos Baker i Kiko López \n\n\n\nRepetidors: Coralie Arnoult i Manel Salas \n\n\n\nInterpretació: SEEDs company i SEEDs Red \n\n\n\n​ \n\n\n\nDansa contemporània \n\n\n\nDues peces de dansa creades per dos coreògrafs de l’escena contemporània internacional en les que el moviment\, la sensualitat\, el ritme i la música s’enllacen per explicar-nos una història. \n\n\n\nLloc: Teatre La Gorga \n\n\n\nDurada: 60 minuts \n\n\n\nPreu: 6 € / reduïda i estudiants de dansa 4 € (www.lagorga.cat) \n\n\n\nOrganitza: CobosMika company
URL:https://infopalamos.cat/esdeveniment/doble-estrena-de-dansa/
LOCATION:Teatre La Gorga\, Carrer Notaries\, Palamós\, 17230\, Espanya
CATEGORIES:Cultura i Patrimoni,Espectacles i Oci
ATTACH;FMTTYPE=image/jpeg:https://infopalamos.cat/wp-content/uploads/2023/12/23-Cobosmika.jpg
GEO:41.8471438;3.1286356
X-APPLE-STRUCTURED-LOCATION;VALUE=URI;X-ADDRESS=Teatre La Gorga Carrer Notaries Palamós 17230 Espanya;X-APPLE-RADIUS=500;X-TITLE=Carrer Notaries:geo:3.1286356,41.8471438
END:VEVENT
BEGIN:VEVENT
DTSTART;TZID=Europe/Madrid:20240216T203000
DTEND;TZID=Europe/Madrid:20240216T210000
DTSTAMP:20260420T162111
CREATED:20231212T105246Z
LAST-MODIFIED:20231212T105248Z
UID:10000657-1708115400-1708117200@infopalamos.cat
SUMMARY:Festival ONA-Dance: Doble estrena de dansa a càrrec de Cobosmika SEEDs
DESCRIPTION:ACTIVITAT ACOLLIDA \n\n\n\nDIVENDRES 16 DE FEBRER A LES 20.30 h \n\n\n\nDoble estrena de dansa \n\n\n\nCobosmika SEEDs \n\n\n\nCoreògrafs: Hotel Col·lectiu Escènic (Anna Hierro i Laia Duran) i Peter Mika \n\n\n\nRepetidores: Manel Salas i Claire Pernette \n\n\n\nInterpretació: SEEDs company i SEEDs Red \n\n\n\n​ \n\n\n\nDansa contemporània \n\n\n\nSEEDs company ens presenten una nova creació de la mà d’Hotel Col·lectiu Escènic on a través del moviment les coreògrafes construeixen junt amb els ballarins un punt de trobada i ens permeten introduir-nos en el seu imaginari\, el seu món\, i compartir-lo amb totes nosaltres. \n\n\n\nSEEDs red presenten The Triumph una peça inspirada en l’obra pictòrica de Tamara Lempicka. Mitjançant aquesta inspiració la peça ens transportarà a un esclat de moviment\, sensualitat\, luxe i contemporaneïtat. \n\n\n\nLloc: Teatre La Gorga \n\n\n\nDurada: 60 minuts \n\n\n\nPreu: 6 € / reduïda i estudiants de dansa 4 € (www.lagorga.cat) \n\n\n\nOrganitza: CobosMika company
URL:https://infopalamos.cat/esdeveniment/festival-ona-dance-doble-estrena-de-dansa-a-carrec-de-cobosmika-seeds/
LOCATION:Teatre La Gorga\, Carrer Notaries\, Palamós\, 17230\, Espanya
CATEGORIES:Cultura i Patrimoni,Espectacles i Oci
ATTACH;FMTTYPE=image/jpeg:https://infopalamos.cat/wp-content/uploads/2023/12/14-CobosMikasegil0053.jpg
GEO:41.8471438;3.1286356
X-APPLE-STRUCTURED-LOCATION;VALUE=URI;X-ADDRESS=Teatre La Gorga Carrer Notaries Palamós 17230 Espanya;X-APPLE-RADIUS=500;X-TITLE=Carrer Notaries:geo:3.1286356,41.8471438
END:VEVENT
END:VCALENDAR