BEGIN:VCALENDAR
VERSION:2.0
PRODID:-//Ajuntament de Palamós - Notícies i Agenda - ECPv6.15.20//NONSGML v1.0//EN
CALSCALE:GREGORIAN
METHOD:PUBLISH
X-WR-CALNAME:Ajuntament de Palamós - Notícies i Agenda
X-ORIGINAL-URL:https://infopalamos.cat
X-WR-CALDESC:Esdeveniments per Ajuntament de Palamós - Notícies i Agenda
REFRESH-INTERVAL;VALUE=DURATION:PT1H
X-Robots-Tag:noindex
X-PUBLISHED-TTL:PT1H
BEGIN:VTIMEZONE
TZID:Europe/Madrid
BEGIN:DAYLIGHT
TZOFFSETFROM:+0100
TZOFFSETTO:+0200
TZNAME:CEST
DTSTART:20230326T010000
END:DAYLIGHT
BEGIN:STANDARD
TZOFFSETFROM:+0200
TZOFFSETTO:+0100
TZNAME:CET
DTSTART:20231029T010000
END:STANDARD
BEGIN:DAYLIGHT
TZOFFSETFROM:+0100
TZOFFSETTO:+0200
TZNAME:CEST
DTSTART:20240331T010000
END:DAYLIGHT
BEGIN:STANDARD
TZOFFSETFROM:+0200
TZOFFSETTO:+0100
TZNAME:CET
DTSTART:20241027T010000
END:STANDARD
BEGIN:DAYLIGHT
TZOFFSETFROM:+0100
TZOFFSETTO:+0200
TZNAME:CEST
DTSTART:20250330T010000
END:DAYLIGHT
BEGIN:STANDARD
TZOFFSETFROM:+0200
TZOFFSETTO:+0100
TZNAME:CET
DTSTART:20251026T010000
END:STANDARD
BEGIN:DAYLIGHT
TZOFFSETFROM:+0100
TZOFFSETTO:+0200
TZNAME:CEST
DTSTART:20260329T010000
END:DAYLIGHT
BEGIN:STANDARD
TZOFFSETFROM:+0200
TZOFFSETTO:+0100
TZNAME:CET
DTSTART:20261025T010000
END:STANDARD
BEGIN:DAYLIGHT
TZOFFSETFROM:+0100
TZOFFSETTO:+0200
TZNAME:CEST
DTSTART:20270328T010000
END:DAYLIGHT
BEGIN:STANDARD
TZOFFSETFROM:+0200
TZOFFSETTO:+0100
TZNAME:CET
DTSTART:20271031T010000
END:STANDARD
END:VTIMEZONE
BEGIN:VEVENT
DTSTART;TZID=Europe/Madrid:20260228T000000
DTEND;TZID=Europe/Madrid:20260228T235959
DTSTAMP:20260419T151053
CREATED:20260127T072006Z
LAST-MODIFIED:20260127T072007Z
UID:10013068-1772236800-1772323199@infopalamos.cat
SUMMARY:Donació de Sang al CAP de Palamós
DESCRIPTION:Per disposar sempre de Sang suficient i segura\, cal que incorporem la Donació de Sang i Plasma com una forma de participació cívica en la societat. \n\nDONACIÓ SANG – PALAMÓS\n\n\n\n\n\n\n\n\n\nDissabte 28 febrer 2026  De 10 a 14 i de 16 a 20.30 h. \n        CAP PALAMÓS\n   Es pot fer CITA PRÈVIA\n\n\n     donarsang.gencat.cat
URL:https://infopalamos.cat/esdeveniment/donacio-de-sang-al-cap-de-palamos-3/
LOCATION:Edifici Fleming – CAP Palamós\, Carrer Hospital\, 17\, Palamós\, Girona\, 17230\, Espanya
CATEGORIES:Esports i Salut
ATTACH;FMTTYPE=image/jpeg:https://infopalamos.cat/wp-content/uploads/2026/01/Donacio-de-Sang.jpg
ORGANIZER;CN="Donants de Sang Palam%C3%B3s":MAILTO:acarrenotapia@yahoo.es
END:VEVENT
BEGIN:VEVENT
DTSTART;TZID=Europe/Madrid:20251115T000000
DTEND;TZID=Europe/Madrid:20251115T235959
DTSTAMP:20260419T151053
CREATED:20251009T060354Z
LAST-MODIFIED:20251009T060357Z
UID:10012674-1763164800-1763251199@infopalamos.cat
SUMMARY:Donació de Sang al CAP de Palamós
DESCRIPTION:Per disposar sempre de sang suficient i segura\, cal que incorporem la donació de sang i plasma com un hàbit a la nostra vida i com una forma de participació cívica en la societat. \n\n\nDONACIÓ DE SANG – PALAMÓS\n\n\n\n\n      Dissabte\, 15 de novembre 2025      De 10 a 14 i de 16 a 20.30 h. \n     CAP PALAMÓS
URL:https://infopalamos.cat/esdeveniment/donacio-de-sang-al-cap-de-palamos-2/
LOCATION:Edifici Fleming – CAP Palamós\, Carrer Hospital\, 17\, Palamós\, Girona\, 17230\, Espanya
CATEGORIES:Esports i Salut
ATTACH;FMTTYPE=image/jpeg:https://infopalamos.cat/wp-content/uploads/2025/10/X-Baix-Emporda.jpg
ORGANIZER;CN="Donants de Sang Palam%C3%B3s":MAILTO:acarrenotapia@yahoo.es
END:VEVENT
BEGIN:VEVENT
DTSTART;TZID=Europe/Madrid:20250913T100000
DTEND;TZID=Europe/Madrid:20250913T210000
DTSTAMP:20260419T151053
CREATED:20250901T090552Z
LAST-MODIFIED:20250901T090554Z
UID:10012375-1757757600-1757797200@infopalamos.cat
SUMMARY:Doble jornada de donació de sang
DESCRIPTION:Els dies 12 i 13 de setembre\, de 10 a 14 h i de 17 a 21 h\, jornada de donació de sang al passeig del Mar de Palamós. \n\n\n\n\n\n\n\n\n\n\n\n\n\n\n\n\n\nDonants de Sang Palamós 2
URL:https://infopalamos.cat/esdeveniment/doble-jornada-de-donacio-de-sang/2025-09-13/
LOCATION:Passeig del Mar\, Palamós\, Passeig del Mar\, Palamós\, 17230\, Espanya
CATEGORIES:Esports i Salut
ATTACH;FMTTYPE=image/jpeg:https://infopalamos.cat/wp-content/uploads/2025/09/CA3_mcas42_palamos_bus_al_passeig-00000002-1-e1756717491126.jpg
ORGANIZER;CN="Donants de Sang Palam%C3%B3s":MAILTO:acarrenotapia@yahoo.es
GEO:41.8486697;3.1237085
X-APPLE-STRUCTURED-LOCATION;VALUE=URI;X-ADDRESS=Passeig del Mar Palamós Passeig del Mar Palamós 17230 Espanya;X-APPLE-RADIUS=500;X-TITLE=Passeig del Mar:geo:3.1237085,41.8486697
END:VEVENT
BEGIN:VEVENT
DTSTART;TZID=Europe/Madrid:20250912T100000
DTEND;TZID=Europe/Madrid:20250912T210000
DTSTAMP:20260419T151053
CREATED:20250901T090552Z
LAST-MODIFIED:20250901T090554Z
UID:10012374-1757671200-1757710800@infopalamos.cat
SUMMARY:Doble jornada de donació de sang
DESCRIPTION:Els dies 12 i 13 de setembre\, de 10 a 14 h i de 17 a 21 h\, jornada de donació de sang al passeig del Mar de Palamós. \n\n\n\n\n\n\n\n\n\n\n\n\n\n\n\n\n\nDonants de Sang Palamós 4
URL:https://infopalamos.cat/esdeveniment/doble-jornada-de-donacio-de-sang/2025-09-12/
LOCATION:Passeig del Mar\, Palamós\, Passeig del Mar\, Palamós\, 17230\, Espanya
CATEGORIES:Esports i Salut
ATTACH;FMTTYPE=image/jpeg:https://infopalamos.cat/wp-content/uploads/2025/09/CA3_mcas42_palamos_bus_al_passeig-00000002-1-e1756717491126.jpg
ORGANIZER;CN="Donants de Sang Palam%C3%B3s":MAILTO:acarrenotapia@yahoo.es
GEO:41.8486697;3.1237085
X-APPLE-STRUCTURED-LOCATION;VALUE=URI;X-ADDRESS=Passeig del Mar Palamós Passeig del Mar Palamós 17230 Espanya;X-APPLE-RADIUS=500;X-TITLE=Passeig del Mar:geo:3.1237085,41.8486697
END:VEVENT
BEGIN:VEVENT
DTSTART;TZID=Europe/Madrid:20250806T170000
DTEND;TZID=Europe/Madrid:20250806T210000
DTSTAMP:20260419T151053
CREATED:20250709T102715Z
LAST-MODIFIED:20250709T102717Z
UID:10011472-1754499600-1754514000@infopalamos.cat
SUMMARY:Donació de Sang al passeig del Mar
DESCRIPTION:DONACIÓ DE SANG – PALAMÓS\nDilluns 4\, dimarts 5 i dimecres 6 d’agost\n17 a 21 h a la carpa ubicada al passeig del Mar
URL:https://infopalamos.cat/esdeveniment/donacio-de-sang-al-passeig-del-mar-3/
LOCATION:Passeig del Mar\, Palamós\, Passeig del Mar\, Palamós\, 17230\, Espanya
CATEGORIES:Esports i Salut
ATTACH;FMTTYPE=image/jpeg:https://infopalamos.cat/wp-content/uploads/2025/07/4_5_6082024-Palamos-2.jpg
ORGANIZER;CN="Donants de Sang Palam%C3%B3s":MAILTO:acarrenotapia@yahoo.es
GEO:41.8486697;3.1237085
X-APPLE-STRUCTURED-LOCATION;VALUE=URI;X-ADDRESS=Passeig del Mar Palamós Passeig del Mar Palamós 17230 Espanya;X-APPLE-RADIUS=500;X-TITLE=Passeig del Mar:geo:3.1237085,41.8486697
END:VEVENT
BEGIN:VEVENT
DTSTART;TZID=Europe/Madrid:20250805T170000
DTEND;TZID=Europe/Madrid:20250805T210000
DTSTAMP:20260419T151053
CREATED:20250709T094013Z
LAST-MODIFIED:20250709T094015Z
UID:10011474-1754413200-1754427600@infopalamos.cat
SUMMARY:Donació de Sang al passeig del Mar
DESCRIPTION: \nDONACIÓ DE SANG – PALAMÓS\nDilluns 4\, dimarts 5 i dimecres 6 d’agost\n17 a 21 h a la carpa ubicada al passeig del Mar
URL:https://infopalamos.cat/esdeveniment/donacio-de-sang-al-passeig-del-mar-2/
LOCATION:Passeig del Mar\, Palamós\, Passeig del Mar\, Palamós\, 17230\, Espanya
CATEGORIES:Esports i Salut
ATTACH;FMTTYPE=image/jpeg:https://infopalamos.cat/wp-content/uploads/2025/07/4_5_6082024-Palamos-4.jpg
ORGANIZER;CN="Donants de Sang Palam%C3%B3s":MAILTO:acarrenotapia@yahoo.es
GEO:41.8486697;3.1237085
X-APPLE-STRUCTURED-LOCATION;VALUE=URI;X-ADDRESS=Passeig del Mar Palamós Passeig del Mar Palamós 17230 Espanya;X-APPLE-RADIUS=500;X-TITLE=Passeig del Mar:geo:3.1237085,41.8486697
END:VEVENT
BEGIN:VEVENT
DTSTART;TZID=Europe/Madrid:20250804T170000
DTEND;TZID=Europe/Madrid:20250804T210000
DTSTAMP:20260419T151053
CREATED:20250709T102611Z
LAST-MODIFIED:20250709T102613Z
UID:10011469-1754326800-1754341200@infopalamos.cat
SUMMARY:Donació de Sang Passeig del Mar
DESCRIPTION:Bon dia\,\nSoc Anna M. de l’Associació de Donants de Sang de Girona.\nCom a totes les campanyes\, necessitem que ens ajudeu a fer la màxima difusió.\nTenim les reserves molt baixes.\nAdjunto cartell\n\nDONACIÓ DE SANG – PALAMÓS\nDilluns 4- Dimats 5 – Dimecres 6\n        De 17 a 21 h.\n Carpa al Passeig del Mar
URL:https://infopalamos.cat/esdeveniment/donacio-de-sang-passeig-del-mar-2/
LOCATION:Passeig del Mar\, Palamós\, Passeig del Mar\, Palamós\, 17230\, Espanya
CATEGORIES:Esports i Salut
ATTACH;FMTTYPE=image/jpeg:https://infopalamos.cat/wp-content/uploads/2025/07/4_5_6082024-Palamos.jpg
ORGANIZER;CN="Donants de Sang Palam%C3%B3s":MAILTO:acarrenotapia@yahoo.es
GEO:41.8486697;3.1237085
X-APPLE-STRUCTURED-LOCATION;VALUE=URI;X-ADDRESS=Passeig del Mar Palamós Passeig del Mar Palamós 17230 Espanya;X-APPLE-RADIUS=500;X-TITLE=Passeig del Mar:geo:3.1237085,41.8486697
END:VEVENT
BEGIN:VEVENT
DTSTART;TZID=Europe/Madrid:20250708T170000
DTEND;TZID=Europe/Madrid:20250708T210000
DTSTAMP:20260419T151053
CREATED:20250709T093835Z
LAST-MODIFIED:20250709T093837Z
UID:10011473-1751994000-1752008400@infopalamos.cat
SUMMARY:Donació de Sang al passeig del Mar
DESCRIPTION:DONACIÓ DE SANG – PALAMÓS\nDilluns 4\, dimarts 5 i dimecres 6 d’agost\n17 a 21 h a la carpa del passeig del Mar
URL:https://infopalamos.cat/esdeveniment/donacio-de-sang-al-passeig-del-mar/
LOCATION:Passeig del Mar\, Palamós\, Passeig del Mar\, Palamós\, 17230\, Espanya
CATEGORIES:Esports i Salut
ATTACH;FMTTYPE=image/jpeg:https://infopalamos.cat/wp-content/uploads/2025/07/4_5_6082024-Palamos-3.jpg
ORGANIZER;CN="Donants de Sang Palam%C3%B3s":MAILTO:acarrenotapia@yahoo.es
GEO:41.8486697;3.1237085
X-APPLE-STRUCTURED-LOCATION;VALUE=URI;X-ADDRESS=Passeig del Mar Palamós Passeig del Mar Palamós 17230 Espanya;X-APPLE-RADIUS=500;X-TITLE=Passeig del Mar:geo:3.1237085,41.8486697
END:VEVENT
BEGIN:VEVENT
DTSTART;TZID=Europe/Madrid:20250524T100000
DTEND;TZID=Europe/Madrid:20250524T203000
DTSTAMP:20260419T151053
CREATED:20250408T080951Z
LAST-MODIFIED:20250408T085133Z
UID:10007845-1748080800-1748118600@infopalamos.cat
SUMMARY:Donació de Sang al CAP de Palamós
DESCRIPTION:Campanya de Donació de Sang al CAP de Palamós. \nDONACIÓ DE SANG CAP PALAMÓS \nDISSABTE 24 DE MAIG 2025 \n10 a 14 h i de 16 a 20.30 h
URL:https://infopalamos.cat/esdeveniment/donacio-de-sang-al-cap-de-palamos/
LOCATION:Edifici Fleming – CAP Palamós\, Carrer Hospital\, 17\, Palamós\, Girona\, 17230\, Espanya
CATEGORIES:Esports i Salut
ATTACH;FMTTYPE=image/jpeg:https://infopalamos.cat/wp-content/uploads/2025/04/FOTO-scaled.jpg
ORGANIZER;CN="Donants de Sang Palam%C3%B3s":MAILTO:acarrenotapia@yahoo.es
END:VEVENT
BEGIN:VEVENT
DTSTART;TZID=Europe/Madrid:20250222T160000
DTEND;TZID=Europe/Madrid:20250222T203000
DTSTAMP:20260419T151053
CREATED:20250212T083922Z
LAST-MODIFIED:20250212T083923Z
UID:10007334-1740240000-1740256200@infopalamos.cat
SUMMARY:Donació de sang al CAP
DESCRIPTION:Jornada de donació de sang al CAP de Palamós. \n\n\n\nToca donar sang\, toca rebre vida! \n\n\n\n\n\n\n\n\n\n\n\n\n\n\n\n\n\nDonants de Sang Palamós 6
URL:https://infopalamos.cat/esdeveniment/donacio-de-sang-al-cap/2025-02-22/2/
LOCATION:Edifici Fleming – CAP Palamós\, Carrer Hospital\, 17\, Palamós\, Girona\, 17230\, Espanya
ORGANIZER;CN="Donants de Sang Palam%C3%B3s":MAILTO:acarrenotapia@yahoo.es
END:VEVENT
BEGIN:VEVENT
DTSTART;TZID=Europe/Madrid:20250222T100000
DTEND;TZID=Europe/Madrid:20250222T140000
DTSTAMP:20260419T151053
CREATED:20250212T083922Z
LAST-MODIFIED:20250212T083923Z
UID:10007333-1740218400-1740232800@infopalamos.cat
SUMMARY:Donació de sang al CAP
DESCRIPTION:Jornada de donació de sang al CAP de Palamós. \n\n\n\nToca donar sang\, toca rebre vida! \n\n\n\n\n\n\n\n\n\n\n\n\n\n\n\n\n\nDonants de Sang Palamós 8
URL:https://infopalamos.cat/esdeveniment/donacio-de-sang-al-cap/2025-02-22/1/
LOCATION:Edifici Fleming – CAP Palamós\, Carrer Hospital\, 17\, Palamós\, Girona\, 17230\, Espanya
ORGANIZER;CN="Donants de Sang Palam%C3%B3s":MAILTO:acarrenotapia@yahoo.es
END:VEVENT
BEGIN:VEVENT
DTSTART;TZID=Europe/Madrid:20241123T100000
DTEND;TZID=Europe/Madrid:20241123T210000
DTSTAMP:20260419T151053
CREATED:20241113T134217Z
LAST-MODIFIED:20241113T134218Z
UID:10005695-1732356000-1732395600@infopalamos.cat
SUMMARY:Marató de donació de sang
DESCRIPTION:El Banc de Sang i Teixits i l’Associació de Donants de Sang de Palamós organitzen una jornada solidària de donació de sang a la Nau dels 50 metres el dissabte 23 de novembre. \n\n\n\n10 a 14 h i de 16 a 21 h \n\n\n\nAmb activitats i tallers durant tot el dia! I la participació de diferents entitats municipals! \n\n\n\nReserva plaça aquí \n\n\n\n\n\n\n\n\n\n\n\n\n\n\n\n\n\nDonants de Sang Palamós 10
URL:https://infopalamos.cat/esdeveniment/marato-de-donacio-de-sang/
LOCATION:Nau dels 50 metres\, Carrer Londres\, Palamós\, Girona\, 17230\, Espanya
CATEGORIES:Esports i Salut
ATTACH;FMTTYPE=image/jpeg:https://infopalamos.cat/wp-content/uploads/2024/11/IG_mcas13_palamos_nau_dels_50.jpg
ORGANIZER;CN="Donants de Sang Palam%C3%B3s":MAILTO:acarrenotapia@yahoo.es
GEO:41.8510306;3.121172
X-APPLE-STRUCTURED-LOCATION;VALUE=URI;X-ADDRESS=Nau dels 50 metres Carrer Londres Palamós Girona 17230 Espanya;X-APPLE-RADIUS=500;X-TITLE=Carrer Londres:geo:3.121172,41.8510306
END:VEVENT
BEGIN:VEVENT
DTSTART;TZID=Europe/Madrid:20240807T170000
DTEND;TZID=Europe/Madrid:20240807T210000
DTSTAMP:20260419T151053
CREATED:20240806T085053Z
LAST-MODIFIED:20240806T085054Z
UID:10003633-1723050000-1723064400@infopalamos.cat
SUMMARY:Donació de Sang Passeig del Mar
DESCRIPTION:Carpa per la Donació de Sang al Passeig del Mar\, al costat del monument a la Gent del Mar. \n\n\n\n\n\nDONACIÓ DE SANG – PALAMÓS \n\n\n\nDilluns 5\, dimarts 6 i dimecres 7 d’agost 2024De 17 a 21 h. \n\n\n\nCarpa al Passeig del Mar \n\n\n\nMonuments als Pescadors \n\n\n\nEs pot reservar cita prèvia a donarsang.gencat.cat
URL:https://infopalamos.cat/esdeveniment/donacio-de-sang-passeig-del-mar/2024-08-07/
LOCATION:Passeig del Mar\, Palamós\, Passeig del Mar\, Palamós\, 17230\, Espanya
ATTACH;FMTTYPE=image/jpeg:https://infopalamos.cat/wp-content/uploads/2024/08/Carpa-Donacio-2023-scaled-1.jpg
ORGANIZER;CN="Donants de Sang Palam%C3%B3s":MAILTO:acarrenotapia@yahoo.es
GEO:41.8486697;3.1237085
X-APPLE-STRUCTURED-LOCATION;VALUE=URI;X-ADDRESS=Passeig del Mar Palamós Passeig del Mar Palamós 17230 Espanya;X-APPLE-RADIUS=500;X-TITLE=Passeig del Mar:geo:3.1237085,41.8486697
END:VEVENT
BEGIN:VEVENT
DTSTART;TZID=Europe/Madrid:20240806T170000
DTEND;TZID=Europe/Madrid:20240806T210000
DTSTAMP:20260419T151053
CREATED:20240806T085053Z
LAST-MODIFIED:20240806T085054Z
UID:10003632-1722963600-1722978000@infopalamos.cat
SUMMARY:Donació de Sang Passeig del Mar
DESCRIPTION:Carpa per la Donació de Sang al Passeig del Mar\, al costat del monument a la Gent del Mar. \n\n\n\n\n\nDONACIÓ DE SANG – PALAMÓS \n\n\n\nDilluns 5\, dimarts 6 i dimecres 7 d’agost 2024De 17 a 21 h. \n\n\n\nCarpa al Passeig del Mar \n\n\n\nMonuments als Pescadors \n\n\n\nEs pot reservar cita prèvia a donarsang.gencat.cat
URL:https://infopalamos.cat/esdeveniment/donacio-de-sang-passeig-del-mar/2024-08-06/
LOCATION:Passeig del Mar\, Palamós\, Passeig del Mar\, Palamós\, 17230\, Espanya
ATTACH;FMTTYPE=image/jpeg:https://infopalamos.cat/wp-content/uploads/2024/08/Carpa-Donacio-2023-scaled-1.jpg
ORGANIZER;CN="Donants de Sang Palam%C3%B3s":MAILTO:acarrenotapia@yahoo.es
GEO:41.8486697;3.1237085
X-APPLE-STRUCTURED-LOCATION;VALUE=URI;X-ADDRESS=Passeig del Mar Palamós Passeig del Mar Palamós 17230 Espanya;X-APPLE-RADIUS=500;X-TITLE=Passeig del Mar:geo:3.1237085,41.8486697
END:VEVENT
BEGIN:VEVENT
DTSTART;TZID=Europe/Madrid:20240525T160000
DTEND;TZID=Europe/Madrid:20240525T203000
DTSTAMP:20260419T151053
CREATED:20240514T122512Z
LAST-MODIFIED:20240514T122513Z
UID:10001940-1716652800-1716669000@infopalamos.cat
SUMMARY:Donació de sang
DESCRIPTION:Donació de sang a l’Escola Vedruna PalamósAmb la col·laboració dels alumnes de 3r d’ESO del Vedruna. \n\n\n\n\n\n\n\n\n\n\n\n\n\n\n\n\n\nDonants de Sang Palamós 12
URL:https://infopalamos.cat/esdeveniment/donacio-de-sang/2024-05-25/2/
LOCATION:Escola Vedruna Palamós\, c/ Xaloc\, 22\, Palamós\, Girona\, 17230
CATEGORIES:Esports i Salut
ATTACH;FMTTYPE=image/jpeg:https://infopalamos.cat/wp-content/uploads/2024/05/CA3_MCAS03_Palamos_Vedruna-1-e1715689446830.jpg
ORGANIZER;CN="Donants de Sang Palam%C3%B3s":MAILTO:acarrenotapia@yahoo.es
END:VEVENT
BEGIN:VEVENT
DTSTART;TZID=Europe/Madrid:20240525T100000
DTEND;TZID=Europe/Madrid:20240525T140000
DTSTAMP:20260419T151053
CREATED:20240514T122512Z
LAST-MODIFIED:20240514T122513Z
UID:10001939-1716631200-1716645600@infopalamos.cat
SUMMARY:Donació de sang
DESCRIPTION:Donació de sang a l’Escola Vedruna PalamósAmb la col·laboració dels alumnes de 3r d’ESO del Vedruna. \n\n\n\n\n\n\n\n\n\n\n\n\n\n\n\n\n\nDonants de Sang Palamós 14
URL:https://infopalamos.cat/esdeveniment/donacio-de-sang/2024-05-25/1/
LOCATION:Escola Vedruna Palamós\, c/ Xaloc\, 22\, Palamós\, Girona\, 17230
CATEGORIES:Esports i Salut
ATTACH;FMTTYPE=image/jpeg:https://infopalamos.cat/wp-content/uploads/2024/05/CA3_MCAS03_Palamos_Vedruna-1-e1715689446830.jpg
ORGANIZER;CN="Donants de Sang Palam%C3%B3s":MAILTO:acarrenotapia@yahoo.es
END:VEVENT
END:VCALENDAR