BEGIN:VCALENDAR
VERSION:2.0
PRODID:-//Ajuntament de Palamós - Notícies i Agenda - ECPv6.15.20//NONSGML v1.0//EN
CALSCALE:GREGORIAN
METHOD:PUBLISH
X-WR-CALNAME:Ajuntament de Palamós - Notícies i Agenda
X-ORIGINAL-URL:https://infopalamos.cat
X-WR-CALDESC:Esdeveniments per Ajuntament de Palamós - Notícies i Agenda
REFRESH-INTERVAL;VALUE=DURATION:PT1H
X-Robots-Tag:noindex
X-PUBLISHED-TTL:PT1H
BEGIN:VTIMEZONE
TZID:Europe/Madrid
BEGIN:DAYLIGHT
TZOFFSETFROM:+0100
TZOFFSETTO:+0200
TZNAME:CEST
DTSTART:20230326T010000
END:DAYLIGHT
BEGIN:STANDARD
TZOFFSETFROM:+0200
TZOFFSETTO:+0100
TZNAME:CET
DTSTART:20231029T010000
END:STANDARD
BEGIN:DAYLIGHT
TZOFFSETFROM:+0100
TZOFFSETTO:+0200
TZNAME:CEST
DTSTART:20240331T010000
END:DAYLIGHT
BEGIN:STANDARD
TZOFFSETFROM:+0200
TZOFFSETTO:+0100
TZNAME:CET
DTSTART:20241027T010000
END:STANDARD
BEGIN:DAYLIGHT
TZOFFSETFROM:+0100
TZOFFSETTO:+0200
TZNAME:CEST
DTSTART:20250330T010000
END:DAYLIGHT
BEGIN:STANDARD
TZOFFSETFROM:+0200
TZOFFSETTO:+0100
TZNAME:CET
DTSTART:20251026T010000
END:STANDARD
BEGIN:DAYLIGHT
TZOFFSETFROM:+0100
TZOFFSETTO:+0200
TZNAME:CEST
DTSTART:20260329T010000
END:DAYLIGHT
BEGIN:STANDARD
TZOFFSETFROM:+0200
TZOFFSETTO:+0100
TZNAME:CET
DTSTART:20261025T010000
END:STANDARD
END:VTIMEZONE
BEGIN:VEVENT
DTSTART;TZID=Europe/Madrid:20250420T103000
DTEND;TZID=Europe/Madrid:20250420T133000
DTSTAMP:20260420T180100
CREATED:20250408T072353Z
LAST-MODIFIED:20250408T072354Z
UID:10007847-1745145000-1745155800@infopalamos.cat
SUMMARY:Caramelles al carrer amb Escàlem Coral
DESCRIPTION:Escàlem Coral cantarà caramelles pels carrers de Sant Joan de Palamós i Palamós. El recorregut serà el següent: \n10.30 h davant l’Esglèsia de Sant Joan de Palamós. \n11.30 h carrer Cervantes\, carrer Dídac i Garrell\, carrer Major\, plaça de la Vila i Ajuntament. \n12.30 h plaça de l’Església de Palamós.
URL:https://infopalamos.cat/esdeveniment/caramelles-al-carrer-amb-escalem-coral/
CATEGORIES:Cultura i Patrimoni,Espectacles i Oci
ATTACH;FMTTYPE=image/jpeg:https://infopalamos.cat/wp-content/uploads/2025/04/1-CARTELL-CARAMELLES-ESCALEM-CORAL-2025-2-scaled.jpg
END:VEVENT
BEGIN:VEVENT
DTSTART;TZID=Europe/Madrid:20241214T200000
DTEND;TZID=Europe/Madrid:20241214T210000
DTSTAMP:20260420T180100
CREATED:20241107T094219Z
LAST-MODIFIED:20241205T133224Z
UID:10005676-1734206400-1734210000@infopalamos.cat
SUMMARY:Concert a l'església de Santa Maria del Mar
DESCRIPTION:Cantada de Nadales
URL:https://infopalamos.cat/esdeveniment/concert-a-lesglesia-de-santa-maria-del-mar/
LOCATION:Església de Santa Maria del Mar\, Carrer Ave Maria\, Palamós\, Girona\, 17230\, Spain
CATEGORIES:Cultura i Patrimoni,Nadal a Palamós
ATTACH;FMTTYPE=image/jpeg:https://infopalamos.cat/wp-content/uploads/2024/11/10-Escalem-Coral-2-scaled.jpg
GEO:41.8468194;3.1286785
X-APPLE-STRUCTURED-LOCATION;VALUE=URI;X-ADDRESS=Església de Santa Maria del Mar Carrer Ave Maria Palamós Girona 17230 Spain;X-APPLE-RADIUS=500;X-TITLE=Carrer Ave Maria:geo:3.1286785,41.8468194
END:VEVENT
END:VCALENDAR