BEGIN:VCALENDAR
VERSION:2.0
PRODID:-//Ajuntament de Palamós - Notícies i Agenda - ECPv6.15.20//NONSGML v1.0//EN
CALSCALE:GREGORIAN
METHOD:PUBLISH
X-ORIGINAL-URL:https://infopalamos.cat
X-WR-CALDESC:Esdeveniments per Ajuntament de Palamós - Notícies i Agenda
REFRESH-INTERVAL;VALUE=DURATION:PT1H
X-Robots-Tag:noindex
X-PUBLISHED-TTL:PT1H
BEGIN:VTIMEZONE
TZID:Europe/Madrid
BEGIN:DAYLIGHT
TZOFFSETFROM:+0100
TZOFFSETTO:+0200
TZNAME:CEST
DTSTART:20240331T010000
END:DAYLIGHT
BEGIN:STANDARD
TZOFFSETFROM:+0200
TZOFFSETTO:+0100
TZNAME:CET
DTSTART:20241027T010000
END:STANDARD
BEGIN:DAYLIGHT
TZOFFSETFROM:+0100
TZOFFSETTO:+0200
TZNAME:CEST
DTSTART:20250330T010000
END:DAYLIGHT
BEGIN:STANDARD
TZOFFSETFROM:+0200
TZOFFSETTO:+0100
TZNAME:CET
DTSTART:20251026T010000
END:STANDARD
BEGIN:DAYLIGHT
TZOFFSETFROM:+0100
TZOFFSETTO:+0200
TZNAME:CEST
DTSTART:20260329T010000
END:DAYLIGHT
BEGIN:STANDARD
TZOFFSETFROM:+0200
TZOFFSETTO:+0100
TZNAME:CET
DTSTART:20261025T010000
END:STANDARD
END:VTIMEZONE
BEGIN:VEVENT
DTSTART;TZID=Europe/Madrid:20251101T170000
DTEND;TZID=Europe/Madrid:20251101T200000
DTSTAMP:20260419T184939
CREATED:20251028T122652Z
LAST-MODIFIED:20251028T122653Z
UID:10012709-1762016400-1762027200@infopalamos.cat
SUMMARY:Tarda de terror al Port Marina
DESCRIPTION: Festa de Halloween 👻 \n\n\n\nL’1 de novembre\, de 17h a 20h\, prepara’t per viure una tarda plena de màgia i misteri… \n\n\n\n🎭 Tallers de maquillatge i pocions màgiques \n\n\n\n🏰 Inflables per als més petits \n\n\n\n🔥 Espectacle de foc i sorpreses que et deixaran bocabadat! \n\n\n\n🚗 Parking gratuït \n\n\n\n🎟️ Entrada 5 € \n\n\n\nQuan caigui la nit\, res serà el mateix al port… 🦇 \n\n\n\n\n\n\n\n\n\n\n\n\n\n\n\n\n\nPort Marina Palamós 2
URL:https://infopalamos.cat/esdeveniment/tarda-de-terror-al-port-marina/
LOCATION:Port Marina Palamós\, Carrer Salvador Albert i Pey\, 0\, Palamós\, Girona\, 17230\, Espanya
CATEGORIES:Castanyada - Tots Sants,Espectacles i Oci
ATTACH;FMTTYPE=image/png:https://infopalamos.cat/wp-content/uploads/2025/10/port-marina.png
GEO:41.8479902;3.1323998
X-APPLE-STRUCTURED-LOCATION;VALUE=URI;X-ADDRESS=Port Marina Palamós Carrer Salvador Albert i Pey 0 Palamós Girona 17230 Espanya;X-APPLE-RADIUS=500;X-TITLE=Carrer Salvador Albert i Pey\, 0:geo:3.1323998,41.8479902
END:VEVENT
END:VCALENDAR