BEGIN:VCALENDAR
VERSION:2.0
PRODID:-//Ajuntament de Palamós - Notícies i Agenda - ECPv6.15.20//NONSGML v1.0//EN
CALSCALE:GREGORIAN
METHOD:PUBLISH
X-ORIGINAL-URL:https://infopalamos.cat
X-WR-CALDESC:Esdeveniments per Ajuntament de Palamós - Notícies i Agenda
REFRESH-INTERVAL;VALUE=DURATION:PT1H
X-Robots-Tag:noindex
X-PUBLISHED-TTL:PT1H
BEGIN:VTIMEZONE
TZID:Europe/Madrid
BEGIN:DAYLIGHT
TZOFFSETFROM:+0100
TZOFFSETTO:+0200
TZNAME:CEST
DTSTART:20230326T010000
END:DAYLIGHT
BEGIN:STANDARD
TZOFFSETFROM:+0200
TZOFFSETTO:+0100
TZNAME:CET
DTSTART:20231029T010000
END:STANDARD
BEGIN:DAYLIGHT
TZOFFSETFROM:+0100
TZOFFSETTO:+0200
TZNAME:CEST
DTSTART:20240331T010000
END:DAYLIGHT
BEGIN:STANDARD
TZOFFSETFROM:+0200
TZOFFSETTO:+0100
TZNAME:CET
DTSTART:20241027T010000
END:STANDARD
BEGIN:DAYLIGHT
TZOFFSETFROM:+0100
TZOFFSETTO:+0200
TZNAME:CEST
DTSTART:20250330T010000
END:DAYLIGHT
BEGIN:STANDARD
TZOFFSETFROM:+0200
TZOFFSETTO:+0100
TZNAME:CET
DTSTART:20251026T010000
END:STANDARD
END:VTIMEZONE
BEGIN:VEVENT
DTSTART;TZID=Europe/Madrid:20241005T100000
DTEND;TZID=Europe/Madrid:20241005T200000
DTSTAMP:20260421T120348
CREATED:20241004T073534Z
LAST-MODIFIED:20241004T073535Z
UID:10004727-1728122400-1728158400@infopalamos.cat
SUMMARY:Parada solidària PROGAT Palamós i Sant Joan
DESCRIPTION:L’esdeveniment és una parada solidària on tots els articles que hi ha són donacions de simpatitzants de l’entitat. Articles com bijuteria\, decoració\, roba de segona mà\, llibres\, etc. \n\n\n\nEns trobareu a la plaça del Arbres\, cantonada amb c/ Major. \n\n\n\n\n\n\n\n\n\n\n\n\n\n\n\n\n\nProgat Palamós 2
URL:https://infopalamos.cat/esdeveniment/parada-solidaria-progat-palamos-i-sant-joan-4/
LOCATION:Plaça dels Arbres\, Palamós\, 17230
CATEGORIES:Medi Ambient
ATTACH;FMTTYPE=image/jpeg:https://infopalamos.cat/wp-content/uploads/2024/10/IMG-20210501-WA0037.jpg
ORGANIZER;CN="Progat Palam%C3%B3s":MAILTO:progatpalamos3@gmail.com
END:VEVENT
BEGIN:VEVENT
DTSTART;TZID=Europe/Madrid:20240608T000000
DTEND;TZID=Europe/Madrid:20240608T235959
DTSTAMP:20260421T120348
CREATED:20240607T104942Z
LAST-MODIFIED:20240607T110249Z
UID:10002542-1717804800-1717891199@infopalamos.cat
SUMMARY:Parada Solidària Progat Palamós i Sant Joan
DESCRIPTION:Parada solidària de l’entittat sense ànim de lucre PROGAT PALAMÓS I SANT JOAN. \nPortem diversitat d’articles en molt bon estat i a bon preu tot producte de donacions dels nostres simpatitzants\, des de llibres descatalogats\, a roba\, objectes de decoració\, bijuteria… \nEls beneficis obtinguts són pels gats del carrer (pinso\, medicaments\, visites veterinàries\, etc.) \nEstarem a la plaça dels Arbres cantonada c/ Major.
URL:https://infopalamos.cat/esdeveniment/parada-solidaria-progat-palamos-i-sant-joan-2/
ATTACH;FMTTYPE=image/jpeg:https://infopalamos.cat/wp-content/uploads/2024/06/Parada-Progat.jpg
ORGANIZER;CN="Progat Palam%C3%B3s":MAILTO:progatpalamos3@gmail.com
END:VEVENT
BEGIN:VEVENT
DTSTART;TZID=Europe/Madrid:20240518T100000
DTEND;TZID=Europe/Madrid:20240518T200000
DTSTAMP:20260421T120348
CREATED:20240514T081115Z
LAST-MODIFIED:20240515T115958Z
UID:10001938-1716026400-1716062400@infopalamos.cat
SUMMARY:Parada Solidària Progat Palamós i Sant Joan
DESCRIPTION:L’entitat sense ànim de lucre Progat Palamós i Sant Joan fa una parada solidària a benefici dels gats dels carrers del nostre poble. \nDissabte 18 de maig serem a l’avinguda Onze de Setembre\, davant de l’antic cinema Arinco.
URL:https://infopalamos.cat/esdeveniment/parada-solidaria-progat-palamos-i-sant-joan/
LOCATION:Avinguda Onze de Setembre\, Palamós\, 17230
ATTACH;FMTTYPE=image/jpeg:https://infopalamos.cat/wp-content/uploads/2024/05/parada-progat.jpg
ORGANIZER;CN="Progat Palam%C3%B3s":MAILTO:progatpalamos3@gmail.com
END:VEVENT
END:VCALENDAR