BEGIN:VCALENDAR
VERSION:2.0
PRODID:-//Ajuntament de Palamós - Notícies i Agenda - ECPv6.15.20//NONSGML v1.0//EN
CALSCALE:GREGORIAN
METHOD:PUBLISH
X-WR-CALNAME:Ajuntament de Palamós - Notícies i Agenda
X-ORIGINAL-URL:https://infopalamos.cat
X-WR-CALDESC:Esdeveniments per Ajuntament de Palamós - Notícies i Agenda
REFRESH-INTERVAL;VALUE=DURATION:PT1H
X-Robots-Tag:noindex
X-PUBLISHED-TTL:PT1H
BEGIN:VTIMEZONE
TZID:Europe/Madrid
BEGIN:DAYLIGHT
TZOFFSETFROM:+0100
TZOFFSETTO:+0200
TZNAME:CEST
DTSTART:20220327T010000
END:DAYLIGHT
BEGIN:STANDARD
TZOFFSETFROM:+0200
TZOFFSETTO:+0100
TZNAME:CET
DTSTART:20221030T010000
END:STANDARD
BEGIN:DAYLIGHT
TZOFFSETFROM:+0100
TZOFFSETTO:+0200
TZNAME:CEST
DTSTART:20230326T010000
END:DAYLIGHT
BEGIN:STANDARD
TZOFFSETFROM:+0200
TZOFFSETTO:+0100
TZNAME:CET
DTSTART:20231029T010000
END:STANDARD
BEGIN:DAYLIGHT
TZOFFSETFROM:+0100
TZOFFSETTO:+0200
TZNAME:CEST
DTSTART:20240331T010000
END:DAYLIGHT
BEGIN:STANDARD
TZOFFSETFROM:+0200
TZOFFSETTO:+0100
TZNAME:CET
DTSTART:20241027T010000
END:STANDARD
END:VTIMEZONE
BEGIN:VEVENT
DTSTART;TZID=Europe/Madrid:20231106T100000
DTEND;TZID=Europe/Madrid:20231106T130000
DTSTAMP:20260421T122909
CREATED:20231010T144320Z
LAST-MODIFIED:20231013T105647Z
UID:10000356-1699264800-1699275600@infopalamos.cat
SUMMARY:Taller TIC: Telèfons mòbils 1
DESCRIPTION:Telèfons mòbils 1Els telèfons mòbils formen part de la nostra vida diària. Aprendrem algunes prestacions per començar a fer-lo servir i treure’n el màxim rendiment.Objectius:– Conèixer les característiques del nostre telèfon.– Realitzar i rebre trucades.– Utilitzar la càmera del mòbil.Gratuït i obert a tothom a partir de 16 anys.Les places són limitades. Cal inscripció prèvia.Organitzat i coordinat pel Servei de Biblioteques de la Diputació de Girona.
URL:https://infopalamos.cat/esdeveniment/taller-telefons-mobils-1/
LOCATION:Biblioteca Lluís Barceló i Bou\, Parc dels Països Catalans\, 1\, Palamós\, 17230\, Espanya
CATEGORIES:Cultura i Patrimoni
ATTACH;FMTTYPE=image/png:https://infopalamos.cat/wp-content/uploads/2023/10/TIC_web.png
GEO:41.850759;3.1260958
X-APPLE-STRUCTURED-LOCATION;VALUE=URI;X-ADDRESS=Biblioteca Lluís Barceló i Bou Parc dels Països Catalans 1 Palamós 17230 Espanya;X-APPLE-RADIUS=500;X-TITLE=Parc dels Països Catalans\, 1:geo:3.1260958,41.850759
END:VEVENT
BEGIN:VEVENT
DTSTART;TZID=Europe/Madrid:20231025T183000
DTEND;TZID=Europe/Madrid:20231025T200000
DTSTAMP:20260421T122909
CREATED:20230919T162041Z
LAST-MODIFIED:20231013T105915Z
UID:10000288-1698258600-1698264000@infopalamos.cat
SUMMARY:Xerrada: No al malbaratament alimentari
DESCRIPTION:No al malbaratament alimentari: aprofitem bé fruites i hortalisses Xerrada\, taller i tastet per conèixer maneres d’aprofitar les hortalisses de temporada i no malbaratar-ne gens ni mica. Es parlarà de com guardar-les\, com cuinar-les aprofitant-ne totes les parts comestibles i\, sobretot\, com conservar-les per poder consumir-les més endavant\, a partir d’exemples concrets de fruites o verdures del temps.A càrrec de Mireia Mena i Mercè Masó\, de l’Obrador del Parc Agroecològic de l’Empordà.Amb motiu de la Setmana Bio per l’alimentació ecològica.És una activitat del programa Biblioteca Sostenible.Les places són limitades. Cal inscripció prèvia a la Biblioteca.Amb la col·laboració de l’Àrea de Medi Ambient de l’Ajuntament de Palamós. \n\n\n\nL’acompanya una mostra bibliogràfica de la temàtica i una guia de lectura en línia.
URL:https://infopalamos.cat/esdeveniment/xerrada-no-al-malbaratament-alimentari-aprofitem-be-fruites-i-hortalisses/
LOCATION:Biblioteca Lluís Barceló i Bou\, Parc dels Països Catalans\, 1\, Palamós\, 17230\, Espanya
CATEGORIES:Cultura i Patrimoni
ATTACH;FMTTYPE=image/jpeg:https://infopalamos.cat/wp-content/uploads/2023/09/No-al-malbaratament-alimentari_web.jpg
GEO:41.850759;3.1260958
X-APPLE-STRUCTURED-LOCATION;VALUE=URI;X-ADDRESS=Biblioteca Lluís Barceló i Bou Parc dels Països Catalans 1 Palamós 17230 Espanya;X-APPLE-RADIUS=500;X-TITLE=Parc dels Països Catalans\, 1:geo:3.1260958,41.850759
END:VEVENT
BEGIN:VEVENT
DTSTART;TZID=Europe/Madrid:20231023T180000
DTEND;TZID=Europe/Madrid:20231023T200000
DTSTAMP:20260421T122909
CREATED:20230919T161416Z
LAST-MODIFIED:20231009T100305Z
UID:10000287-1698084000-1698091200@infopalamos.cat
SUMMARY:Presentació del llibre: Totes les lactàncies molen
DESCRIPTION:Totes les lactàncies molen: alletar des de la diversitat i la llibertat\, a càrrec de les autores Mireia Serra i Saioa Baleztena\, amb conversa de Núria Lisbona (psicòloga perinatal).Una mirada inclusiva a les diferents formes de lactància i una invitació a viure-les d’una manera lliure\, respectada i plaent.Una de les primeres decisions importants que han de prendre les mares i gestants és si donaran el pit. Sovint les expectatives i el desig xoquen amb la realitat. La por\, la culpa\, la pressió social i la falta d’informació i d’acompanyament físic i emocional provoquen que moltes ho visquin amb frustració.Totes les lactàncies molen és un altaveu de la diversitat de formes de lactància i una crida per reivindicar-les totes. Recull el testimoni de trenta persones que expliquen la seva experiència i\, a la vegada\, inclou el coneixement de quinze expertes que resolen dubtes i ofereixen algunes claus per ajudar a establir la lactància amb èxit\, ja sigui amb el pit\, amb llet natural però en diferit o amb llet de fórmula i biberó.Un llibre per trencar mites i silencis que convida totes les persones a viure amb plenitud l’alletament. Inclou l’expertesa d’Alba Padró\, Inma Marcos\, Rosana Boronat\, Cris Garaizabal Elizalde\, Elena Crespi Asensio\, Esther Vivas\, Paola Roig\, Paula Rodríguez\, Hortènsia Vallverdú\, Belén Moes\, Alba Rosique\, Marta Ibarra\, Noelia Sánchez\, Maria Llavoré\, Irene Iglesias i Cris Moe. \n\n\n\n 
URL:https://infopalamos.cat/esdeveniment/presentacio-de-llibre/
LOCATION:Biblioteca Lluís Barceló i Bou\, Parc dels Països Catalans\, 1\, Palamós\, 17230\, Espanya
CATEGORIES:Cultura i Patrimoni
ATTACH;FMTTYPE=image/png:https://infopalamos.cat/wp-content/uploads/2023/09/Totes-les-lactancies-molen_coberta.png
GEO:41.850759;3.1260958
X-APPLE-STRUCTURED-LOCATION;VALUE=URI;X-ADDRESS=Biblioteca Lluís Barceló i Bou Parc dels Països Catalans 1 Palamós 17230 Espanya;X-APPLE-RADIUS=500;X-TITLE=Parc dels Països Catalans\, 1:geo:3.1260958,41.850759
END:VEVENT
BEGIN:VEVENT
DTSTART;TZID=Europe/Madrid:20231021T110000
DTEND;TZID=Europe/Madrid:20231021T120000
DTSTAMP:20260421T122909
CREATED:20230920T164033Z
LAST-MODIFIED:20231010T173009Z
UID:10000292-1697886000-1697889600@infopalamos.cat
SUMMARY:Tallers de cuina amb receptes d’arreu del món en anglès
DESCRIPTION:Tallers de cuina amb receptes d’arreu del món\, en anglès\, a càrrec de Funengo.El menjar és una manera divertida de celebrar la diversitat. Mitjançant activitats lúdiques i la cuina pràctica tastarem el món i descobrirem diferents països. Puja a bord del nostre food truck anglès i llueix el teu xef interior.Cooking workshops with recipes from around the world\, all in English\, by Funengo.Food is a fun way to celebrate diversity. Through fun activities and hands-on cooking\, we will taste the world and discover different countries. Hop aboard our English food truck and unleash your inner chef. \n\n\n\nUn total de 8 dissabtes: 21 d’octubre\, 18 novembre\, 16 desembre de 2023\, 20 gener\, 17 febrer\, 16 març\, 20 abril i 18 maig de 2024\, d’11 a 12 hAdreçat a nois i noies de 10 a 13 anys.Les places sónn limitades. Cal inscripció prèvia a la Biblioteca.Amb el suport de Diputació de Girona
URL:https://infopalamos.cat/esdeveniment/taller-cuina-del-mon-en-angles/
LOCATION:Biblioteca Lluís Barceló i Bou\, Parc dels Països Catalans\, 1\, Palamós\, 17230\, Espanya
CATEGORIES:Cultura i Patrimoni,Infantil i Familiar
ATTACH;FMTTYPE=image/jpeg:https://infopalamos.cat/wp-content/uploads/2023/09/Taste-the-world_web.jpg
GEO:41.850759;3.1260958
X-APPLE-STRUCTURED-LOCATION;VALUE=URI;X-ADDRESS=Biblioteca Lluís Barceló i Bou Parc dels Països Catalans 1 Palamós 17230 Espanya;X-APPLE-RADIUS=500;X-TITLE=Parc dels Països Catalans\, 1:geo:3.1260958,41.850759
END:VEVENT
BEGIN:VEVENT
DTSTART;TZID=Europe/Madrid:20231019T173000
DTEND;TZID=Europe/Madrid:20231019T183000
DTSTAMP:20260421T122909
CREATED:20230920T162920Z
LAST-MODIFIED:20230928T204527Z
UID:10000291-1697736600-1697740200@infopalamos.cat
SUMMARY:Contes musicats en anglès
DESCRIPTION:Give Me 10 a càrrec de Funengo.Dos nens\, que sempre estan lluitant\, de cop i volta es troben tancats en un armari de l’aula. Com sortiran? Vine a ajudar-los\, ja que proven un munt de diferents maneres d’escapar i tornar a casa per sopar.Activitat recomanada per a infants a partir de 4 anys.Les places són limitades. Cal inscripció prèvia a la Biblioteca.Amb el suport de Diputació de Girona.
URL:https://infopalamos.cat/esdeveniment/contes-musicats-en-angles/
LOCATION:Biblioteca Lluís Barceló i Bou\, Parc dels Països Catalans\, 1\, Palamós\, 17230\, Espanya
CATEGORIES:Cultura i Patrimoni,Infantil i Familiar
ATTACH;FMTTYPE=image/jpeg:https://infopalamos.cat/wp-content/uploads/2023/09/20220120-Give-me-10_Funengo.jpg
GEO:41.850759;3.1260958
X-APPLE-STRUCTURED-LOCATION;VALUE=URI;X-ADDRESS=Biblioteca Lluís Barceló i Bou Parc dels Països Catalans 1 Palamós 17230 Espanya;X-APPLE-RADIUS=500;X-TITLE=Parc dels Països Catalans\, 1:geo:3.1260958,41.850759
END:VEVENT
BEGIN:VEVENT
DTSTART;TZID=Europe/Madrid:20231019T110000
DTEND;TZID=Europe/Madrid:20231019T130000
DTSTAMP:20260421T122909
CREATED:20230920T160247Z
LAST-MODIFIED:20231009T095531Z
UID:10000289-1697713200-1697720400@infopalamos.cat
SUMMARY:Taller d'escriptura: El conte literari
DESCRIPTION:El conte literari a càrrec de Ramon Bartrina.Julio Cortázar diu: “Si pudiera explicar lo fantástico nunca hubiera escrito cuentos”. La necessitat d’explicar històries fantàstiques i inventades ens porta a donar forma escrita a la nostra imaginació.Ens endinsarem en els principals gèneres del conte literari: eròtic\, terror\, ciència-ficció\,…Crearem tot tipus de personatges que seran els protagonistes de les nostres històries.La literatura té una tradició oral i ens acostarem a ella a través de la rapsòdia i la interpretació dels contes escrits a classe. No serà una activitat indispensable per assisitr al taller\, no s’obligarà a ningú a llegir en veu alta els seus escrits; es pot aprendre molt\, també\, escoltant la resta de companys.Un total de 6 dijous: 19 i 26 d’octubre\, 9\, 16\, 23 i 30 de novembre\, d’11 a 13 hLes places són limitades. Cal inscripció prèvia a la Biblioteca.Amb el suport de Diputació de Girona
URL:https://infopalamos.cat/esdeveniment/taller-descriptura/
LOCATION:Biblioteca Lluís Barceló i Bou\, Parc dels Països Catalans\, 1\, Palamós\, 17230\, Espanya
CATEGORIES:Cultura i Patrimoni
ATTACH;FMTTYPE=image/jpeg:https://infopalamos.cat/wp-content/uploads/2023/09/Taller-escriptura_web.jpg
GEO:41.850759;3.1260958
X-APPLE-STRUCTURED-LOCATION;VALUE=URI;X-ADDRESS=Biblioteca Lluís Barceló i Bou Parc dels Països Catalans 1 Palamós 17230 Espanya;X-APPLE-RADIUS=500;X-TITLE=Parc dels Països Catalans\, 1:geo:3.1260958,41.850759
END:VEVENT
BEGIN:VEVENT
DTSTART;TZID=Europe/Madrid:20231018T190000
DTEND;TZID=Europe/Madrid:20231018T200000
DTSTAMP:20260421T122909
CREATED:20230919T160844Z
LAST-MODIFIED:20231009T095340Z
UID:10000286-1697655600-1697659200@infopalamos.cat
SUMMARY:Xerrada: No Canviïs la llengua
DESCRIPTION:Xerrada de sensibilització a no canviar de llengua quan ens adrecem a persones no catalanoparlants.A càrrec de Mercè Roca\, escriptora i professora de català.
URL:https://infopalamos.cat/esdeveniment/xerrada-no-canviis-la-llengua/
LOCATION:Biblioteca Lluís Barceló i Bou\, Parc dels Països Catalans\, 1\, Palamós\, 17230\, Espanya
CATEGORIES:Cultura i Patrimoni
ATTACH;FMTTYPE=image/jpeg:https://infopalamos.cat/wp-content/uploads/2023/09/logo-CNL-01.jpg
GEO:41.850759;3.1260958
X-APPLE-STRUCTURED-LOCATION;VALUE=URI;X-ADDRESS=Biblioteca Lluís Barceló i Bou Parc dels Països Catalans 1 Palamós 17230 Espanya;X-APPLE-RADIUS=500;X-TITLE=Parc dels Països Catalans\, 1:geo:3.1260958,41.850759
END:VEVENT
BEGIN:VEVENT
DTSTART;TZID=Europe/Madrid:20231016T190000
DTEND;TZID=Europe/Madrid:20231016T200000
DTSTAMP:20260421T122909
CREATED:20230919T155405Z
LAST-MODIFIED:20231009T094928Z
UID:10000284-1697482800-1697486400@infopalamos.cat
SUMMARY:Llegir el Teatre: Un dia
DESCRIPTION:Comentarem l’obra Un dia\, de Mercè Rodoreda\, edició a cura d’Enric Gallén i Gerard Guerra\, a propòsit de la posada en escena de La plaça del diamant al Teatre Nacional de Catalunya. \n\n\n\nUna casa abandonada és un símbol tan descarnat que s’explica sol: és el passat enterrat pel temps o la desídia\, és una imatge crua de final. A l’acotació inicial d’Un dia\, que descriu com ha de ser l’escenari\, hi llegim que “tot plegat ha de donar la sensació d’una casa abandonada i que fa anys van saquejar”. El saqueig de la guerra i l’abandó de la postguerra són dos temes centrals de l’obra de Rodoreda. Però en aquesta peça\, com no passa en cap altra\, comencem directament pel final\, quan s’ha perdut tot. Aquí la decadència i la destrucció són el punt de partida i l’esquelet del text des del principi. \n\n\n\nMercè Rodoreda i Gurguí (Barcelona\, 1908 – Girona\, 1983) és una de les escriptores catalanes més importants i amb més projecció internacional del segle XX. És coneguda sobretot per les seves novel·les\, entre les quals destaca La plaça del Diamant (1962)\, traduïda a més d’una quarantena de llengües\, així com Aloma (1938)\, El carrer de les Camèlies (1966) o Mirall trencat (1974)\, de la qual l’obra teatral Un dia (1959) hauria estat l’embrió. En la seva extensa obra\, Rodoreda va conrear una gran varietat de gèneres literaris\, incloent-hi el conte\, la poesia i el teatre. L’esclat de la guerra i el consegüent exili -primer a França i després a Suïssa- dificulten la circulació i la datació d’aquestes peces. La senyora Florentina i el seu amor Homer\, escrita durant els anys seixanta\, i L’hostal de les tres Camèlies\, escrita a principi dels anys setanta\, són algunes de les seves obres teatrals més reconegudes. \n\n\n\nAmb la col·laboració del Servei de Biblioteques de la Generalitat de Catalunya i el Teatre Nacional de Catalunya.
URL:https://infopalamos.cat/esdeveniment/llegir-el-teatre/
LOCATION:Biblioteca Lluís Barceló i Bou\, Parc dels Països Catalans\, 1\, Palamós\, 17230\, Espanya
CATEGORIES:Cultura i Patrimoni
ATTACH;FMTTYPE=image/png:https://infopalamos.cat/wp-content/uploads/2023/09/Llegir-el-teatre-23_24.png
GEO:41.850759;3.1260958
X-APPLE-STRUCTURED-LOCATION;VALUE=URI;X-ADDRESS=Biblioteca Lluís Barceló i Bou Parc dels Països Catalans 1 Palamós 17230 Espanya;X-APPLE-RADIUS=500;X-TITLE=Parc dels Països Catalans\, 1:geo:3.1260958,41.850759
END:VEVENT
BEGIN:VEVENT
DTSTART;TZID=Europe/Madrid:20231009T190000
DTEND;TZID=Europe/Madrid:20231009T200000
DTSTAMP:20260421T122909
CREATED:20230919T154344Z
LAST-MODIFIED:20231009T094807Z
UID:10000283-1696878000-1696881600@infopalamos.cat
SUMMARY:Club de poesia: Clementina Arderiu
DESCRIPTION:Iniciem el Club de poesia amb Clementina Arderiu dins del poemari Tres poetes de Cadaqués\, antologia a cura de Rosa Ardid i Caterina Riba. \n\n\n\nLes compiladores d’aquest volum vam considerar que una antologia de les poetes Clementina Arderiu\, Rosa Leveroni i Quima Jaume\, totes tres de reconeguda solvència i relacionades amb un àmbit cultural de gran potència com és Cadaqués\, estimularia noves lectures de la seva obra i en renovaria la presència a les lletres catalanes. Pertanyents a tres generacions diferents\, Arderiu (1889-1976)\, Leveroni (1910-1985) i Jaume (1934-1993) encarnen –reprenent les paraules de Maria-Mercè Marçal– tres baules d’una genealogia literària femenina molt sovint invisibilitzada. El fet d’unir-les en un sol volum permet que s’estableixi un diàleg fèrtil entre elles i alhora posa en evidència la lluïssor de cadascuna de les seves inconfusibles veus. L’elaboració poètica del mar i de Cadaqués travessa l’obra de totes elles.
URL:https://infopalamos.cat/esdeveniment/club-de-poesia/
LOCATION:Biblioteca Lluís Barceló i Bou\, Parc dels Països Catalans\, 1\, Palamós\, 17230\, Espanya
CATEGORIES:Cultura i Patrimoni
ATTACH;FMTTYPE=image/jpeg:https://infopalamos.cat/wp-content/uploads/2023/09/tres-poetes-de-cadaques-clementina-arderiu-rosa-leveroni-quima-jaume.jpg
GEO:41.850759;3.1260958
X-APPLE-STRUCTURED-LOCATION;VALUE=URI;X-ADDRESS=Biblioteca Lluís Barceló i Bou Parc dels Països Catalans 1 Palamós 17230 Espanya;X-APPLE-RADIUS=500;X-TITLE=Parc dels Països Catalans\, 1:geo:3.1260958,41.850759
END:VEVENT
BEGIN:VEVENT
DTSTART;TZID=Europe/Madrid:20231007T103000
DTEND;TZID=Europe/Madrid:20231007T120000
DTSTAMP:20260421T122909
CREATED:20230920T160957Z
LAST-MODIFIED:20231010T173439Z
UID:10000290-1696674600-1696680000@infopalamos.cat
SUMMARY:Tallers de llengua de signes catalana
DESCRIPTION:Petit signe és un taller de llengua de signes catalana (LSC) dinàmic i participatiu per adquirir habilitats comunicatives\, gestuals i visuals\, a través de l’aprenentatge d’expressions quotidianes i frases senzilles.És una activitat del projecte Biblioteca Inclusiva.Adreçat a famílies amb infants de 8 a 12 anys.Un total 8 sessions els dissabtes: 7 d’octubre\, 11 de novembre\, 2 de desembre de 2023\, 13 de gener\, 3 de febrer\, 9 de març\, 13 d’abril i 11 de maig de 2024\, de 10.30 a 12.00 hLes places són limitades. Cal inscripció prèvia a la Biblioteca.Amb la col·laboració d’Apropa Cultura i Diputació de Girona
URL:https://infopalamos.cat/esdeveniment/taller-de-llengua-de-signes-catalana/
LOCATION:Biblioteca Lluís Barceló i Bou\, Parc dels Països Catalans\, 1\, Palamós\, 17230\, Espanya
CATEGORIES:Cultura i Patrimoni,Infantil i Familiar
ATTACH;FMTTYPE=image/jpeg:https://infopalamos.cat/wp-content/uploads/2023/10/Taller-LSC_web.jpg
GEO:41.850759;3.1260958
X-APPLE-STRUCTURED-LOCATION;VALUE=URI;X-ADDRESS=Biblioteca Lluís Barceló i Bou Parc dels Països Catalans 1 Palamós 17230 Espanya;X-APPLE-RADIUS=500;X-TITLE=Parc dels Països Catalans\, 1:geo:3.1260958,41.850759
END:VEVENT
BEGIN:VEVENT
DTSTART;TZID=Europe/Madrid:20231006T180000
DTEND;TZID=Europe/Madrid:20231006T200000
DTSTAMP:20260421T122909
CREATED:20230919T160259Z
LAST-MODIFIED:20230929T085538Z
UID:10000285-1696615200-1696622400@infopalamos.cat
SUMMARY:Taller d'alimentació saludable
DESCRIPTION:Parlarem de l’alimentació saludable (recomanacions i principals errors)\, recomanacions per a menús econòmics\, estructura d’un menú tipus i confeccionarem menús equilibrats per emportar fora de casa.A càrrec de Cristina Mas\, nutricionista.Activitat programada dins la XII Setmana Catalana de Prevenció del Càncer.Les places són limitades. Cal inscripció prèvia a Hortènsia Doporto (649631697)Organitza: Federació Catalana d’Entitats contra el Càncer (FECEC)\, Fundació Oncolliga Girona\, amb la col·laboració de Dipsalut i Bibioteca Lluís Barceló i Bou
URL:https://infopalamos.cat/esdeveniment/taller-dalimentacio-saludable/
LOCATION:Biblioteca Lluís Barceló i Bou\, Parc dels Països Catalans\, 1\, Palamós\, 17230\, Espanya
CATEGORIES:Cultura i Patrimoni
ATTACH;FMTTYPE=image/jpeg:https://infopalamos.cat/wp-content/uploads/2023/09/Cartell-taller-alimentacio-saludable.jpg
GEO:41.850759;3.1260958
X-APPLE-STRUCTURED-LOCATION;VALUE=URI;X-ADDRESS=Biblioteca Lluís Barceló i Bou Parc dels Països Catalans 1 Palamós 17230 Espanya;X-APPLE-RADIUS=500;X-TITLE=Parc dels Països Catalans\, 1:geo:3.1260958,41.850759
END:VEVENT
BEGIN:VEVENT
DTSTART;TZID=Europe/Madrid:20231002T190000
DTEND;TZID=Europe/Madrid:20231002T200000
DTSTAMP:20260421T122909
CREATED:20230919T153343Z
LAST-MODIFIED:20231009T094702Z
UID:10000282-1696273200-1696276800@infopalamos.cat
SUMMARY:Tertúlia literària: Jardí vora el mar
DESCRIPTION:Comentarem la novel·la Jardí vora el mar de Mercè Rodoreda. Sessió dinamitzada per Núria Bazaga\, especialista en l’obra de Mercè Rodoreda\, del projecte “Clàssics catalans a les vostres biblioteques” del Servei de Biblioteques de la Generalitat de Catalunya i Espais Escrits. \n\n\n\nJardí vora el mar (1967):Escrita l’any 1959 des de l’exili de Ginebra i en un curt espai de temps de només 15 dies\, és la primera novel·la de postguerra de Rodoreda.El narrador d’aquesta història és el jardiner d’una torre d’esbargiment vora el mar\, observador dels sis estius que una família de la burgesia de Barcelona passa a la finca. Festes\, secrets i desvetllades al ritme de l’evolució de la natura del jardí que\, de la mà del seu cuidador\, s’erigeix en l’altre protagonista de l’obra.Rodoreda acabaria materialitzant el jardí que va somiar en aquesta obra a la seva casa de Romanyà de la Selva. \n\n\n\nL’autora:Mercè Rodoreda i Gurguí va néixer a Barcelona\, al barri de Sant Gervasi\, l’any 1908. Filla única\, la seva infantesa feliç va estar marcada per la figura de l’avi matern\, que li encomana la passió per la lectura\, el catalanisme i l’amor per les flors. Amb 20 anys és casada amb un seu tiet\, indià retornat i més gran que ella. D’aquest matrimoni infeliç i curt naixerà el seu únic fill. Comença a escriure contes per a revistes.Als anys 30 té una activitat cultural i periodística molt destacada i col·labora en favor de la República i la Generalitat. Amb la fi de la Guerra Civil\, s’exilia amb d’altres intel·lectuals a França. Aquí coneix qui seria el seu segon marit\, Armand Obiols. És una etapa dura marcada per les penúries econòmiques. El 1954\, la parella es trasllada a Ginebra\, prosperen i Rodoreda comença la seva etapa literària més productiva.A partir del 1973 s’instal·la a Romanyà de la Selva. L’any 1980 és guardonada amb el Premi d’Honor de les Lletres Catalanes. Mor l’any 1983\, a Girona.
URL:https://infopalamos.cat/esdeveniment/tertulia-literaria/
LOCATION:Biblioteca Lluís Barceló i Bou\, Parc dels Països Catalans\, 1\, Palamós\, 17230\, Espanya
CATEGORIES:Cultura i Patrimoni
ATTACH;FMTTYPE=image/jpeg:https://infopalamos.cat/wp-content/uploads/2023/09/Jardi-vora-el-mar.jpg
GEO:41.850759;3.1260958
X-APPLE-STRUCTURED-LOCATION;VALUE=URI;X-ADDRESS=Biblioteca Lluís Barceló i Bou Parc dels Països Catalans 1 Palamós 17230 Espanya;X-APPLE-RADIUS=500;X-TITLE=Parc dels Països Catalans\, 1:geo:3.1260958,41.850759
END:VEVENT
END:VCALENDAR