BEGIN:VCALENDAR
VERSION:2.0
PRODID:-//Ajuntament de Palamós - Notícies i Agenda - ECPv6.15.20//NONSGML v1.0//EN
CALSCALE:GREGORIAN
METHOD:PUBLISH
X-ORIGINAL-URL:https://infopalamos.cat
X-WR-CALDESC:Esdeveniments per Ajuntament de Palamós - Notícies i Agenda
REFRESH-INTERVAL;VALUE=DURATION:PT1H
X-Robots-Tag:noindex
X-PUBLISHED-TTL:PT1H
BEGIN:VTIMEZONE
TZID:Europe/Madrid
BEGIN:DAYLIGHT
TZOFFSETFROM:+0100
TZOFFSETTO:+0200
TZNAME:CEST
DTSTART:20230326T010000
END:DAYLIGHT
BEGIN:STANDARD
TZOFFSETFROM:+0200
TZOFFSETTO:+0100
TZNAME:CET
DTSTART:20231029T010000
END:STANDARD
BEGIN:DAYLIGHT
TZOFFSETFROM:+0100
TZOFFSETTO:+0200
TZNAME:CEST
DTSTART:20240331T010000
END:DAYLIGHT
BEGIN:STANDARD
TZOFFSETFROM:+0200
TZOFFSETTO:+0100
TZNAME:CET
DTSTART:20241027T010000
END:STANDARD
BEGIN:DAYLIGHT
TZOFFSETFROM:+0100
TZOFFSETTO:+0200
TZNAME:CEST
DTSTART:20250330T010000
END:DAYLIGHT
BEGIN:STANDARD
TZOFFSETFROM:+0200
TZOFFSETTO:+0100
TZNAME:CET
DTSTART:20251026T010000
END:STANDARD
BEGIN:DAYLIGHT
TZOFFSETFROM:+0100
TZOFFSETTO:+0200
TZNAME:CEST
DTSTART:20260329T010000
END:DAYLIGHT
BEGIN:STANDARD
TZOFFSETFROM:+0200
TZOFFSETTO:+0100
TZNAME:CET
DTSTART:20261025T010000
END:STANDARD
END:VTIMEZONE
BEGIN:VEVENT
DTSTART;TZID=Europe/Madrid:20250418T193000
DTEND;TZID=Europe/Madrid:20250418T203000
DTSTAMP:20260419T191828
CREATED:20250327T094804Z
LAST-MODIFIED:20250327T094806Z
UID:10007819-1745004600-1745008200@infopalamos.cat
SUMMARY:Processó dels Dolors
DESCRIPTION:La Parròquia de Santa Maria de Palamós organitza la Processó dels Dolors.
URL:https://infopalamos.cat/esdeveniment/processo-dels-dolors/
LOCATION:Església de Santa Maria del Mar\, Carrer Ave Maria\, Palamós\, Girona\, 17230\, Spain
CATEGORIES:Cultura i Patrimoni
ATTACH;FMTTYPE=image/jpeg:https://infopalamos.cat/wp-content/uploads/2025/03/DSC_0843-scaled-e1743068833205.jpg
GEO:41.8468194;3.1286785
X-APPLE-STRUCTURED-LOCATION;VALUE=URI;X-ADDRESS=Església de Santa Maria del Mar Carrer Ave Maria Palamós Girona 17230 Spain;X-APPLE-RADIUS=500;X-TITLE=Carrer Ave Maria:geo:3.1286785,41.8468194
END:VEVENT
BEGIN:VEVENT
DTSTART;TZID=Europe/Madrid:20241221T190000
DTEND;TZID=Europe/Madrid:20241221T203000
DTSTAMP:20260419T191828
CREATED:20241107T094639Z
LAST-MODIFIED:20241205T133725Z
UID:10005677-1734807600-1734813000@infopalamos.cat
SUMMARY:Missa cantada i concert a l'església de Santa Maria del Mar
DESCRIPTION:Missa cantada i concert 
URL:https://infopalamos.cat/esdeveniment/missa-cantada-i-concert-a-lesglesia-de-santa-maria-del-mar/
LOCATION:Església de Santa Maria del Mar\, Carrer Ave Maria\, Palamós\, Girona\, 17230\, Spain
CATEGORIES:Cultura i Patrimoni,Nadal a Palamós
ATTACH;FMTTYPE=image/jpeg:https://infopalamos.cat/wp-content/uploads/2024/11/10-Escalem-Coral-2-scaled.jpg
GEO:41.8468194;3.1286785
X-APPLE-STRUCTURED-LOCATION;VALUE=URI;X-ADDRESS=Església de Santa Maria del Mar Carrer Ave Maria Palamós Girona 17230 Spain;X-APPLE-RADIUS=500;X-TITLE=Carrer Ave Maria:geo:3.1286785,41.8468194
END:VEVENT
BEGIN:VEVENT
DTSTART;TZID=Europe/Madrid:20241214T200000
DTEND;TZID=Europe/Madrid:20241214T210000
DTSTAMP:20260419T191828
CREATED:20241107T094219Z
LAST-MODIFIED:20241205T133224Z
UID:10005676-1734206400-1734210000@infopalamos.cat
SUMMARY:Concert a l'església de Santa Maria del Mar
DESCRIPTION:Cantada de Nadales
URL:https://infopalamos.cat/esdeveniment/concert-a-lesglesia-de-santa-maria-del-mar/
LOCATION:Església de Santa Maria del Mar\, Carrer Ave Maria\, Palamós\, Girona\, 17230\, Spain
CATEGORIES:Cultura i Patrimoni,Nadal a Palamós
ATTACH;FMTTYPE=image/jpeg:https://infopalamos.cat/wp-content/uploads/2024/11/10-Escalem-Coral-2-scaled.jpg
GEO:41.8468194;3.1286785
X-APPLE-STRUCTURED-LOCATION;VALUE=URI;X-ADDRESS=Església de Santa Maria del Mar Carrer Ave Maria Palamós Girona 17230 Spain;X-APPLE-RADIUS=500;X-TITLE=Carrer Ave Maria:geo:3.1286785,41.8468194
END:VEVENT
END:VCALENDAR