BEGIN:VCALENDAR
VERSION:2.0
PRODID:-//Ajuntament de Palamós - Notícies i Agenda - ECPv6.15.20//NONSGML v1.0//EN
CALSCALE:GREGORIAN
METHOD:PUBLISH
X-WR-CALNAME:Ajuntament de Palamós - Notícies i Agenda
X-ORIGINAL-URL:https://infopalamos.cat
X-WR-CALDESC:Esdeveniments per Ajuntament de Palamós - Notícies i Agenda
REFRESH-INTERVAL;VALUE=DURATION:PT1H
X-Robots-Tag:noindex
X-PUBLISHED-TTL:PT1H
BEGIN:VTIMEZONE
TZID:Europe/Madrid
BEGIN:DAYLIGHT
TZOFFSETFROM:+0100
TZOFFSETTO:+0200
TZNAME:CEST
DTSTART:20230326T010000
END:DAYLIGHT
BEGIN:STANDARD
TZOFFSETFROM:+0200
TZOFFSETTO:+0100
TZNAME:CET
DTSTART:20231029T010000
END:STANDARD
BEGIN:DAYLIGHT
TZOFFSETFROM:+0100
TZOFFSETTO:+0200
TZNAME:CEST
DTSTART:20240331T010000
END:DAYLIGHT
BEGIN:STANDARD
TZOFFSETFROM:+0200
TZOFFSETTO:+0100
TZNAME:CET
DTSTART:20241027T010000
END:STANDARD
BEGIN:DAYLIGHT
TZOFFSETFROM:+0100
TZOFFSETTO:+0200
TZNAME:CEST
DTSTART:20250330T010000
END:DAYLIGHT
BEGIN:STANDARD
TZOFFSETFROM:+0200
TZOFFSETTO:+0100
TZNAME:CET
DTSTART:20251026T010000
END:STANDARD
BEGIN:DAYLIGHT
TZOFFSETFROM:+0100
TZOFFSETTO:+0200
TZNAME:CEST
DTSTART:20260329T010000
END:DAYLIGHT
BEGIN:STANDARD
TZOFFSETFROM:+0200
TZOFFSETTO:+0100
TZNAME:CET
DTSTART:20261025T010000
END:STANDARD
END:VTIMEZONE
BEGIN:VEVENT
DTSTART;TZID=Europe/Madrid:20250910T190000
DTEND;TZID=Europe/Madrid:20250910T230000
DTSTAMP:20260419T154054
CREATED:20250811T085248Z
LAST-MODIFIED:20250811T085249Z
UID:10011903-1757530800-1757545200@infopalamos.cat
SUMMARY:Fem botifarra catalana
DESCRIPTION:Trobada festiva-reivindicativa la vetlla de l’11S al Passeig de Mar / Pista de Bàsquet\n\nObertura del recinte de jocs i actuació de la banda Caliu\n\nBotifarrada i begudes\n\nActuacions:  Josep Andújar\,  cançó de taverna\,  música amb orquestina Long Play\n\nXerrada: Jordi Vilar\, llibreria La Històrica:  Què ens explicarà sobre l’11 de setembre?\n\nGrallers de Palafrugell. Petita actuació i cant conjunt – Els Segadors\n\nCloenda amb ball amb l’orquestina Long Play
URL:https://infopalamos.cat/esdeveniment/fem-botifarra-catalana/
LOCATION:Passeig del Mar\, Passeig del Mar\, Palamós\, 17230
CATEGORIES:Cultura i Patrimoni,Espectacles i Oci
ATTACH;FMTTYPE=image/jpeg:https://infopalamos.cat/wp-content/uploads/2025/08/FEM-BOTIFARRA-CATALANA.jpg
ORGANIZER;CN="Assemblea Nacional Catalana de Palam%C3%B3s":MAILTO:palamos@assemblea.cat
GEO:41.8486697;3.1237085
X-APPLE-STRUCTURED-LOCATION;VALUE=URI;X-ADDRESS=Passeig del Mar Passeig del Mar Palamós 17230;X-APPLE-RADIUS=500;X-TITLE=Passeig del Mar:geo:3.1237085,41.8486697
END:VEVENT
BEGIN:VEVENT
DTSTART;TZID=Europe/Madrid:20250215T123000
DTEND;TZID=Europe/Madrid:20250215T180000
DTSTAMP:20260419T154054
CREATED:20250210T124536Z
LAST-MODIFIED:20250210T124538Z
UID:10007331-1739622600-1739642400@infopalamos.cat
SUMMARY:Arrossada Popular de l'Associació Les Folloneres amb restaurant 'Can Quel'
DESCRIPTION:L’Associació de Carnaval Les Folloneres organitza la seva tradicional arrossada popular el proper dissabte 15 de febrer al passeig del Mar\, davant el restaurant Can Quel. \nA partir de les 12:30 fins les 18 h! Amb vermut i tardeo musical. Amb Tona Gafarot pel vermut i tot seguit\, música d’ambient “follonera” per a fer sobretaula! \n15 €: plat d’arròs\, 1 consumició (aigua\, cervesa o refresc)\, pa\, postre i xarrup. També hi haurà opció vegetariana! \n‼️Hi haurà 3 torns per a dinar l’arròs. 🎟 Com adquirir un tiquet pel menú? 💻 A Entradium.com buscant “Arrossada les folloneres 2025”
URL:https://infopalamos.cat/esdeveniment/arrossada-popular-de-lassociacio-les-folloneres-amb-restaurant-can-quel/
LOCATION:Passeig del Mar\, Passeig del Mar\, Palamós\, 17230
CATEGORIES:Gastronomia
ATTACH;FMTTYPE=image/jpeg:https://infopalamos.cat/wp-content/uploads/2025/02/WhatsApp-Image-2025-02-05-at-14.45.26.jpeg
ORGANIZER;CN="Associaci%C3%B3 Les Folloneres":MAILTO:lesfolloneres@gmail.com
GEO:41.8486697;3.1237085
X-APPLE-STRUCTURED-LOCATION;VALUE=URI;X-ADDRESS=Passeig del Mar Passeig del Mar Palamós 17230;X-APPLE-RADIUS=500;X-TITLE=Passeig del Mar:geo:3.1237085,41.8486697
END:VEVENT
BEGIN:VEVENT
DTSTART;TZID=Europe/Madrid:20240511T110000
DTEND;TZID=Europe/Madrid:20240511T203000
DTSTAMP:20260419T154054
CREATED:20240508T102046Z
LAST-MODIFIED:20240508T103352Z
UID:10000417-1715425200-1715459400@infopalamos.cat
SUMMARY:6a Fira del Conte de Palamós
DESCRIPTION:Arriba la 6a Fira del Conte de Palamós carregada d’activitats i novetats editorials. \n\n\n\nPasseig del Mar 3\n\n\n\nPasseig del Mar 4
URL:https://infopalamos.cat/esdeveniment/fira-del-conte/
LOCATION:Passeig del Mar\, Passeig del Mar\, Palamós\, 17230
CATEGORIES:Festes i Fires,Infantil i Familiar
ATTACH;FMTTYPE=image/jpeg:https://infopalamos.cat/wp-content/uploads/2024/05/Cartell_fira_conte_palamos_2024.jpg
GEO:41.8486697;3.1237085
X-APPLE-STRUCTURED-LOCATION;VALUE=URI;X-ADDRESS=Passeig del Mar Passeig del Mar Palamós 17230;X-APPLE-RADIUS=500;X-TITLE=Passeig del Mar:geo:3.1237085,41.8486697
END:VEVENT
END:VCALENDAR