BEGIN:VCALENDAR
VERSION:2.0
PRODID:-//Ajuntament de Palamós - Notícies i Agenda - ECPv6.15.20//NONSGML v1.0//EN
CALSCALE:GREGORIAN
METHOD:PUBLISH
X-ORIGINAL-URL:https://infopalamos.cat
X-WR-CALDESC:Esdeveniments per Ajuntament de Palamós - Notícies i Agenda
REFRESH-INTERVAL;VALUE=DURATION:PT1H
X-Robots-Tag:noindex
X-PUBLISHED-TTL:PT1H
BEGIN:VTIMEZONE
TZID:Europe/Madrid
BEGIN:DAYLIGHT
TZOFFSETFROM:+0100
TZOFFSETTO:+0200
TZNAME:CEST
DTSTART:20220327T010000
END:DAYLIGHT
BEGIN:STANDARD
TZOFFSETFROM:+0200
TZOFFSETTO:+0100
TZNAME:CET
DTSTART:20221030T010000
END:STANDARD
BEGIN:DAYLIGHT
TZOFFSETFROM:+0100
TZOFFSETTO:+0200
TZNAME:CEST
DTSTART:20230326T010000
END:DAYLIGHT
BEGIN:STANDARD
TZOFFSETFROM:+0200
TZOFFSETTO:+0100
TZNAME:CET
DTSTART:20231029T010000
END:STANDARD
BEGIN:DAYLIGHT
TZOFFSETFROM:+0100
TZOFFSETTO:+0200
TZNAME:CEST
DTSTART:20240331T010000
END:DAYLIGHT
BEGIN:STANDARD
TZOFFSETFROM:+0200
TZOFFSETTO:+0100
TZNAME:CET
DTSTART:20241027T010000
END:STANDARD
BEGIN:DAYLIGHT
TZOFFSETFROM:+0100
TZOFFSETTO:+0200
TZNAME:CEST
DTSTART:20250330T010000
END:DAYLIGHT
BEGIN:STANDARD
TZOFFSETFROM:+0200
TZOFFSETTO:+0100
TZNAME:CET
DTSTART:20251026T010000
END:STANDARD
BEGIN:DAYLIGHT
TZOFFSETFROM:+0100
TZOFFSETTO:+0200
TZNAME:CEST
DTSTART:20260329T010000
END:DAYLIGHT
BEGIN:STANDARD
TZOFFSETFROM:+0200
TZOFFSETTO:+0100
TZNAME:CET
DTSTART:20261025T010000
END:STANDARD
END:VTIMEZONE
BEGIN:VEVENT
DTSTART;TZID=Europe/Madrid:20251221T180000
DTEND;TZID=Europe/Madrid:20251221T200000
DTSTAMP:20260420T131150
CREATED:20251209T124508Z
LAST-MODIFIED:20251209T124510Z
UID:10012963-1766340000-1766347200@infopalamos.cat
SUMMARY:El Tió de la plaça de Sant Joan
DESCRIPTION:Regals\n 	Xocolatada\n 	Animació infantil
URL:https://infopalamos.cat/esdeveniment/el-tio-de-la-placa-de-sant-joan-2/
LOCATION:Plaça de Sant Joan\, Plaça de Sant Joan\, Palamós\, Girona\, 17230\, Espanya
CATEGORIES:Espectacles i Oci,Infantil i Familiar
ATTACH;FMTTYPE=image/jpeg:https://infopalamos.cat/wp-content/uploads/2025/12/1000031966.jpg
END:VEVENT
BEGIN:VEVENT
DTSTART;TZID=Europe/Madrid:20251031T183000
DTEND;TZID=Europe/Madrid:20251031T220000
DTSTAMP:20260420T131150
CREATED:20251015T095601Z
LAST-MODIFIED:20251028T121448Z
UID:10012678-1761935400-1761948000@infopalamos.cat
SUMMARY:Vetlla de Tots Sants
DESCRIPTION:18:45 h Trobada al cementiri amb explicació de Marc Boix i caminada fins al nucli antic \n19:30 h Encesa de llantions al nucli antic \n20:00 h Concert a l’església de Santa Eugènia de Vila-romà a càrrec d’Oriol Romaní i Erwyn Seerutton \n21:00 h Castanyada popular a la plaça de Sant Joan
URL:https://infopalamos.cat/esdeveniment/vetlla-de-tots-sants-2/
LOCATION:Cementiri de Sant Joan\, Camí vell del cementiri\, Palamós\, 17230
CATEGORIES:Castanyada - Tots Sants,Cultura i Patrimoni
ATTACH;FMTTYPE=image/jpeg:https://infopalamos.cat/wp-content/uploads/2025/10/1000023605-scaled.jpg
END:VEVENT
BEGIN:VEVENT
DTSTART;TZID=Europe/Madrid:20250803T200000
DTEND;TZID=Europe/Madrid:20250803T220000
DTSTAMP:20260420T131151
CREATED:20250715T094304Z
LAST-MODIFIED:20250715T094305Z
UID:10010377-1754251200-1754258400@infopalamos.cat
SUMMARY:Ballada de sardanes Festa Major de Sant Joan
DESCRIPTION:Amb la Cobla Foment del Montgrí
URL:https://infopalamos.cat/esdeveniment/ballada-de-sardanes-festa-major-de-sant-joan/
LOCATION:Plaça de Sant Joan\, Plaça de Sant Joan\, Palamós\, Girona\, 17230\, Espanya
CATEGORIES:Cultura i Patrimoni
ATTACH;FMTTYPE=image/jpeg:https://infopalamos.cat/wp-content/uploads/2025/06/455157926_8389543434392019_6279340984118635827_n.jpg
ORGANIZER;CN="Agrupaci%C3%B3 Sardanista Costa Brava en conveni amb l'%C3%80rea de Cultura de l'Ajuntament de Palam%C3%B3s":MAILTO:info@palamossardanista.com
END:VEVENT
BEGIN:VEVENT
DTSTART;TZID=Europe/Madrid:20250718T210000
DTEND;TZID=Europe/Madrid:20250718T230000
DTSTAMP:20260420T131151
CREATED:20250610T115329Z
LAST-MODIFIED:20250717T071138Z
UID:10010397-1752872400-1752879600@infopalamos.cat
SUMMARY:Cantada d’havaneres a Sant Joan
DESCRIPTION:Cantada d’havaneres amb el grup “Els Cremats” \nA la mitja part\, cremat per a tothom!
URL:https://infopalamos.cat/esdeveniment/cantada-dhavaneres-a-sant-joan/
LOCATION:Plaça de Sant Joan\, Plaça de Sant Joan\, Palamós\, Girona\, 17230\, Espanya
CATEGORIES:Espectacles i Oci
ATTACH;FMTTYPE=image/png:https://infopalamos.cat/wp-content/uploads/2025/06/havaneres-2025.png
END:VEVENT
BEGIN:VEVENT
DTSTART;TZID=Europe/Madrid:20241222T180000
DTEND;TZID=Europe/Madrid:20241222T200000
DTSTAMP:20260420T131151
CREATED:20241209T072616Z
LAST-MODIFIED:20241213T071405Z
UID:10006018-1734890400-1734897600@infopalamos.cat
SUMMARY:El Tió de la plaça de Sant Joan
DESCRIPTION:Diumenge 22 de desembre farem cagar el Tió de Sant Joan de Palamós acompanyat de xocolata desfeta i melindros.
URL:https://infopalamos.cat/esdeveniment/el-tio-de-la-placa-de-sant-joan/
LOCATION:Plaça de Sant Joan\, Plaça de Sant Joan\, Palamós\, Girona\, 17230\, Espanya
CATEGORIES:Infantil i Familiar,Nadal a Palamós
ATTACH;FMTTYPE=image/jpeg:https://infopalamos.cat/wp-content/uploads/2024/12/tio-1.jpg
END:VEVENT
BEGIN:VEVENT
DTSTART;TZID=Europe/Madrid:20241031T210000
DTEND;TZID=Europe/Madrid:20241031T220000
DTSTAMP:20260420T131151
CREATED:20241028T101231Z
LAST-MODIFIED:20241029T102939Z
UID:10005654-1730408400-1730412000@infopalamos.cat
SUMMARY:Castanyada popular a Sant Joan
DESCRIPTION:La plaça de Sant Joan de Palamós acull la castanyada popular que posa punt i final a l’activitat Vetlla de Tots Sants. \n\n\n\n\n\n\n\n\n\n\n\n\n\n\n\n\n\nPlaça de Sant Joan 2
URL:https://infopalamos.cat/esdeveniment/castanyada-popular-a-sant-joan/
LOCATION:Plaça de Sant Joan\, Plaça de Sant Joan\, Palamós\, Girona\, 17230\, Espanya
CATEGORIES:Cultura i Patrimoni
ATTACH;FMTTYPE=image/jpeg:https://infopalamos.cat/wp-content/uploads/2024/10/chestnuts-1783878_1280-1.jpg
ORGANIZER;CN="Associaci%C3%B3 de Ve%C3%AFns de Sant Joan de Palam%C3%B3s":MAILTO:info@santjoanpalamos.cat
END:VEVENT
BEGIN:VEVENT
DTSTART;TZID=Europe/Madrid:20241031T184500
DTEND;TZID=Europe/Madrid:20241031T200000
DTSTAMP:20260420T131151
CREATED:20241017T094319Z
LAST-MODIFIED:20241029T113144Z
UID:10005617-1730400300-1730404800@infopalamos.cat
SUMMARY:Vetlla de Tots Sants
DESCRIPTION:18:45h Trobada al cementiri amb explicació de David Busquets i caminada fins al nucli antic \nCAMÍ DE LES ÀNIMES DE SANT JOAN \n19:30 h Encesa de llantions al nucli antic \n20 h Concert a l’església de Santa Eugènia de Vila-Romà a càrrec de la formació Romani-Mazzanti Jazz Duo \nJAZZ AMB HISTÒRIES \n21 h Plaça de Sant Joan \nCASTANYADA POPULAR \n \n\n\n\n\n\n\n\n\n\n\n\n\nPlaça de Sant Joan 4
URL:https://infopalamos.cat/esdeveniment/vetlla-de-tots-sants/
LOCATION:Cementiri de Sant Joan\, Camí vell del cementiri\, Palamós\, 17230
CATEGORIES:Cultura i Patrimoni
ATTACH;FMTTYPE=image/jpeg:https://infopalamos.cat/wp-content/uploads/2024/10/Tots-Sants-2024-e1729158329998.jpg
END:VEVENT
BEGIN:VEVENT
DTSTART;TZID=Europe/Madrid:20240719T210000
DTEND;TZID=Europe/Madrid:20240719T230000
DTSTAMP:20260420T131151
CREATED:20240709T084932Z
LAST-MODIFIED:20240709T084933Z
UID:10002983-1721422800-1721430000@infopalamos.cat
SUMMARY:Havaneres amb el grup Norai
DESCRIPTION:Concert d’havaneres amb el grup Norai i rom cremat a la plaça de Sant Joan. \n\n\n\n\n\n\n\n\n\n\n\n\n\n\n\n\n\nPlaça de Sant Joan 6
URL:https://infopalamos.cat/esdeveniment/havaneres-amb-el-grup-norai/
LOCATION:Plaça de Sant Joan\, Plaça de Sant Joan\, Palamós\, Girona\, 17230\, Espanya
CATEGORIES:Espectacles i Oci
ATTACH;FMTTYPE=image/jpeg:https://infopalamos.cat/wp-content/uploads/2024/07/havaneres-2024.jpg
ORGANIZER;CN="Associaci%C3%B3 de Ve%C3%AFns de Sant Joan de Palam%C3%B3s":MAILTO:info@santjoanpalamos.cat
END:VEVENT
BEGIN:VEVENT
DTSTART;TZID=Europe/Madrid:20240505T100000
DTEND;TZID=Europe/Madrid:20240505T200000
DTSTAMP:20260420T131151
CREATED:20240426T152653Z
LAST-MODIFIED:20240426T152655Z
UID:10001717-1714903200-1714939200@infopalamos.cat
SUMMARY:Sant Joan Florit 2024
DESCRIPTION:Cultura\, carrers engalanats i espais florits
URL:https://infopalamos.cat/esdeveniment/sant-joan-florit-2024-3/
LOCATION:Plaça de Sant Joan\, Plaça de Sant Joan\, Palamós\, Girona\, 17230\, Espanya
CATEGORIES:Festes i Fires
ATTACH;FMTTYPE=image/jpeg:https://infopalamos.cat/wp-content/uploads/2024/04/a5405a89-a8fe-4d42-aa5c-5bb3907babbb.jpg
END:VEVENT
BEGIN:VEVENT
DTSTART;TZID=Europe/Madrid:20240504T180000
DTEND;TZID=Europe/Madrid:20240504T183000
DTSTAMP:20260420T131151
CREATED:20240426T145624Z
LAST-MODIFIED:20240426T150032Z
UID:10001715-1714845600-1714847400@infopalamos.cat
SUMMARY:Sant Joan Florit 2024
DESCRIPTION:Making of (inici de la decoració dels carrers de Sant Joan)
URL:https://infopalamos.cat/esdeveniment/sant-joan-florit-2024/
LOCATION:Plaça de Sant Joan\, Plaça de Sant Joan\, Palamós\, Girona\, 17230\, Espanya
CATEGORIES:Festes i Fires
ATTACH;FMTTYPE=image/jpeg:https://infopalamos.cat/wp-content/uploads/2024/04/a5405a89-a8fe-4d42-aa5c-5bb3907babbb-copia.jpg
END:VEVENT
BEGIN:VEVENT
DTSTART;TZID=Europe/Madrid:20231222T180000
DTEND;TZID=Europe/Madrid:20231222T200000
DTSTAMP:20260420T131151
CREATED:20231116T141722Z
LAST-MODIFIED:20231116T141726Z
UID:10000487-1703268000-1703275200@infopalamos.cat
SUMMARY:Cagatió Gegant de Sant Joan
DESCRIPTION:Cagatió Gegant a Sant Joan de Palamós amb xocolatada popular. \n\n\n\n\n\n\n\n\n\n\n\n\n\n\n\n\n\n\n\nPlaça de Sant Joan 8
URL:https://infopalamos.cat/esdeveniment/cagatio-gegant-de-sant-joan/
LOCATION:Plaça de Sant Joan\, Plaça de Sant Joan\, Palamós\, Girona\, 17230\, Espanya
CATEGORIES:Infantil i Familiar
ATTACH;FMTTYPE=image/jpeg:https://infopalamos.cat/wp-content/uploads/2023/11/tio-st-joan-scaled.jpg
ORGANIZER;CN="Associaci%C3%B3 de Ve%C3%AFns de Sant Joan de Palam%C3%B3s":MAILTO:info@santjoanpalamos.cat
END:VEVENT
END:VCALENDAR