BEGIN:VCALENDAR
VERSION:2.0
PRODID:-//Ajuntament de Palamós - Notícies i Agenda - ECPv6.15.20//NONSGML v1.0//EN
CALSCALE:GREGORIAN
METHOD:PUBLISH
X-ORIGINAL-URL:https://infopalamos.cat
X-WR-CALDESC:Esdeveniments per Ajuntament de Palamós - Notícies i Agenda
REFRESH-INTERVAL;VALUE=DURATION:PT1H
X-Robots-Tag:noindex
X-PUBLISHED-TTL:PT1H
BEGIN:VTIMEZONE
TZID:Europe/Madrid
BEGIN:DAYLIGHT
TZOFFSETFROM:+0100
TZOFFSETTO:+0200
TZNAME:CEST
DTSTART:20220327T010000
END:DAYLIGHT
BEGIN:STANDARD
TZOFFSETFROM:+0200
TZOFFSETTO:+0100
TZNAME:CET
DTSTART:20221030T010000
END:STANDARD
BEGIN:DAYLIGHT
TZOFFSETFROM:+0100
TZOFFSETTO:+0200
TZNAME:CEST
DTSTART:20230326T010000
END:DAYLIGHT
BEGIN:STANDARD
TZOFFSETFROM:+0200
TZOFFSETTO:+0100
TZNAME:CET
DTSTART:20231029T010000
END:STANDARD
BEGIN:DAYLIGHT
TZOFFSETFROM:+0100
TZOFFSETTO:+0200
TZNAME:CEST
DTSTART:20240331T010000
END:DAYLIGHT
BEGIN:STANDARD
TZOFFSETFROM:+0200
TZOFFSETTO:+0100
TZNAME:CET
DTSTART:20241027T010000
END:STANDARD
END:VTIMEZONE
BEGIN:VEVENT
DTSTART;TZID=Europe/Madrid:20231123T200000
DTEND;TZID=Europe/Madrid:20231123T220000
DTSTAMP:20260421T220725
CREATED:20230929T112305Z
LAST-MODIFIED:20230929T112306Z
UID:10000346-1700769600-1700776800@infopalamos.cat
SUMMARY:Cicle Gaudí: ELS ENCANTATS\, d’Elena TrapéCicle Gaudí:
DESCRIPTION:VO en català \n\n\n\n108’ \n\n\n\nPreu: 4\,5 € / Reduïda: 3 €(www.lagorga.cat)
URL:https://infopalamos.cat/esdeveniment/cicle-gaudi-els-encantats-delena-trapecicle-gaudi/
LOCATION:Teatre La Gorga\, Carrer Notaries\, Palamós\, 17230\, Espanya
CATEGORIES:Cultura i Patrimoni,Espectacles i Oci
ATTACH;FMTTYPE=image/jpeg:https://infopalamos.cat/wp-content/uploads/2023/09/els-encantats-cartel.jpg-870x580-1.jpg
ORGANIZER;CN="%C3%80rea de Cultura de l'Ajuntament de Palam%C3%B3s":MAILTO:cultura@palamos.cat
GEO:41.8471438;3.1286356
X-APPLE-STRUCTURED-LOCATION;VALUE=URI;X-ADDRESS=Teatre La Gorga Carrer Notaries Palamós 17230 Espanya;X-APPLE-RADIUS=500;X-TITLE=Carrer Notaries:geo:3.1286356,41.8471438
END:VEVENT
BEGIN:VEVENT
DTSTART;TZID=Europe/Madrid:20231119T180000
DTEND;TZID=Europe/Madrid:20231119T190000
DTSTAMP:20260421T220725
CREATED:20230929T093831Z
LAST-MODIFIED:20230929T093832Z
UID:10000321-1700416800-1700420400@infopalamos.cat
SUMMARY:Teatre amateur: Un dia només? Només un dia!
DESCRIPTION:Cia. Jahisomtots  \n\n\n\nAutor: Lluis Massimon \n\n\n\nDirecció: Jordi Vidal \n\n\n\nIntèrprets: Jordi Vidal\, Sally Batlle\, Josep Busquets\, Àngel Campderrich\, Pere Vivolas\, Dolors Pasqual i Maria Viñolas \n\n\n\nTragicomèdia de teatre amateur \n\n\n\nTragicomèdia\, basada en l’obra original del mateix títol i autor\, en què quatre personatges\, familiars\, amics i veïns\, amb la complaença de La Mort\,  passen revista a la vida del finat. \n\n\n\nLloc: Teatre La Gorga \n\n\n\nDurada: 90 minuts \n\n\n\nPreu: taquilla inversa (www.lagorga.cat)
URL:https://infopalamos.cat/esdeveniment/teatre-amateur-un-dia-nomes-nomes-un-dia/
LOCATION:Teatre La Gorga\, Carrer Notaries\, Palamós\, 17230\, Espanya
CATEGORIES:Cultura i Patrimoni,Espectacles i Oci
ATTACH;FMTTYPE=image/jpeg:https://infopalamos.cat/wp-content/uploads/2023/09/15-nomes-un-dia.jpg
GEO:41.8471438;3.1286356
X-APPLE-STRUCTURED-LOCATION;VALUE=URI;X-ADDRESS=Teatre La Gorga Carrer Notaries Palamós 17230 Espanya;X-APPLE-RADIUS=500;X-TITLE=Carrer Notaries:geo:3.1286356,41.8471438
END:VEVENT
BEGIN:VEVENT
DTSTART;TZID=Europe/Madrid:20231118T180000
DTEND;TZID=Europe/Madrid:20231118T200000
DTSTAMP:20260421T220725
CREATED:20230929T092545Z
LAST-MODIFIED:20230929T092548Z
UID:10000320-1700330400-1700337600@infopalamos.cat
SUMMARY:VII Trobada de corals palamosines
DESCRIPTION:Coral El Progrés\, Palamós Gospel Choir\, Coral Tramuntana\, Coro Rociero Azahares\, Coral Escàlem i Fusions Grup Vocal  \n\n\n\nConcert de música coral \n\n\n\nSetena trobada de les corals d’adults palamosines organitzada per Fusions Grup Vocal. A l’escenari\, sis formacions musicals ben diferents amb repertoris diversos com la cançó tradicional catalana\, la cançó marinera\, cants gòspel\, cants de sentiment andalús i els èxits més populars de la música pop. \n\n\n\nLloc: Teatre La Gorga \n\n\n\nDurada: 100minuts \n\n\n\nPreu: Gratuït (www.lagorga.cat)
URL:https://infopalamos.cat/esdeveniment/vii-trobada-de-corals-palamosines/
LOCATION:Teatre La Gorga\, Carrer Notaries\, Palamós\, 17230\, Espanya
CATEGORIES:Cultura i Patrimoni,Espectacles i Oci
ATTACH;FMTTYPE=image/png:https://infopalamos.cat/wp-content/uploads/2023/09/14-Trobada-Corals.png
ORGANIZER;CN="Fusions Grup Vocal":MAILTO:fusionsgrupvocal@gmail.com
GEO:41.8471438;3.1286356
X-APPLE-STRUCTURED-LOCATION;VALUE=URI;X-ADDRESS=Teatre La Gorga Carrer Notaries Palamós 17230 Espanya;X-APPLE-RADIUS=500;X-TITLE=Carrer Notaries:geo:3.1286356,41.8471438
END:VEVENT
BEGIN:VEVENT
DTSTART;TZID=Europe/Madrid:20231111T203000
DTEND;TZID=Europe/Madrid:20231111T220000
DTSTAMP:20260421T220725
CREATED:20230929T092338Z
LAST-MODIFIED:20230929T092341Z
UID:10000319-1699734600-1699740000@infopalamos.cat
SUMMARY:Teatre: La pell fina
DESCRIPTION:Autoria i direcció: Carmen Marfà i Yago Alonso \n\n\n\nIntèrprets: Francesc Ferrer\, Laura Porta\, Laura Pau i Pau Vinyals \n\n\n\nTeatre reflexiu en clau d’humor \n\n\n\nEl Nacho i la Miranda visiten uns amics que acaben de ser pares. Tot va bé fins que el Nacho diu que el bebè és molt lleig. A partir d’aquí l’ambient s’enrareix i comencen a sortir a la llum algunes altres veritats. \n\n\n\nLa pell fina parla de tot allò que no estem preparats per dir ni per rebre. De moltes veritats\, de reflexions i del que ens ofèn. \n\n\n\nLloc: Teatre La Gorga \n\n\n\nDurada: 75 minuts \n\n\n\nPreu: 18 € / reduïda 15 € (www.lagorga.cat). Recomanada per a majors de 16 anys
URL:https://infopalamos.cat/esdeveniment/teatre-la-pell-fina/
LOCATION:Teatre La Gorga\, Carrer Notaries\, Palamós\, 17230\, Espanya
CATEGORIES:Cultura i Patrimoni,Espectacles i Oci
ATTACH;FMTTYPE=image/jpeg:https://infopalamos.cat/wp-content/uploads/2023/09/13-La-pell-fina-scaled.jpg
ORGANIZER;CN="%C3%80rea de Cultura de l'Ajuntament de Palam%C3%B3s":MAILTO:cultura@palamos.cat
GEO:41.8471438;3.1286356
X-APPLE-STRUCTURED-LOCATION;VALUE=URI;X-ADDRESS=Teatre La Gorga Carrer Notaries Palamós 17230 Espanya;X-APPLE-RADIUS=500;X-TITLE=Carrer Notaries:geo:3.1286356,41.8471438
END:VEVENT
BEGIN:VEVENT
DTSTART;TZID=Europe/Madrid:20231105T180000
DTEND;TZID=Europe/Madrid:20231105T193000
DTSTAMP:20260421T220725
CREATED:20230929T092127Z
LAST-MODIFIED:20230929T092129Z
UID:10000318-1699207200-1699212600@infopalamos.cat
SUMMARY:Concert de boleros i música cubana
DESCRIPTION:Telva Rojas & SBB Latin Orquestra \n\n\n\nIntèrprets: Telva Rojas & SBB Latin Orquestra \n\n\n\nDirecció: Ramon Alsina \n\n\n\nConcert de música cubana i jazz llatí \n\n\n\nLa Selva Big Band convertida en una banda de música llatina presenta la Reina Cubana del Bolero: Telva Rojas \n\n\n\nUn concert amb ritmes caribenys com el son\, el mambo\, la guaracha\, el txa-txa-txa i el bolero. Una audició dels temes emblemàtics del repertori de Cuba. \n\n\n\nTelva Rojas ens visita amb una orquestra de luxe\, formada per 14 músics\, que interpretaran també temes de jazz llatí. \n\n\n\nLloc: Teatre La Gorga \n\n\n\nDurada: 75 minuts \n\n\n\nPreu: 10 € /socis de JMP 5 € / menors gratuït  (www.lagorga.cat)
URL:https://infopalamos.cat/esdeveniment/concert-de-boleros-i-musica-cubana/
LOCATION:Teatre La Gorga\, Carrer Notaries\, Palamós\, 17230\, Espanya
CATEGORIES:Cultura i Patrimoni,Espectacles i Oci
ATTACH;FMTTYPE=image/jpeg:https://infopalamos.cat/wp-content/uploads/2023/09/12-SBB-Latin-Orquestra-amb-Telva-scaled.jpg
GEO:41.8471438;3.1286356
X-APPLE-STRUCTURED-LOCATION;VALUE=URI;X-ADDRESS=Teatre La Gorga Carrer Notaries Palamós 17230 Espanya;X-APPLE-RADIUS=500;X-TITLE=Carrer Notaries:geo:3.1286356,41.8471438
END:VEVENT
BEGIN:VEVENT
DTSTART;TZID=Europe/Madrid:20231105T120000
DTEND;TZID=Europe/Madrid:20231105T130000
DTSTAMP:20260421T220725
CREATED:20230929T112656Z
LAST-MODIFIED:20230929T112936Z
UID:10000348-1699185600-1699189200@infopalamos.cat
SUMMARY:CINE XIC. Cinema infantil en català
DESCRIPTION:Sola & Eri\, missió a la lluna (Noruega\, 2018) \n\n\n\nRecomanada a partir de 5 anys \n\n\n\n80 minuts \n\n\n\nPreu: 3 € /menors de 13 anys gratuït(www.lagorga.cat)
URL:https://infopalamos.cat/esdeveniment/cine-xic-cinema-infantil-en-catala/
LOCATION:Teatre La Gorga\, Carrer Notaries\, Palamós\, 17230\, Espanya
CATEGORIES:Cultura i Patrimoni,Espectacles i Oci,Infantil i Familiar
ATTACH;FMTTYPE=image/jpeg:https://infopalamos.cat/wp-content/uploads/2023/09/Cartell-scaled.jpg
ORGANIZER;CN="%C3%80rea de Cultura de l'Ajuntament de Palam%C3%B3s":MAILTO:cultura@palamos.cat
GEO:41.8471438;3.1286356
X-APPLE-STRUCTURED-LOCATION;VALUE=URI;X-ADDRESS=Teatre La Gorga Carrer Notaries Palamós 17230 Espanya;X-APPLE-RADIUS=500;X-TITLE=Carrer Notaries:geo:3.1286356,41.8471438
END:VEVENT
BEGIN:VEVENT
DTSTART;TZID=Europe/Madrid:20231104T203000
DTEND;TZID=Europe/Madrid:20231104T213000
DTSTAMP:20260421T220725
CREATED:20230929T090229Z
LAST-MODIFIED:20230929T091625Z
UID:10000317-1699129800-1699133400@infopalamos.cat
SUMMARY:Festival ONA-Dance: Together to get there
DESCRIPTION:Lali Ayguadé i Akira Yoshida \n\n\n\nDirecció\, coreografia i intèrprets: Lali Ayguadé i Akira Yoshida \n\n\n\nComposició musical: Donald Beteille \n\n\n\nDansa contemporània \n\n\n\nPeça que tracta la trobada entre dues persones\, una abraçada\, el sentiment vers l’altre\, la comunicació sense paraula\, la concepció del temps immers en un món creat entre dos. Un temps que s’expandeix i es deté. Una transformació\, un canvi. Parts que es subjecten i d’altres que cauen. Les diferències\, els pols oposats\, la fragilitat\, la força\, deixar-se caure i el desig pel control. L’equilibri i la inestabilitat. La veritable naturalesa humana. \n\n\n\nLloc: Teatre La Gorga \n\n\n\nDurada: 50 minuts (amb entreacte) \n\n\n\nPreu: 12 € / reduït 6 €  (www.lagorga.cat)
URL:https://infopalamos.cat/esdeveniment/festival-ona-dance-together-to-get-therefestival-ona-dance/
LOCATION:Teatre La Gorga\, Carrer Notaries\, Palamós\, 17230\, Espanya
CATEGORIES:Cultura i Patrimoni,Espectacles i Oci
ATTACH;FMTTYPE=image/jpeg:https://infopalamos.cat/wp-content/uploads/2023/09/11-Together-to-get-there.jpg
ORGANIZER;CN="%C3%80rea de Cultura de l'Ajuntament de Palam%C3%B3s":MAILTO:cultura@palamos.cat
GEO:41.8471438;3.1286356
X-APPLE-STRUCTURED-LOCATION;VALUE=URI;X-ADDRESS=Teatre La Gorga Carrer Notaries Palamós 17230 Espanya;X-APPLE-RADIUS=500;X-TITLE=Carrer Notaries:geo:3.1286356,41.8471438
END:VEVENT
BEGIN:VEVENT
DTSTART;TZID=Europe/Madrid:20231103T203000
DTEND;TZID=Europe/Madrid:20231103T213000
DTSTAMP:20260421T220725
CREATED:20230929T085823Z
LAST-MODIFIED:20230929T091654Z
UID:10000316-1699043400-1699047000@infopalamos.cat
SUMMARY:Xerrada: Pedalant per l'Oncolliga
DESCRIPTION:En Toni Guerrero va fer la volta a Espanya en BTT RECAPTANT més de 6000 € per l’Oncolliga Girona. \n\n\n\nSortint de Cap de Creus fins a Finisterre\, Mèrida\, Cabo de Gata i Llagostera. Va fer un total de 4000 kms repartits en 39 etapes. \n\n\n\nAquest periple queda resumit en un audiovisual de 40 minuts molt emotiu i amb tocs d’ humor. \n\n\n\nUn audiovisual que no et deixarà indiferent. \n\n\n\nPreu: Taquilla inversa
URL:https://infopalamos.cat/esdeveniment/xerrada-pedalant-per-loncolliga/
LOCATION:Teatre La Gorga\, Carrer Notaries\, Palamós\, 17230\, Espanya
CATEGORIES:Cultura i Patrimoni,Espectacles i Oci
ATTACH;FMTTYPE=image/jpeg:https://infopalamos.cat/wp-content/uploads/2023/09/Pedalant-per-lOncolliga-scaled.jpeg
GEO:41.8471438;3.1286356
X-APPLE-STRUCTURED-LOCATION;VALUE=URI;X-ADDRESS=Teatre La Gorga Carrer Notaries Palamós 17230 Espanya;X-APPLE-RADIUS=500;X-TITLE=Carrer Notaries:geo:3.1286356,41.8471438
END:VEVENT
BEGIN:VEVENT
DTSTART;TZID=Europe/Madrid:20231022T180000
DTEND;TZID=Europe/Madrid:20231022T193000
DTSTAMP:20260421T220725
CREATED:20230929T083844Z
LAST-MODIFIED:20230929T091733Z
UID:10000313-1697997600-1698003000@infopalamos.cat
SUMMARY:Concert: IX Concert solidari “Tu ho fas possible”
DESCRIPTION:Amb Neus Mar\, Peix Fregit\, Palamós Gospel Choir i Tània Matas (soprano) \n\n\n\nConcert solidari \n\n\n\nPer novè any consecutiu\, arriba el concert solidari de la Creu Roja de Palamós\, que té com a objectiu recaptar fons que es destinaran íntegrament als projectes contra la pobresa que duu a terme aquesta institució al territori. \n\n\n\nLloc: Teatre La Gorga \n\n\n\nDurada: 90 minuts \n\n\n\nPreu: 12 € (www.lagorga.cat) \n\n\n\nOrganitza: Creu Roja Palamós
URL:https://infopalamos.cat/esdeveniment/concert-ix-concert-solidari-tu-ho-fas-possible/
LOCATION:Teatre La Gorga\, Carrer Notaries\, Palamós\, 17230\, Espanya
CATEGORIES:Cultura i Patrimoni,Espectacles i Oci
ATTACH;FMTTYPE=image/jpeg:https://infopalamos.cat/wp-content/uploads/2023/09/9-Creu-Roja_-Neus-Mar-scaled.jpg
GEO:41.8471438;3.1286356
X-APPLE-STRUCTURED-LOCATION;VALUE=URI;X-ADDRESS=Teatre La Gorga Carrer Notaries Palamós 17230 Espanya;X-APPLE-RADIUS=500;X-TITLE=Carrer Notaries:geo:3.1286356,41.8471438
END:VEVENT
BEGIN:VEVENT
DTSTART;TZID=Europe/Madrid:20231021T203000
DTEND;TZID=Europe/Madrid:20231021T213000
DTSTAMP:20260421T220725
CREATED:20230929T083644Z
LAST-MODIFIED:20230929T091742Z
UID:10000312-1697920200-1697923800@infopalamos.cat
SUMMARY:Teatre: Cunyades
DESCRIPTION:Autor i director: Ramon Grau \n\n\n\nIntèrprets: Fermí Fernández\, Mònica Pérez\, Jordi Ríos i Àngels Bassas \n\n\n\nComèdia d’embolics \n\n\n\nQuan en Manel Planas\, propietari de la Impremta Planas i Fills es mor\, el negoci passa a mans dels seus dos fills\, en Pere i en Pau\, de caràcter afable i que sempre s’han portat molt bé entre ells. No és el cas de les respectives esposes: la Berta i la Sara són dues cunyades que sempre es barallen\, són absolutes dominadores dels seus marits i\, quan desapareix el patriarca\, veuen l’oportunitat per conquerir les regnes del negoci. La lluita entre cunyades tot just acaba de començar. \n\n\n\nLloc: Teatre La Gorga \n\n\n\nDurada: 80 minuts \n\n\n\nPreu: 18 € (www.lagorga.cat) \n\n\n\nOrganitza: JOS
URL:https://infopalamos.cat/esdeveniment/teatre-cunyades/
LOCATION:Teatre La Gorga\, Carrer Notaries\, Palamós\, 17230\, Espanya
CATEGORIES:Cultura i Patrimoni,Espectacles i Oci
ATTACH;FMTTYPE=image/jpeg:https://infopalamos.cat/wp-content/uploads/2023/09/8-Imatge-Cunyades-Quadrada.jpeg
GEO:41.8471438;3.1286356
X-APPLE-STRUCTURED-LOCATION;VALUE=URI;X-ADDRESS=Teatre La Gorga Carrer Notaries Palamós 17230 Espanya;X-APPLE-RADIUS=500;X-TITLE=Carrer Notaries:geo:3.1286356,41.8471438
END:VEVENT
BEGIN:VEVENT
DTSTART;TZID=Europe/Madrid:20231020T203000
DTEND;TZID=Europe/Madrid:20231020T213000
DTSTAMP:20260421T220725
CREATED:20230929T083436Z
LAST-MODIFIED:20230929T091753Z
UID:10000311-1697833800-1697837400@infopalamos.cat
SUMMARY:Festival ONA-Dance: L280: La balada del cuerpx
DESCRIPTION:Cia. Puntos de partida \n\n\n\nIdea\, direcció i coreografia: José David Cerda \n\n\n\nInterpretació i coproducció: Julie Tartaglia\, Alicia Pirez\, Sonia Prado\, Juan Sánchez\, Sylvain Manuel Ludovico i Yigu \n\n\n\nCoproducció: Contra Punto\, DIMANOR\, Ortega Meza S.C.\, CC Pere Quart i Colectivo Tac Tiq \n\n\n\nResidència tècnica Sala Petita La Gorga \n\n\n\nDansa contemporània \n\n\n\nPeça que busca desvetllar i mostrar diversos racons de la identitat dels ballarins amb la finalitat de qüestionar i transmetre un missatge antipolític i ple de preguntes obertes. A través de moviments improvisats de dansa s’emmarquen els cuerpx i es proposa la reflexió sobre conceptes com pot ser allò poètic\, allò bestial\, allò abstracte\, l’ésser o ésser qui es vulgui. \n\n\n\nNo hi ha conceptes absoluts\, només cuerpx. \n\n\n\nLloc: Teatre La Gorga \n\n\n\nDurada: 50 minuts \n\n\n\nPreu: Gratuït (www.lagorga.cat) \n\n\n\nOrganitza: Àrea de Cultura de l’Ajuntament de Palamós \n\n\n\nDirecció artística: CobosMika company \n\n\n\nAmb el suport del programa Eká de la Secretaría de Cultura del Estado de Chihuahua\, México
URL:https://infopalamos.cat/esdeveniment/festival-ona-dance-l280-la-balada-del-cuerpx/
LOCATION:Teatre La Gorga\, Carrer Notaries\, Palamós\, 17230\, Espanya
CATEGORIES:Cultura i Patrimoni,Espectacles i Oci
ATTACH;FMTTYPE=image/jpeg:https://infopalamos.cat/wp-content/uploads/2023/09/7-la-balada-del-cuerpx-scaled.jpg
ORGANIZER;CN="%C3%80rea de Cultura de l'Ajuntament de Palam%C3%B3s":MAILTO:cultura@palamos.cat
GEO:41.8471438;3.1286356
X-APPLE-STRUCTURED-LOCATION;VALUE=URI;X-ADDRESS=Teatre La Gorga Carrer Notaries Palamós 17230 Espanya;X-APPLE-RADIUS=500;X-TITLE=Carrer Notaries:geo:3.1286356,41.8471438
END:VEVENT
BEGIN:VEVENT
DTSTART;TZID=Europe/Madrid:20231019T200000
DTEND;TZID=Europe/Madrid:20231019T220000
DTSTAMP:20260421T220725
CREATED:20231010T081602Z
LAST-MODIFIED:20231010T081605Z
UID:10000354-1697745600-1697752800@infopalamos.cat
SUMMARY:CICLE GAUDÍ DE CINEMA CATALÀ: "Las buenas compañías" de Sílvia Munt
DESCRIPTION:Preu: 4\,5 € / reduïda 3 € (www.lagorga.cat) \n\n\n\nVO en castellà
URL:https://infopalamos.cat/esdeveniment/cicle-gaudi-de-cinema-catala-las-buenas-companias-de-silvia-munt/
LOCATION:Teatre La Gorga\, Carrer Notaries\, Palamós\, 17230\, Espanya
CATEGORIES:Cultura i Patrimoni,Espectacles i Oci
ATTACH;FMTTYPE=image/jpeg:https://infopalamos.cat/wp-content/uploads/2023/10/IG_BUENAS_COMPANIAS_PALAMOS.jpg
ORGANIZER;CN="%C3%80rea de Cultura de l'Ajuntament de Palam%C3%B3s":MAILTO:cultura@palamos.cat
GEO:41.8471438;3.1286356
X-APPLE-STRUCTURED-LOCATION;VALUE=URI;X-ADDRESS=Teatre La Gorga Carrer Notaries Palamós 17230 Espanya;X-APPLE-RADIUS=500;X-TITLE=Carrer Notaries:geo:3.1286356,41.8471438
END:VEVENT
BEGIN:VEVENT
DTSTART;TZID=Europe/Madrid:20231015T180000
DTEND;TZID=Europe/Madrid:20231015T183000
DTSTAMP:20260421T220725
CREATED:20230929T083155Z
LAST-MODIFIED:20230929T091804Z
UID:10000310-1697392800-1697394600@infopalamos.cat
SUMMARY:Festival ONA-Dance: 9è Concurs de Joves Intèrprets de Dansa Contemporània
DESCRIPTION:La intenció del concurs és donar suport a joves talents de la dansa\, tant en el vessant interpretatiu com en el vessant creatiu. \n\n\n\nEl concurs també promou la dansa per apropar-la al públic en general\, sobretot la dansa del territori. \n\n\n\nLloc: Teatre La Gorga \n\n\n\nPreu: Gratuït (www.lagorga.cat)
URL:https://infopalamos.cat/esdeveniment/festival-ona-dance-9e-concurs-de-joves-interprets-de-dansa-contemporania/
LOCATION:Teatre La Gorga\, Carrer Notaries\, Palamós\, 17230\, Espanya
CATEGORIES:Cultura i Patrimoni,Espectacles i Oci
ATTACH;FMTTYPE=image/jpeg:https://infopalamos.cat/wp-content/uploads/2023/09/6-Concurs-Dansa-scaled.jpg
ORGANIZER;CN="%C3%80rea de Cultura de l'Ajuntament de Palam%C3%B3s":MAILTO:cultura@palamos.cat
GEO:41.8471438;3.1286356
X-APPLE-STRUCTURED-LOCATION;VALUE=URI;X-ADDRESS=Teatre La Gorga Carrer Notaries Palamós 17230 Espanya;X-APPLE-RADIUS=500;X-TITLE=Carrer Notaries:geo:3.1286356,41.8471438
END:VEVENT
BEGIN:VEVENT
DTSTART;TZID=Europe/Madrid:20231012T190000
DTEND;TZID=Europe/Madrid:20231012T200000
DTSTAMP:20260421T220725
CREATED:20230929T082929Z
LAST-MODIFIED:20230929T093953Z
UID:10000309-1697137200-1697140800@infopalamos.cat
SUMMARY:Concert Quartet Capellans
DESCRIPTION:El Capellans Quartet neix a Torrent (València) l’any 2022 com a iniciativa de quatre joves amb grans inquietuds musicals\, tots ells estudiants de música del conservatori de Torrent i amb una excel·lent projecció musical. \n\n\n\nHan rebut classes arreu del món Viena\, Virginia\, Madrid\, Nantes\, Barcelona… \n\n\n\nEl Capellans Quartet ha actuat en diverses localitats de la comunitat Valenciana i tenen programada una gira a diversos punts del país com ara: Vinaròs\, Carcassone o Toulouse. \n\n\n\nCom a alumnes del conservatori de Torrent també formen part de diverses orquestres com la de la Unió musical de Torrent\, la Federal de València i la Jove Orquestra de la Comunitat Valenciana.  \n\n\n\nA títol individual els seus components també tenen una amplia trajectòria professional actuant en diversos concerts amb una gran acceptació per part del públic. \n\n\n\nIntèrprets:  \n\n\n\nCapellans Quartet: \n\n\n\nGuillem Baviera Fusté: Violí \n\n\n\nGemma Baviera Fusté: Violí \n\n\n\nIrene de Juan Garrido: Viola \n\n\n\nMar Cabo Bueno: Cello \n\n\n\nAcompanyants: \n\n\n\nJonathan Santana i Gabriela Pinedo: Piano \n\n\n\n \n\n\n\nPreu: 10 € / socis JMP 5 € / menors gratuït
URL:https://infopalamos.cat/esdeveniment/concert-quartet-capellas/
LOCATION:Teatre La Gorga\, Carrer Notaries\, Palamós\, 17230\, Espanya
CATEGORIES:Cultura i Patrimoni,Espectacles i Oci
ATTACH;FMTTYPE=image/jpeg:https://infopalamos.cat/wp-content/uploads/2023/09/foto-quartet-corda-CAPELLANS-12-octubre.jpg
GEO:41.8471438;3.1286356
X-APPLE-STRUCTURED-LOCATION;VALUE=URI;X-ADDRESS=Teatre La Gorga Carrer Notaries Palamós 17230 Espanya;X-APPLE-RADIUS=500;X-TITLE=Carrer Notaries:geo:3.1286356,41.8471438
END:VEVENT
BEGIN:VEVENT
DTSTART;TZID=Europe/Madrid:20231005T203000
DTEND;TZID=Europe/Madrid:20231005T220000
DTSTAMP:20260421T220725
CREATED:20230929T064744Z
LAST-MODIFIED:20230929T111326Z
UID:10000305-1696537800-1696543200@infopalamos.cat
SUMMARY:Xerrada: La Intel·ligència Artificial en l'àmbit de l'educació
DESCRIPTION:Ponents: Josep M. Ribes\, Xavier Canaleta i Dani Amo\, professors de La Salle Campus Barcelona \n\n\n\nPer què tothom està parlant d’intel·ligència artificial els darrers mesos? \n\n\n\nQuè és la IA generativa? \n\n\n\nQuin ús en fem i en farem? \n\n\n\nCom impactarà en el mercat professional? \n\n\n\nQuin ús els nostres joves? \n\n\n\nCom impactarà tot plegat en l’educació? \n\n\n\n Aquests i altres temes s’abordaran en aquesta sessió\, on a mes comptarem amb demostracions per poder copsar les funcionalitats i potencial de les eines de IA generativa.
URL:https://infopalamos.cat/esdeveniment/xerrada-la-intelligencia-artificial-en-lambit-de-leducacio/
LOCATION:Teatre La Gorga\, Carrer Notaries\, Palamós\, 17230\, Espanya
CATEGORIES:Cultura i Patrimoni
ATTACH;FMTTYPE=image/jpeg:https://infopalamos.cat/wp-content/uploads/2023/09/2-Int-Artificial.jpg
GEO:41.8471438;3.1286356
X-APPLE-STRUCTURED-LOCATION;VALUE=URI;X-ADDRESS=Teatre La Gorga Carrer Notaries Palamós 17230 Espanya;X-APPLE-RADIUS=500;X-TITLE=Carrer Notaries:geo:3.1286356,41.8471438
END:VEVENT
BEGIN:VEVENT
DTSTART;TZID=Europe/Madrid:20231001T190000
DTEND;TZID=Europe/Madrid:20231001T203000
DTSTAMP:20260421T220725
CREATED:20230929T063840Z
LAST-MODIFIED:20230929T074051Z
UID:10000304-1696186800-1696192200@infopalamos.cat
SUMMARY:Concert amb l'Orquestra de Cambra de Terrassa OTC48
DESCRIPTION:“CONTRAST” \n\n\n\nDirecció: Quim Térmens \n\n\n\nAquest concert posa de relleu els contrastos entre músiques de la mateixa època: des de la música barroca\, amb la rivalitat entre G. Händel i Ch. Avison\, fins a  la música del nacionalisme musical\, amb l’anglès E. Elgar i el català E. Toldrà\, passant per la música tradicional\, relacionada amb els balls de diferents indrets del nostre planeta. \n\n\n\nPreu: 10 € / socis de JMP 5 € / menors gratuït (www.lagorga.cat)
URL:https://infopalamos.cat/esdeveniment/concert-amb-lorquestra-de-cambra-de-terrassa-otc48/
LOCATION:Teatre La Gorga\, Carrer Notaries\, Palamós\, 17230\, Espanya
CATEGORIES:Cultura i Patrimoni,Espectacles i Oci
ATTACH;FMTTYPE=image/jpeg:https://infopalamos.cat/wp-content/uploads/2023/09/1-OTC-Terrassa-scaled.jpg
ORGANIZER;CN="Joventuts Musicals de Palam%C3%B3s":MAILTO:jmpalamos@gmail.com
GEO:41.8471438;3.1286356
X-APPLE-STRUCTURED-LOCATION;VALUE=URI;X-ADDRESS=Teatre La Gorga Carrer Notaries Palamós 17230 Espanya;X-APPLE-RADIUS=500;X-TITLE=Carrer Notaries:geo:3.1286356,41.8471438
END:VEVENT
BEGIN:VEVENT
DTSTART;TZID=Europe/Madrid:20231001T120000
DTEND;TZID=Europe/Madrid:20231001T130000
DTSTAMP:20260421T220725
CREATED:20230928T101914Z
LAST-MODIFIED:20230928T205653Z
UID:10000301-1696161600-1696165200@infopalamos.cat
SUMMARY:Cine Xic: Neu i Els arbres màgics
DESCRIPTION:
URL:https://infopalamos.cat/esdeveniment/cine-xic/
LOCATION:Teatre La Gorga\, Carrer Notaries\, Palamós\, 17230\, Espanya
CATEGORIES:Espectacles i Oci
ATTACH;FMTTYPE=image/png:https://infopalamos.cat/wp-content/uploads/2023/09/neuarbres-1.png
GEO:41.8471438;3.1286356
X-APPLE-STRUCTURED-LOCATION;VALUE=URI;X-ADDRESS=Teatre La Gorga Carrer Notaries Palamós 17230 Espanya;X-APPLE-RADIUS=500;X-TITLE=Carrer Notaries:geo:3.1286356,41.8471438
END:VEVENT
END:VCALENDAR